BEGIN:VCALENDAR
VERSION:2.0
PRODID:-//FOUSP - ECPv6.15.20//NONSGML v1.0//EN
CALSCALE:GREGORIAN
METHOD:PUBLISH
X-WR-CALNAME:FOUSP
X-ORIGINAL-URL:https://site.fo.usp.br
X-WR-CALDESC:Eventos para FOUSP
REFRESH-INTERVAL;VALUE=DURATION:PT1H
X-Robots-Tag:noindex
X-PUBLISHED-TTL:PT1H
BEGIN:VTIMEZONE
TZID:America/Sao_Paulo
BEGIN:STANDARD
TZOFFSETFROM:-0300
TZOFFSETTO:-0300
TZNAME:-03
DTSTART:20220101T000000
END:STANDARD
END:VTIMEZONE
BEGIN:VEVENT
DTSTART;TZID=America/Sao_Paulo:20230824T090000
DTEND;TZID=America/Sao_Paulo:20230824T120000
DTSTAMP:20260421T084536
CREATED:20221206T153013Z
LAST-MODIFIED:20221206T153139Z
UID:10000029-1692867600-1692878400@site.fo.usp.br
SUMMARY:Sessão da Congregação - Ago/2023
DESCRIPTION:Data limite para inclusão de matéria na pauta em 14 de agosto de 2023
URL:https://site.fo.usp.br/evento/sessao-da-congregacao-ago-2023/
LOCATION:Sala da Congregação\, Avenida Professor Lineu Prestes\, 2227\, São Paulo\, São Paulo\, 05508-000\, Brasil
CATEGORIES:Congregação
GEO:-23.566856830686;-46.738922482039
X-APPLE-STRUCTURED-LOCATION;VALUE=URI;X-ADDRESS=Sala da Congregação Avenida Professor Lineu Prestes 2227 São Paulo São Paulo 05508-000 Brasil;X-APPLE-RADIUS=500;X-TITLE=Avenida Professor Lineu Prestes\, 2227:geo:-46.738922482039,-23.566856830686
END:VEVENT
BEGIN:VEVENT
DTSTART;TZID=America/Sao_Paulo:20230824T140000
DTEND;TZID=America/Sao_Paulo:20230824T170000
DTSTAMP:20260421T084536
CREATED:20230628T172410Z
LAST-MODIFIED:20230628T175044Z
UID:10000202-1692885600-1692896400@site.fo.usp.br
SUMMARY:Simpósio Ética no Uso de Dados em Pesquisa
DESCRIPTION:Evento virtual
URL:https://site.fo.usp.br/evento/simposio-etica-no-uso-de-dados-em-pesquisa/
CATEGORIES:Simpósio
ATTACH;FMTTYPE=image/jpeg:https://site.fo.usp.br/wp-content/uploads/2023/06/feed-CEP-1.jpg
END:VEVENT
END:VCALENDAR