BEGIN:VCALENDAR
VERSION:2.0
PRODID:-//FOUSP - ECPv6.15.20//NONSGML v1.0//EN
CALSCALE:GREGORIAN
METHOD:PUBLISH
X-WR-CALNAME:FOUSP
X-ORIGINAL-URL:https://site.fo.usp.br
X-WR-CALDESC:Eventos para FOUSP
REFRESH-INTERVAL;VALUE=DURATION:PT1H
X-Robots-Tag:noindex
X-PUBLISHED-TTL:PT1H
BEGIN:VTIMEZONE
TZID:America/Sao_Paulo
BEGIN:STANDARD
TZOFFSETFROM:-0300
TZOFFSETTO:-0300
TZNAME:-03
DTSTART:20220101T000000
END:STANDARD
END:VTIMEZONE
BEGIN:VEVENT
DTSTART;TZID=America/Sao_Paulo:20230915T090000
DTEND;TZID=America/Sao_Paulo:20230915T120000
DTSTAMP:20260422T185453
CREATED:20230110T174142Z
LAST-MODIFIED:20230309T150352Z
UID:10000097-1694768400-1694779200@site.fo.usp.br
SUMMARY:Reunião CCEX
DESCRIPTION:
URL:https://site.fo.usp.br/evento/reuniao-ccex/2023-09-15/
LOCATION:Faculdade de Odontologia – USP\, Av. Prof. Lineu Prestes\, 2227\, São Paulo\, São Paulo\, 05508-000\, Brasil
CATEGORIES:Comissão de Cultura e Extensão Universitária
END:VEVENT
BEGIN:VEVENT
DTSTART;TZID=America/Sao_Paulo:20230915T090000
DTEND;TZID=America/Sao_Paulo:20230915T140000
DTSTAMP:20260422T185453
CREATED:20230904T153616Z
LAST-MODIFIED:20230904T153621Z
UID:10000223-1694768400-1694786400@site.fo.usp.br
SUMMARY:Defesa de Mestrado de Thaís dos Reis
DESCRIPTION:CPDigi – Miniauditório (Defesas e Qualificações)
URL:https://site.fo.usp.br/evento/defesa-de-mestrado-de-thais-dos-reis/
ATTACH;FMTTYPE=image/png:https://site.fo.usp.br/wp-content/uploads/2023/09/FEED-Agenda-Defesas-5.png
END:VEVENT
END:VCALENDAR