BEGIN:VCALENDAR
VERSION:2.0
PRODID:-//FOUSP - ECPv6.15.20//NONSGML v1.0//EN
CALSCALE:GREGORIAN
METHOD:PUBLISH
X-WR-CALNAME:FOUSP
X-ORIGINAL-URL:https://site.fo.usp.br
X-WR-CALDESC:Eventos para FOUSP
REFRESH-INTERVAL;VALUE=DURATION:PT1H
X-Robots-Tag:noindex
X-PUBLISHED-TTL:PT1H
BEGIN:VTIMEZONE
TZID:America/Sao_Paulo
BEGIN:STANDARD
TZOFFSETFROM:-0300
TZOFFSETTO:-0300
TZNAME:-03
DTSTART:20220101T000000
END:STANDARD
END:VTIMEZONE
BEGIN:VEVENT
DTSTART;TZID=America/Sao_Paulo:20231024T150000
DTEND;TZID=America/Sao_Paulo:20231024T190000
DTSTAMP:20260421T221856
CREATED:20231005T162127Z
LAST-MODIFIED:20231005T162132Z
UID:10000240-1698159600-1698174000@site.fo.usp.br
SUMMARY:Defesa de Mestrado de Fernanda Yoshiko Yanai
DESCRIPTION:CPDigi – Miniauditório (Defesas e Qualificações)
URL:https://site.fo.usp.br/evento/defesa-de-mestrado-de-fernanda-yoshiko-yanai-2/
CATEGORIES:Defesa de Tese
ATTACH;FMTTYPE=image/jpeg:https://site.fo.usp.br/wp-content/uploads/2023/10/fernanda-yanai.jpg
END:VEVENT
END:VCALENDAR