BEGIN:VCALENDAR
VERSION:2.0
PRODID:-//FOUSP - ECPv6.15.20//NONSGML v1.0//EN
CALSCALE:GREGORIAN
METHOD:PUBLISH
X-WR-CALNAME:FOUSP
X-ORIGINAL-URL:https://site.fo.usp.br
X-WR-CALDESC:Eventos para FOUSP
REFRESH-INTERVAL;VALUE=DURATION:PT1H
X-Robots-Tag:noindex
X-PUBLISHED-TTL:PT1H
BEGIN:VTIMEZONE
TZID:America/Sao_Paulo
BEGIN:STANDARD
TZOFFSETFROM:-0300
TZOFFSETTO:-0300
TZNAME:-03
DTSTART:20230101T000000
END:STANDARD
END:VTIMEZONE
BEGIN:VEVENT
DTSTART;TZID=America/Sao_Paulo:20240226T080000
DTEND;TZID=America/Sao_Paulo:20240301T180000
DTSTAMP:20260421T232856
CREATED:20240220T173723Z
LAST-MODIFIED:20240220T173742Z
UID:10000357-1708934400-1709316000@site.fo.usp.br
SUMMARY:Programação da Semana de Recepção dos Calouros 2024
DESCRIPTION:
URL:https://site.fo.usp.br/evento/programacao-da-semana-de-recepcao-dos-calouros-2024/
CATEGORIES:Encontro
ATTACH;FMTTYPE=image/jpeg:https://site.fo.usp.br/wp-content/uploads/2024/02/2024-Comunicados-FOUSP-7.jpg
END:VEVENT
BEGIN:VEVENT
DTSTART;TZID=America/Sao_Paulo:20240301T090000
DTEND;TZID=America/Sao_Paulo:20240301T140000
DTSTAMP:20260421T232856
CREATED:20240207T180217Z
LAST-MODIFIED:20240207T180241Z
UID:10000330-1709283600-1709301600@site.fo.usp.br
SUMMARY:Tese de Doutorado de Bruna Brondani
DESCRIPTION:
URL:https://site.fo.usp.br/evento/tese-de-doutorado-de-bruna-brondani/
CATEGORIES:Defesa de Tese
ATTACH;FMTTYPE=image/jpeg:https://site.fo.usp.br/wp-content/uploads/2024/02/16.jpg
END:VEVENT
BEGIN:VEVENT
DTSTART;TZID=America/Sao_Paulo:20240301T093000
DTEND;TZID=America/Sao_Paulo:20240301T143000
DTSTAMP:20260421T232856
CREATED:20240202T183256Z
LAST-MODIFIED:20240202T183305Z
UID:10000325-1709285400-1709303400@site.fo.usp.br
SUMMARY:Dissertação de Mestrado de Guilherme Stangler Weiss
DESCRIPTION:
URL:https://site.fo.usp.br/evento/dissertacao-de-mestrado-de-guilherme-stangler-weiss/
CATEGORIES:Defesa de Tese
ATTACH;FMTTYPE=image/jpeg:https://site.fo.usp.br/wp-content/uploads/2024/02/13.jpg
END:VEVENT
END:VCALENDAR