BEGIN:VCALENDAR
VERSION:2.0
PRODID:-//FOUSP - ECPv6.15.20//NONSGML v1.0//EN
CALSCALE:GREGORIAN
METHOD:PUBLISH
X-WR-CALNAME:FOUSP
X-ORIGINAL-URL:https://site.fo.usp.br
X-WR-CALDESC:Eventos para FOUSP
REFRESH-INTERVAL;VALUE=DURATION:PT1H
X-Robots-Tag:noindex
X-PUBLISHED-TTL:PT1H
BEGIN:VTIMEZONE
TZID:America/Sao_Paulo
BEGIN:STANDARD
TZOFFSETFROM:-0300
TZOFFSETTO:-0300
TZNAME:-03
DTSTART:20230101T000000
END:STANDARD
END:VTIMEZONE
BEGIN:VEVENT
DTSTART;TZID=America/Sao_Paulo:20240930T080000
DTEND;TZID=America/Sao_Paulo:20241004T170000
DTSTAMP:20260421T170537
CREATED:20240925T161200Z
LAST-MODIFIED:20240925T161219Z
UID:10000499-1727683200-1728061200@site.fo.usp.br
SUMMARY:Concurso para Professor Doutor do ODS\, área de conhecimento em Odontologia Forense
DESCRIPTION:
URL:https://site.fo.usp.br/evento/concurso-para-professor-doutor-do-ods-area-de-conhecimento-em-odontologia-forense/
ATTACH;FMTTYPE=image/jpeg:https://site.fo.usp.br/wp-content/uploads/2024/09/5-1.jpg
END:VEVENT
BEGIN:VEVENT
DTSTART;TZID=America/Sao_Paulo:20241004T083000
DTEND;TZID=America/Sao_Paulo:20241004T140000
DTSTAMP:20260421T170537
CREATED:20240820T153424Z
LAST-MODIFIED:20240820T153430Z
UID:10000472-1728030600-1728050400@site.fo.usp.br
SUMMARY:Tese de Doutorado de Victor Hugo Torso
DESCRIPTION:
URL:https://site.fo.usp.br/evento/tese-de-doutorado-de-victor-hugo-torso/
CATEGORIES:Defesa de Tese
ATTACH;FMTTYPE=image/png:https://site.fo.usp.br/wp-content/uploads/2024/08/Tese-FEED-15.png
END:VEVENT
END:VCALENDAR