BEGIN:VCALENDAR
VERSION:2.0
PRODID:-//FOUSP - ECPv6.15.20//NONSGML v1.0//EN
CALSCALE:GREGORIAN
METHOD:PUBLISH
X-WR-CALNAME:FOUSP
X-ORIGINAL-URL:https://site.fo.usp.br
X-WR-CALDESC:Eventos para FOUSP
REFRESH-INTERVAL;VALUE=DURATION:PT1H
X-Robots-Tag:noindex
X-PUBLISHED-TTL:PT1H
BEGIN:VTIMEZONE
TZID:America/Sao_Paulo
BEGIN:STANDARD
TZOFFSETFROM:-0300
TZOFFSETTO:-0300
TZNAME:-03
DTSTART:20230101T000000
END:STANDARD
END:VTIMEZONE
BEGIN:VEVENT
DTSTART;TZID=America/Sao_Paulo:20241118T083000
DTEND;TZID=America/Sao_Paulo:20241118T133000
DTSTAMP:20260422T064133
CREATED:20241108T135722Z
LAST-MODIFIED:20241108T135735Z
UID:10000525-1731918600-1731936600@site.fo.usp.br
SUMMARY:Tese de Doutorado de Mariana Beraldo Maia
DESCRIPTION:
URL:https://site.fo.usp.br/evento/tese-de-doutorado-de-mariana-beraldo-maia-2/
CATEGORIES:Defesa de Tese
ATTACH;FMTTYPE=image/png:https://site.fo.usp.br/wp-content/uploads/2024/11/Tese-FEED-25.png
END:VEVENT
END:VCALENDAR