BEGIN:VCALENDAR
VERSION:2.0
PRODID:-//FOUSP - ECPv6.15.20//NONSGML v1.0//EN
CALSCALE:GREGORIAN
METHOD:PUBLISH
X-WR-CALNAME:FOUSP
X-ORIGINAL-URL:https://site.fo.usp.br
X-WR-CALDESC:Eventos para FOUSP
REFRESH-INTERVAL;VALUE=DURATION:PT1H
X-Robots-Tag:noindex
X-PUBLISHED-TTL:PT1H
BEGIN:VTIMEZONE
TZID:America/Sao_Paulo
BEGIN:STANDARD
TZOFFSETFROM:-0300
TZOFFSETTO:-0300
TZNAME:-03
DTSTART:20230101T000000
END:STANDARD
END:VTIMEZONE
BEGIN:VEVENT
DTSTART;TZID=America/Sao_Paulo:20241121T080000
DTEND;TZID=America/Sao_Paulo:20241122T180000
DTSTAMP:20260421T184223
CREATED:20240809T160444Z
LAST-MODIFIED:20240816T101920Z
UID:10000459-1732176000-1732298400@site.fo.usp.br
SUMMARY:Implementação da pesquisa clínica: da estrutura ao treinamento prático
DESCRIPTION:
URL:https://site.fo.usp.br/evento/implementacao-da-pesquisa-clinica-da-estrutura-ao-treinamento-pratico/
CATEGORIES:Ciclo de Palestras
ATTACH;FMTTYPE=image/jpeg:https://site.fo.usp.br/wp-content/uploads/2024/08/Imagem-do-WhatsApp-de-2024-08-15-as-14.41.40_014a044a-1.jpg
END:VEVENT
BEGIN:VEVENT
DTSTART;TZID=America/Sao_Paulo:20241121T090000
DTEND;TZID=America/Sao_Paulo:20241124T120000
DTSTAMP:20260421T184223
CREATED:20231113T130314Z
LAST-MODIFIED:20231113T130321Z
UID:10000266-1732179600-1732449600@site.fo.usp.br
SUMMARY:Reunião do CTA
DESCRIPTION:
URL:https://site.fo.usp.br/evento/reuniao-do-cta-6/2024-11-21/
CATEGORIES:Conselho Técnico Administrativo
END:VEVENT
BEGIN:VEVENT
DTSTART;TZID=America/Sao_Paulo:20241122T080000
DTEND;TZID=America/Sao_Paulo:20241122T170000
DTSTAMP:20260421T184223
CREATED:20240813T173515Z
LAST-MODIFIED:20240821T143017Z
UID:10000462-1732262400-1732294800@site.fo.usp.br
SUMMARY:XXIV JoCAPE
DESCRIPTION:
URL:https://site.fo.usp.br/evento/xxiv-jocape/
ATTACH;FMTTYPE=image/png:https://site.fo.usp.br/wp-content/uploads/2024/08/Copia-de-Divulgacao-Eventos-Feed-2024-5.png
END:VEVENT
BEGIN:VEVENT
DTSTART;TZID=America/Sao_Paulo:20241122T090000
DTEND;TZID=America/Sao_Paulo:20241122T140000
DTSTAMP:20260421T184223
CREATED:20240926T141604Z
LAST-MODIFIED:20240926T141611Z
UID:10000502-1732266000-1732284000@site.fo.usp.br
SUMMARY:Tese de Doutorado de Wladimir Gushiken de Campos
DESCRIPTION:
URL:https://site.fo.usp.br/evento/tese-de-doutorado-de-wladimir-gushiken-de-campos/
CATEGORIES:Defesa de Tese
ATTACH;FMTTYPE=image/jpeg:https://site.fo.usp.br/wp-content/uploads/2024/09/8-2.jpg
END:VEVENT
BEGIN:VEVENT
DTSTART;TZID=America/Sao_Paulo:20241122T100000
DTEND;TZID=America/Sao_Paulo:20241122T150000
DTSTAMP:20260421T184223
CREATED:20241111T130714Z
LAST-MODIFIED:20241111T130721Z
UID:10000527-1732269600-1732287600@site.fo.usp.br
SUMMARY:Tese de Doutorado de Yasmin Teixeira das Graças
DESCRIPTION:
URL:https://site.fo.usp.br/evento/tese-de-doutorado-de-yasmin-teixeira-das-gracas/
CATEGORIES:Defesa de Tese
ATTACH;FMTTYPE=image/png:https://site.fo.usp.br/wp-content/uploads/2024/11/Tese-FEED-37.png
END:VEVENT
END:VCALENDAR