BEGIN:VCALENDAR
VERSION:2.0
PRODID:-//FOUSP - ECPv6.15.20//NONSGML v1.0//EN
CALSCALE:GREGORIAN
METHOD:PUBLISH
X-WR-CALNAME:FOUSP
X-ORIGINAL-URL:https://site.fo.usp.br
X-WR-CALDESC:Eventos para FOUSP
REFRESH-INTERVAL;VALUE=DURATION:PT1H
X-Robots-Tag:noindex
X-PUBLISHED-TTL:PT1H
BEGIN:VTIMEZONE
TZID:America/Sao_Paulo
BEGIN:STANDARD
TZOFFSETFROM:-0300
TZOFFSETTO:-0300
TZNAME:-03
DTSTART:20230101T000000
END:STANDARD
END:VTIMEZONE
BEGIN:VEVENT
DTSTART;TZID=America/Sao_Paulo:20241125T080000
DTEND;TZID=America/Sao_Paulo:20241129T170000
DTSTAMP:20260422T124503
CREATED:20240925T161149Z
LAST-MODIFIED:20240925T161207Z
UID:10000498-1732521600-1732899600@site.fo.usp.br
SUMMARY:Concurso para Professor Doutor do ODD\, área de conhecimento em Dentística
DESCRIPTION:
URL:https://site.fo.usp.br/evento/concurso-para-professor-doutor-do-odd-area-de-conhecimento-em-dentistica/
ATTACH;FMTTYPE=image/jpeg:https://site.fo.usp.br/wp-content/uploads/2024/09/7-1.jpg
END:VEVENT
END:VCALENDAR