BEGIN:VCALENDAR
VERSION:2.0
PRODID:-//FOUSP - ECPv6.15.20//NONSGML v1.0//EN
CALSCALE:GREGORIAN
METHOD:PUBLISH
X-WR-CALNAME:FOUSP
X-ORIGINAL-URL:https://site.fo.usp.br
X-WR-CALDESC:Eventos para FOUSP
REFRESH-INTERVAL;VALUE=DURATION:PT1H
X-Robots-Tag:noindex
X-PUBLISHED-TTL:PT1H
BEGIN:VTIMEZONE
TZID:America/Sao_Paulo
BEGIN:STANDARD
TZOFFSETFROM:-0300
TZOFFSETTO:-0300
TZNAME:-03
DTSTART:20230101T000000
END:STANDARD
END:VTIMEZONE
BEGIN:VEVENT
DTSTART;TZID=America/Sao_Paulo:20241209T080000
DTEND;TZID=America/Sao_Paulo:20241213T170000
DTSTAMP:20260422T041009
CREATED:20241206T171203Z
LAST-MODIFIED:20241206T171207Z
UID:10000557-1733731200-1734109200@site.fo.usp.br
SUMMARY:Concurso para Professor Doutor – ODP Prótese\, área de conhecimento em Prótese Fixa
DESCRIPTION:
URL:https://site.fo.usp.br/evento/concurso-para-professor-doutor-odp-protese-area-de-conhecimento-em-protese-fixa/
CATEGORIES:Concurso
ATTACH;FMTTYPE=image/jpeg:https://site.fo.usp.br/wp-content/uploads/2024/12/41.jpg
END:VEVENT
BEGIN:VEVENT
DTSTART;TZID=America/Sao_Paulo:20241210T090000
DTEND;TZID=America/Sao_Paulo:20241210T140000
DTSTAMP:20260422T041009
CREATED:20241127T135643Z
LAST-MODIFIED:20241127T135649Z
UID:10000542-1733821200-1733839200@site.fo.usp.br
SUMMARY:Dissertação de Mestrado de Marina Kfouri
DESCRIPTION:
URL:https://site.fo.usp.br/evento/dissertacao-de-mestrado-de-marina-kfouri/
CATEGORIES:Defesa de Tese
ATTACH;FMTTYPE=image/jpeg:https://site.fo.usp.br/wp-content/uploads/2024/11/7.jpg
END:VEVENT
BEGIN:VEVENT
DTSTART;TZID=America/Sao_Paulo:20241210T100000
DTEND;TZID=America/Sao_Paulo:20241210T120000
DTSTAMP:20260422T041009
CREATED:20241121T183148Z
LAST-MODIFIED:20241121T183155Z
UID:10000532-1733824800-1733832000@site.fo.usp.br
SUMMARY:Palestra: “How can research institutes empower researchers to foster research integrity?”
DESCRIPTION:
URL:https://site.fo.usp.br/evento/palestra-how-can-research-institutes-empower-researchers-to-foster-research-integrity/
CATEGORIES:Palestra
ATTACH;FMTTYPE=image/png:https://site.fo.usp.br/wp-content/uploads/2024/11/feed-1.png
END:VEVENT
END:VCALENDAR