BEGIN:VCALENDAR
VERSION:2.0
PRODID:-//FOUSP - ECPv6.15.20//NONSGML v1.0//EN
CALSCALE:GREGORIAN
METHOD:PUBLISH
X-WR-CALNAME:FOUSP
X-ORIGINAL-URL:https://site.fo.usp.br
X-WR-CALDESC:Eventos para FOUSP
REFRESH-INTERVAL;VALUE=DURATION:PT1H
X-Robots-Tag:noindex
X-PUBLISHED-TTL:PT1H
BEGIN:VTIMEZONE
TZID:America/Sao_Paulo
BEGIN:STANDARD
TZOFFSETFROM:-0300
TZOFFSETTO:-0300
TZNAME:-03
DTSTART:20230101T000000
END:STANDARD
END:VTIMEZONE
BEGIN:VEVENT
DTSTART;TZID=America/Sao_Paulo:20241216T080000
DTEND;TZID=America/Sao_Paulo:20241220T170000
DTSTAMP:20260422T072650
CREATED:20241206T171244Z
LAST-MODIFIED:20241206T171250Z
UID:10000558-1734336000-1734714000@site.fo.usp.br
SUMMARY:Concurso para Professor Doutor – ODP Prótese\, área de conhecimento em Prótese Total
DESCRIPTION:
URL:https://site.fo.usp.br/evento/concurso-para-professor-doutor-odp-protese-area-de-conhecimento-em-protese-total/
CATEGORIES:Concurso
ATTACH;FMTTYPE=image/jpeg:https://site.fo.usp.br/wp-content/uploads/2024/12/42.jpg
END:VEVENT
END:VCALENDAR