BEGIN:VCALENDAR
VERSION:2.0
PRODID:-//FOUSP - ECPv6.15.20//NONSGML v1.0//EN
CALSCALE:GREGORIAN
METHOD:PUBLISH
X-WR-CALNAME:FOUSP
X-ORIGINAL-URL:https://site.fo.usp.br
X-WR-CALDESC:Eventos para FOUSP
REFRESH-INTERVAL;VALUE=DURATION:PT1H
X-Robots-Tag:noindex
X-PUBLISHED-TTL:PT1H
BEGIN:VTIMEZONE
TZID:America/Sao_Paulo
BEGIN:STANDARD
TZOFFSETFROM:-0300
TZOFFSETTO:-0300
TZNAME:-03
DTSTART:20240101T000000
END:STANDARD
END:VTIMEZONE
BEGIN:VEVENT
DTSTART;TZID=America/Sao_Paulo:20250404T090000
DTEND;TZID=America/Sao_Paulo:20250404T140000
DTSTAMP:20260422T110845
CREATED:20250317T215935Z
LAST-MODIFIED:20250317T215940Z
UID:10000626-1743757200-1743775200@site.fo.usp.br
SUMMARY:Dissertação de Mestrado de Maria Eduarda Peres
DESCRIPTION:
URL:https://site.fo.usp.br/evento/dissertacao-de-mestrado-de-maria-eduarda-peres/
CATEGORIES:Defesa de Tese
ATTACH;FMTTYPE=image/png:https://site.fo.usp.br/wp-content/uploads/2025/03/2025-Teses-Feed-24.png
END:VEVENT
BEGIN:VEVENT
DTSTART;TZID=America/Sao_Paulo:20250404T140000
DTEND;TZID=America/Sao_Paulo:20250404T190000
DTSTAMP:20260422T110845
CREATED:20250218T160241Z
LAST-MODIFIED:20250218T160248Z
UID:10000613-1743775200-1743793200@site.fo.usp.br
SUMMARY:Dissertação de Mestrado de Letícia Marinho Silva Rocha
DESCRIPTION:
URL:https://site.fo.usp.br/evento/dissertacao-de-mestrado-de-leticia-marinho-silva-rocha/
CATEGORIES:Defesa de Tese
ATTACH;FMTTYPE=image/png:https://site.fo.usp.br/wp-content/uploads/2025/02/2025-Teses-Feed-19.png
END:VEVENT
END:VCALENDAR