BEGIN:VCALENDAR
VERSION:2.0
PRODID:-//FOUSP - ECPv6.15.20//NONSGML v1.0//EN
CALSCALE:GREGORIAN
METHOD:PUBLISH
X-WR-CALNAME:FOUSP
X-ORIGINAL-URL:https://site.fo.usp.br
X-WR-CALDESC:Eventos para FOUSP
REFRESH-INTERVAL;VALUE=DURATION:PT1H
X-Robots-Tag:noindex
X-PUBLISHED-TTL:PT1H
BEGIN:VTIMEZONE
TZID:America/Sao_Paulo
BEGIN:STANDARD
TZOFFSETFROM:-0300
TZOFFSETTO:-0300
TZNAME:-03
DTSTART:20240101T000000
END:STANDARD
END:VTIMEZONE
BEGIN:VEVENT
DTSTART;TZID=America/Sao_Paulo:20250519T080000
DTEND;TZID=America/Sao_Paulo:20250522T170000
DTSTAMP:20260421T123438
CREATED:20241031T160356Z
LAST-MODIFIED:20250226T161000Z
UID:10000524-1747641600-1747933200@site.fo.usp.br
SUMMARY:XXVII Reunião de Pesquisa
DESCRIPTION:
URL:https://site.fo.usp.br/evento/xxvii-reuniao-de-pesquisa/
CATEGORIES:Reunião
ATTACH;FMTTYPE=image/jpeg:https://site.fo.usp.br/wp-content/uploads/2024/10/13-1.jpg
END:VEVENT
BEGIN:VEVENT
DTSTART;TZID=America/Sao_Paulo:20250522T123000
DTEND;TZID=America/Sao_Paulo:20250522T140000
DTSTAMP:20260421T123438
CREATED:20250521T185156Z
LAST-MODIFIED:20250521T185217Z
UID:10000667-1747917000-1747922400@site.fo.usp.br
SUMMARY:Apresentação do LAMUC (Laboratório de Música de Câmara - USP)
DESCRIPTION:
URL:https://site.fo.usp.br/evento/apresentacao-do-lamuc-laboratorio-de-musica-de-camara-usp/
CATEGORIES:Encontro
ATTACH;FMTTYPE=image/png:https://site.fo.usp.br/wp-content/uploads/2025/05/2025-Eventos-Feed-2.png
END:VEVENT
END:VCALENDAR