BEGIN:VCALENDAR
VERSION:2.0
PRODID:-//FOUSP - ECPv6.15.20//NONSGML v1.0//EN
CALSCALE:GREGORIAN
METHOD:PUBLISH
X-WR-CALNAME:FOUSP
X-ORIGINAL-URL:https://site.fo.usp.br
X-WR-CALDESC:Eventos para FOUSP
REFRESH-INTERVAL;VALUE=DURATION:PT1H
X-Robots-Tag:noindex
X-PUBLISHED-TTL:PT1H
BEGIN:VTIMEZONE
TZID:America/Sao_Paulo
BEGIN:STANDARD
TZOFFSETFROM:-0300
TZOFFSETTO:-0300
TZNAME:-03
DTSTART:20240101T000000
END:STANDARD
END:VTIMEZONE
BEGIN:VEVENT
DTSTART;TZID=America/Sao_Paulo:20250530T080000
DTEND;TZID=America/Sao_Paulo:20250530T170000
DTSTAMP:20260421T191057
CREATED:20250311T164020Z
LAST-MODIFIED:20250515T130040Z
UID:10000618-1748592000-1748624400@site.fo.usp.br
SUMMARY:50+3 anos - Encontro de Periodontia
DESCRIPTION:Inscrição: https://docs.google.com/forms/d/1aGpCuUHl61IdzO44o6mQ_vjfJhk91d9PzLNgrIWPh5M/viewform?ts=67ed7bef&edit_requested=true
URL:https://site.fo.usp.br/evento/503-anos-encontro-de-periodontia/
CATEGORIES:Encontro
ATTACH;FMTTYPE=image/jpeg:https://site.fo.usp.br/wp-content/uploads/2025/04/1-1.jpg
END:VEVENT
BEGIN:VEVENT
DTSTART;TZID=America/Sao_Paulo:20250530T090000
DTEND;TZID=America/Sao_Paulo:20250530T113000
DTSTAMP:20260421T191057
CREATED:20250514T161939Z
LAST-MODIFIED:20250514T161950Z
UID:10000664-1748595600-1748604600@site.fo.usp.br
SUMMARY:Challenging Natural with Artificial: A Vision for the Future
DESCRIPTION:Neste evento\, a Profa. Dra. Mutlu Özcan\, diretora do Centro de Medicina Dentária da Universidade de Zurique (Suiça)\, abordará os avanços mais recentes em biomateriais\, promovendo uma discussão aprofundada e atualizada no contexto da Pós-Graduação\, além de explorar oportunidades para o desenvolvimento de possíveis projetos de colaboração acadêmica. \n\n\n\nO evento será exclusivamente no formato presencial\, em Inglês e contará com emissão de certificado. Link: https://forms.gle/8eNswb4heBS8pLQv7
URL:https://site.fo.usp.br/evento/challenging-natural-with-artificial-a-vision-for-the-future/
CATEGORIES:Palestra
ATTACH;FMTTYPE=image/jpeg:https://site.fo.usp.br/wp-content/uploads/2025/05/Feed.jpg
END:VEVENT
END:VCALENDAR