BEGIN:VCALENDAR
VERSION:2.0
PRODID:-//FOUSP - ECPv6.15.20//NONSGML v1.0//EN
CALSCALE:GREGORIAN
METHOD:PUBLISH
X-WR-CALNAME:FOUSP
X-ORIGINAL-URL:https://site.fo.usp.br
X-WR-CALDESC:Eventos para FOUSP
REFRESH-INTERVAL;VALUE=DURATION:PT1H
X-Robots-Tag:noindex
X-PUBLISHED-TTL:PT1H
BEGIN:VTIMEZONE
TZID:America/Sao_Paulo
BEGIN:STANDARD
TZOFFSETFROM:-0300
TZOFFSETTO:-0300
TZNAME:-03
DTSTART:20250101T000000
END:STANDARD
END:VTIMEZONE
BEGIN:VEVENT
DTSTART;TZID=America/Sao_Paulo:20260414T090000
DTEND;TZID=America/Sao_Paulo:20260414T140000
DTSTAMP:20260422T184602
CREATED:20260213T145019Z
LAST-MODIFIED:20260213T164920Z
UID:10000795-1776157200-1776175200@site.fo.usp.br
SUMMARY:Tese de Doutorado de Núbia Rafaelle Oliveira de Meneses
DESCRIPTION:
URL:https://site.fo.usp.br/evento/tese-de-doutorado-de-nubia-rafaelle-oliveira-de-meneses/
CATEGORIES:Defesa de Tese
ATTACH;FMTTYPE=image/png:https://site.fo.usp.br/wp-content/uploads/2026/02/Defesa-de-Teses-2026.png
END:VEVENT
BEGIN:VEVENT
DTSTART;TZID=America/Sao_Paulo:20260414T140000
DTEND;TZID=America/Sao_Paulo:20260414T170000
DTSTAMP:20260422T184602
CREATED:20260327T101446Z
LAST-MODIFIED:20260327T140553Z
UID:10000851-1776175200-1776186000@site.fo.usp.br
SUMMARY:Palestra “Novas Perspectivas Diagnósticas em Odontologia: ddMRI”
DESCRIPTION:
URL:https://site.fo.usp.br/evento/palestra-novas-perspectivas-diagnosticas-em-odontologia-ddmri/
CATEGORIES:Palestra
ATTACH;FMTTYPE=image/jpeg:https://site.fo.usp.br/wp-content/uploads/2026/03/id-1.jpg
END:VEVENT
END:VCALENDAR