BEGIN:VCALENDAR
VERSION:2.0
PRODID:-//FOUSP - ECPv6.15.20//NONSGML v1.0//EN
CALSCALE:GREGORIAN
METHOD:PUBLISH
X-WR-CALNAME:FOUSP
X-ORIGINAL-URL:https://site.fo.usp.br
X-WR-CALDESC:Eventos para FOUSP
REFRESH-INTERVAL;VALUE=DURATION:PT1H
X-Robots-Tag:noindex
X-PUBLISHED-TTL:PT1H
BEGIN:VTIMEZONE
TZID:America/Sao_Paulo
BEGIN:STANDARD
TZOFFSETFROM:-0300
TZOFFSETTO:-0300
TZNAME:-03
DTSTART:20250101T000000
END:STANDARD
END:VTIMEZONE
BEGIN:VEVENT
DTSTART;TZID=America/Sao_Paulo:20260422T114500
DTEND;TZID=America/Sao_Paulo:20260422T130000
DTSTAMP:20260421T173426
CREATED:20260410T160621Z
LAST-MODIFIED:20260410T160623Z
UID:10000853-1776858300-1776862800@site.fo.usp.br
SUMMARY:2ª Sessão de cinema “Que horas ela volta?”
DESCRIPTION:
URL:https://site.fo.usp.br/evento/2a-sessao-de-cinema-que-horas-ela-volta/
ATTACH;FMTTYPE=image/jpeg:https://site.fo.usp.br/wp-content/uploads/2026/04/FORMATO-FEED-1.jpg
END:VEVENT
BEGIN:VEVENT
DTSTART;TZID=America/Sao_Paulo:20260422T140000
DTEND;TZID=America/Sao_Paulo:20260422T180000
DTSTAMP:20260421T173426
CREATED:20260317T180618Z
LAST-MODIFIED:20260325T133512Z
UID:10000822-1776866400-1776880800@site.fo.usp.br
SUMMARY:Dissertação de Mestrado de Rafael Victor Albuquerque de Abreu
DESCRIPTION:
URL:https://site.fo.usp.br/evento/dissertacao-de-mestrado-de-rafael-victor-albuquerque-de-abreu/
CATEGORIES:Defesa de Tese
ATTACH;FMTTYPE=image/jpeg:https://site.fo.usp.br/wp-content/uploads/2026/03/2.jpg
END:VEVENT
END:VCALENDAR