BEGIN:VCALENDAR
VERSION:2.0
PRODID:-//FOUSP - ECPv6.15.20//NONSGML v1.0//EN
CALSCALE:GREGORIAN
METHOD:PUBLISH
X-WR-CALNAME:FOUSP
X-ORIGINAL-URL:https://site.fo.usp.br
X-WR-CALDESC:Eventos para FOUSP
REFRESH-INTERVAL;VALUE=DURATION:PT1H
X-Robots-Tag:noindex
X-PUBLISHED-TTL:PT1H
BEGIN:VTIMEZONE
TZID:America/Sao_Paulo
BEGIN:STANDARD
TZOFFSETFROM:-0300
TZOFFSETTO:-0300
TZNAME:-03
DTSTART:20250101T000000
END:STANDARD
END:VTIMEZONE
BEGIN:VEVENT
DTSTART;TZID=America/Sao_Paulo:20260602T090000
DTEND;TZID=America/Sao_Paulo:20260602T120000
DTSTAMP:20260422T075851
CREATED:20251203T182133Z
LAST-MODIFIED:20251203T184124Z
UID:10000748-1780390800-1780401600@site.fo.usp.br
SUMMARY:Reunião do Comitê de Ética em Pesquisa
DESCRIPTION:
URL:https://site.fo.usp.br/evento/sessao-da-congregacao-6/
CATEGORIES:Comitê de Ética em Pesquisa
END:VEVENT
BEGIN:VEVENT
DTSTART;TZID=America/Sao_Paulo:20260602T140000
DTEND;TZID=America/Sao_Paulo:20260602T180000
DTSTAMP:20260422T075851
CREATED:20260319T140109Z
LAST-MODIFIED:20260319T140112Z
UID:10000835-1780408800-1780423200@site.fo.usp.br
SUMMARY:Dissertação de Mestrado de Thaís Emilia da Silva
DESCRIPTION:
URL:https://site.fo.usp.br/evento/dissertacao-de-mestrado-de-thais-emilia-da-silva/
CATEGORIES:Defesa de Tese
ATTACH;FMTTYPE=image/png:https://site.fo.usp.br/wp-content/uploads/2026/03/2-6.png
END:VEVENT
END:VCALENDAR