BEGIN:VCALENDAR
VERSION:2.0
PRODID:-//FOUSP - ECPv6.15.20//NONSGML v1.0//EN
CALSCALE:GREGORIAN
METHOD:PUBLISH
X-WR-CALNAME:FOUSP
X-ORIGINAL-URL:https://site.fo.usp.br
X-WR-CALDESC:Eventos para FOUSP
REFRESH-INTERVAL;VALUE=DURATION:PT1H
X-Robots-Tag:noindex
X-PUBLISHED-TTL:PT1H
BEGIN:VTIMEZONE
TZID:America/Sao_Paulo
BEGIN:STANDARD
TZOFFSETFROM:-0300
TZOFFSETTO:-0300
TZNAME:-03
DTSTART:20250101T000000
END:STANDARD
END:VTIMEZONE
BEGIN:VEVENT
DTSTART;TZID=America/Sao_Paulo:20260826T090000
DTEND;TZID=America/Sao_Paulo:20260826T090000
DTSTAMP:20260421T194718
CREATED:20251209T021602Z
LAST-MODIFIED:20251209T021605Z
UID:10000767-1787734800-1787734800@site.fo.usp.br
SUMMARY:Reunião do Conselho Técnico Administrativo – CTA
DESCRIPTION:
URL:https://site.fo.usp.br/evento/reuniao-do-conselho-tecnico-administrativo-cta-10/
CATEGORIES:Conselho Técnico Administrativo
END:VEVENT
END:VCALENDAR