BEGIN:VCALENDAR
VERSION:2.0
PRODID:-//FOUSP - ECPv6.15.20//NONSGML v1.0//EN
CALSCALE:GREGORIAN
METHOD:PUBLISH
X-WR-CALNAME:FOUSP
X-ORIGINAL-URL:https://site.fo.usp.br
X-WR-CALDESC:Eventos para FOUSP
REFRESH-INTERVAL;VALUE=DURATION:PT1H
X-Robots-Tag:noindex
X-PUBLISHED-TTL:PT1H
BEGIN:VTIMEZONE
TZID:America/Sao_Paulo
BEGIN:STANDARD
TZOFFSETFROM:-0300
TZOFFSETTO:-0300
TZNAME:-03
DTSTART:20220101T000000
END:STANDARD
END:VTIMEZONE
BEGIN:VEVENT
DTSTART;TZID=America/Sao_Paulo:20230201T110000
DTEND;TZID=America/Sao_Paulo:20230201T130000
DTSTAMP:20260423T181419
CREATED:20221214T165125Z
LAST-MODIFIED:20221214T165128Z
UID:10000035-1675249200-1675256400@site.fo.usp.br
SUMMARY:Reunião do Programa de Ciências Odontológicas
DESCRIPTION:Sala de Reuniões
URL:https://site.fo.usp.br/evento/reuniao-do-programa-de-ciencias-odontologicas/
LOCATION:Faculdade de Odontologia – USP\, Av. Prof. Lineu Prestes\, 2227\, São Paulo\, São Paulo\, 05508-000\, Brasil
CATEGORIES:Reunião
END:VEVENT
BEGIN:VEVENT
DTSTART;TZID=America/Sao_Paulo:20230202T090000
DTEND;TZID=America/Sao_Paulo:20230202T130000
DTSTAMP:20260423T181419
CREATED:20221216T140749Z
LAST-MODIFIED:20221216T140751Z
UID:10000080-1675328400-1675342800@site.fo.usp.br
SUMMARY:Defesa de Mestrado de Karina Félix dos Santos
DESCRIPTION:Anfiteatro Myaki Issáo
URL:https://site.fo.usp.br/evento/defesa-de-mestrado-de-karina-felix-dos-santos/
LOCATION:Faculdade de Odontologia – USP\, Av. Prof. Lineu Prestes\, 2227\, São Paulo\, São Paulo\, 05508-000\, Brasil
CATEGORIES:Defesa de Tese
ATTACH;FMTTYPE=image/jpeg:https://site.fo.usp.br/wp-content/uploads/2022/12/5.jpg
END:VEVENT
BEGIN:VEVENT
DTSTART;TZID=America/Sao_Paulo:20230206T090000
DTEND;TZID=America/Sao_Paulo:20230206T130000
DTSTAMP:20260423T181419
CREATED:20221213T200538Z
LAST-MODIFIED:20221214T164429Z
UID:10000034-1675674000-1675688400@site.fo.usp.br
SUMMARY:Defesa de Mestrado Marcela Cristina da Luz Pontes
DESCRIPTION:Anfiteatro Myaki Issáo
URL:https://site.fo.usp.br/evento/defesa-de-mestrado-marcela-cristina-da-luz-pontes/
LOCATION:Faculdade de Odontologia – USP\, Av. Prof. Lineu Prestes\, 2227\, São Paulo\, São Paulo\, 05508-000\, Brasil
ATTACH;FMTTYPE=image/webp:https://site.fo.usp.br/wp-content/uploads/2022/12/marcela.webp
END:VEVENT
BEGIN:VEVENT
DTSTART;TZID=America/Sao_Paulo:20230207T090000
DTEND;TZID=America/Sao_Paulo:20230207T120000
DTSTAMP:20260423T181419
CREATED:20221214T194156Z
LAST-MODIFIED:20221214T194158Z
UID:10000047-1675760400-1675771200@site.fo.usp.br
SUMMARY:Defesa de Mestrado de Talita Portela Pereira
DESCRIPTION:Anfiteatro Myaki Issáo
URL:https://site.fo.usp.br/evento/defesa-de-mestrado-de-talita-portela-pereira/
LOCATION:Faculdade de Odontologia – USP\, Av. Prof. Lineu Prestes\, 2227\, São Paulo\, São Paulo\, 05508-000\, Brasil
CATEGORIES:Defesa de Tese
ATTACH;FMTTYPE=image/jpeg:https://site.fo.usp.br/wp-content/uploads/2022/12/FEED-Agenda-Defesas-Setembro.jpg
END:VEVENT
BEGIN:VEVENT
DTSTART;TZID=America/Sao_Paulo:20230207T140000
DTEND;TZID=America/Sao_Paulo:20230207T180000
DTSTAMP:20260423T181419
CREATED:20221216T140554Z
LAST-MODIFIED:20221216T140556Z
UID:10000077-1675778400-1675792800@site.fo.usp.br
SUMMARY:Defesa de Mestrado de Leticia Vilela Santos
DESCRIPTION:Anfiteatro Myaki Issáo
URL:https://site.fo.usp.br/evento/defesa-de-mestrado-de-leticia-vilela-santos/
LOCATION:Faculdade de Odontologia – USP\, Av. Prof. Lineu Prestes\, 2227\, São Paulo\, São Paulo\, 05508-000\, Brasil
CATEGORIES:Defesa de Tese
ATTACH;FMTTYPE=image/jpeg:https://site.fo.usp.br/wp-content/uploads/2022/12/2.jpg
END:VEVENT
BEGIN:VEVENT
DTSTART;TZID=America/Sao_Paulo:20230208T090000
DTEND;TZID=America/Sao_Paulo:20230208T130000
DTSTAMP:20260423T181419
CREATED:20221216T140901Z
LAST-MODIFIED:20221216T140903Z
UID:10000082-1675846800-1675861200@site.fo.usp.br
SUMMARY:Defesa de Mestrado de Fernanda Furuse Ventura dos Santos
DESCRIPTION:Anfiteatro Myaki Issáo
URL:https://site.fo.usp.br/evento/defesa-de-mestrado-de-fernanda-furuse-ventura-dos-santos/
LOCATION:Faculdade de Odontologia – USP\, Av. Prof. Lineu Prestes\, 2227\, São Paulo\, São Paulo\, 05508-000\, Brasil
CATEGORIES:Defesa de Tese
ATTACH;FMTTYPE=image/jpeg:https://site.fo.usp.br/wp-content/uploads/2022/12/7.jpg
END:VEVENT
BEGIN:VEVENT
DTSTART;TZID=America/Sao_Paulo:20230208T110000
DTEND;TZID=America/Sao_Paulo:20230208T130000
DTSTAMP:20260423T181419
CREATED:20221214T194838Z
LAST-MODIFIED:20221214T194845Z
UID:10000048-1675854000-1675861200@site.fo.usp.br
SUMMARY:Reunião Secretários Ciências
DESCRIPTION:Sala de Reuniões
URL:https://site.fo.usp.br/evento/reuniao-secretarios-ciencias/
LOCATION:Faculdade de Odontologia – USP\, Av. Prof. Lineu Prestes\, 2227\, São Paulo\, São Paulo\, 05508-000\, Brasil
CATEGORIES:Reunião
END:VEVENT
BEGIN:VEVENT
DTSTART;TZID=America/Sao_Paulo:20230208T133000
DTEND;TZID=America/Sao_Paulo:20230208T153000
DTSTAMP:20260423T181419
CREATED:20221214T201249Z
LAST-MODIFIED:20230111T135322Z
UID:10000057-1675863000-1675870200@site.fo.usp.br
SUMMARY:Reunião da Comissão de Pós-Graduação
DESCRIPTION:Sala de Reuniões
URL:https://site.fo.usp.br/evento/reuniao-da-comissao-de-pos-graduacao/
LOCATION:Faculdade de Odontologia – USP\, Av. Prof. Lineu Prestes\, 2227\, São Paulo\, São Paulo\, 05508-000\, Brasil
CATEGORIES:Comissão de Pós-Graduação,Reunião
END:VEVENT
BEGIN:VEVENT
DTSTART;TZID=America/Sao_Paulo:20230210T080000
DTEND;TZID=America/Sao_Paulo:20230210T120000
DTSTAMP:20260423T181419
CREATED:20221216T140716Z
LAST-MODIFIED:20221216T140718Z
UID:10000079-1676016000-1676030400@site.fo.usp.br
SUMMARY:Defesa de Mestrado de Pedro Cardoso Soares
DESCRIPTION:Anfiteatro Myaki Issáo
URL:https://site.fo.usp.br/evento/defesa-de-mestrado-de-pedro-cardoso-soares/
LOCATION:Faculdade de Odontologia – USP\, Av. Prof. Lineu Prestes\, 2227\, São Paulo\, São Paulo\, 05508-000\, Brasil
CATEGORIES:Defesa de Tese
ATTACH;FMTTYPE=image/jpeg:https://site.fo.usp.br/wp-content/uploads/2022/12/4.jpg
END:VEVENT
BEGIN:VEVENT
DTSTART;TZID=America/Sao_Paulo:20230213T140000
DTEND;TZID=America/Sao_Paulo:20230213T180000
DTSTAMP:20260423T181419
CREATED:20221216T140515Z
LAST-MODIFIED:20221216T140518Z
UID:10000076-1676296800-1676311200@site.fo.usp.br
SUMMARY:Defesa de Mestrado de Matheus de Castro Costa
DESCRIPTION:Anfiteatro Myaki Issáo
URL:https://site.fo.usp.br/evento/defesa-de-mestrado-de-matheus-de-castro-costa/
LOCATION:Faculdade de Odontologia – USP\, Av. Prof. Lineu Prestes\, 2227\, São Paulo\, São Paulo\, 05508-000\, Brasil
CATEGORIES:Defesa de Tese
ATTACH;FMTTYPE=image/jpeg:https://site.fo.usp.br/wp-content/uploads/2022/12/1.jpg
END:VEVENT
BEGIN:VEVENT
DTSTART;TZID=America/Sao_Paulo:20230214T080000
DTEND;TZID=America/Sao_Paulo:20230214T100000
DTSTAMP:20260423T181419
CREATED:20221214T173002Z
LAST-MODIFIED:20221214T173004Z
UID:10000046-1676361600-1676368800@site.fo.usp.br
SUMMARY:Reunião do Comitê de Ética em Pesquisa
DESCRIPTION:O seu protocolo de pesquisa pode ser inserido no Sistema Plataforma Brasil e encaminhado ao CEP a qualquer momento\, entretanto\, necessitamos de um prazo de no mínimo 20 dias de antecedência para apreciá-lo na reunião do mês. \n\n\n\nProtocolos recebidos até 26/01/2023
URL:https://site.fo.usp.br/evento/reuniao-do-comite-de-etica-em-pesquisa-2/
LOCATION:Faculdade de Odontologia – USP\, Av. Prof. Lineu Prestes\, 2227\, São Paulo\, São Paulo\, 05508-000\, Brasil
CATEGORIES:Reunião
END:VEVENT
BEGIN:VEVENT
DTSTART;TZID=America/Sao_Paulo:20230216T090000
DTEND;TZID=America/Sao_Paulo:20230216T120000
DTSTAMP:20260423T181419
CREATED:20221201T200640Z
LAST-MODIFIED:20221205T172152Z
UID:10000026-1676538000-1676548800@site.fo.usp.br
SUMMARY:Sessão da Congregação - Fev/2023
DESCRIPTION:Data limite para inclusão de matéria na pauta em 06 de fevereiro de 2023
URL:https://site.fo.usp.br/evento/reuniao-da-congregacao-fev-2023/
LOCATION:Sala da Congregação\, Avenida Professor Lineu Prestes\, 2227\, São Paulo\, São Paulo\, 05508-000\, Brasil
CATEGORIES:Congregação
GEO:-23.566856830686;-46.738922482039
X-APPLE-STRUCTURED-LOCATION;VALUE=URI;X-ADDRESS=Sala da Congregação Avenida Professor Lineu Prestes 2227 São Paulo São Paulo 05508-000 Brasil;X-APPLE-RADIUS=500;X-TITLE=Avenida Professor Lineu Prestes\, 2227:geo:-46.738922482039,-23.566856830686
END:VEVENT
BEGIN:VEVENT
DTSTART;TZID=America/Sao_Paulo:20230216T093000
DTEND;TZID=America/Sao_Paulo:20230216T143000
DTSTAMP:20260423T181419
CREATED:20230214T185335Z
LAST-MODIFIED:20230214T185338Z
UID:10000112-1676539800-1676557800@site.fo.usp.br
SUMMARY:Defesa de Doutorado de Cristina de Paula Novaes
DESCRIPTION:Anfiteatro Myaki Issao
URL:https://site.fo.usp.br/evento/defesa-de-doutorado-de-cristina-de-paula-novaes-2/
LOCATION:Faculdade de Odontologia – USP\, Av. Prof. Lineu Prestes\, 2227\, São Paulo\, São Paulo\, 05508-000\, Brasil
CATEGORIES:Defesa de Tese
ATTACH;FMTTYPE=image/jpeg:https://site.fo.usp.br/wp-content/uploads/2023/02/11-1.jpg
END:VEVENT
BEGIN:VEVENT
DTSTART;TZID=America/Sao_Paulo:20230217T083000
DTEND;TZID=America/Sao_Paulo:20230217T123000
DTSTAMP:20260423T181419
CREATED:20221216T140632Z
LAST-MODIFIED:20230127T102122Z
UID:10000078-1676622600-1676637000@site.fo.usp.br
SUMMARY:Defesa de Mestrado de Tereza Cristina Holtz Schuch
DESCRIPTION:Anfiteatro Myaki Issáo
URL:https://site.fo.usp.br/evento/defesa-de-mestrado-de-tereza-cristina-holtz-schuch/
LOCATION:Faculdade de Odontologia – USP\, Av. Prof. Lineu Prestes\, 2227\, São Paulo\, São Paulo\, 05508-000\, Brasil
CATEGORIES:Defesa de Tese
ATTACH;FMTTYPE=image/jpeg:https://site.fo.usp.br/wp-content/uploads/2022/12/FEED-Agenda-Defesas-Setembro-2.jpg
END:VEVENT
BEGIN:VEVENT
DTSTART;TZID=America/Sao_Paulo:20230227T140000
DTEND;TZID=America/Sao_Paulo:20230227T190000
DTSTAMP:20260423T181419
CREATED:20230213T190239Z
LAST-MODIFIED:20230213T190243Z
UID:10000106-1677506400-1677524400@site.fo.usp.br
SUMMARY:Defesa de Doutorado de Thais Paragis Sanchez
DESCRIPTION:Salada Congregação
URL:https://site.fo.usp.br/evento/defesa-de-doutorado-de-thais-paragis-sanchez/
LOCATION:Faculdade de Odontologia – USP\, Av. Prof. Lineu Prestes\, 2227\, São Paulo\, São Paulo\, 05508-000\, Brasil
CATEGORIES:Defesa de Tese
ATTACH;FMTTYPE=image/jpeg:https://site.fo.usp.br/wp-content/uploads/2023/02/5.jpg
END:VEVENT
BEGIN:VEVENT
DTSTART;TZID=America/Sao_Paulo:20230301T090000
DTEND;TZID=America/Sao_Paulo:20230301T130000
DTSTAMP:20260423T181419
CREATED:20230213T190317Z
LAST-MODIFIED:20230213T190326Z
UID:10000107-1677661200-1677675600@site.fo.usp.br
SUMMARY:Defesa de Doutorado de Vinícius Maximiano Silva
DESCRIPTION:Anfiteatro Myaki Issáo
URL:https://site.fo.usp.br/evento/defesa-de-doutorado-de-vinicius-maximiano-silva/
LOCATION:Faculdade de Odontologia – USP\, Av. Prof. Lineu Prestes\, 2227\, São Paulo\, São Paulo\, 05508-000\, Brasil
CATEGORIES:Defesa de Tese
ATTACH;FMTTYPE=image/jpeg:https://site.fo.usp.br/wp-content/uploads/2023/02/6.jpg
END:VEVENT
BEGIN:VEVENT
DTSTART;TZID=America/Sao_Paulo:20230301T110000
DTEND;TZID=America/Sao_Paulo:20230301T130000
DTSTAMP:20260423T181419
CREATED:20221214T165150Z
LAST-MODIFIED:20221214T165153Z
UID:10000036-1677668400-1677675600@site.fo.usp.br
SUMMARY:Reunião do Programa de Ciências Odontológicas
DESCRIPTION:Sala de Reuniões
URL:https://site.fo.usp.br/evento/reuniao-do-programa-de-ciencias-odontologicas-2/
LOCATION:Faculdade de Odontologia – USP\, Av. Prof. Lineu Prestes\, 2227\, São Paulo\, São Paulo\, 05508-000\, Brasil
CATEGORIES:Reunião
END:VEVENT
BEGIN:VEVENT
DTSTART;TZID=America/Sao_Paulo:20230301T140000
DTEND;TZID=America/Sao_Paulo:20230301T190000
DTSTAMP:20260423T181419
CREATED:20230213T190207Z
LAST-MODIFIED:20230213T190445Z
UID:10000105-1677679200-1677697200@site.fo.usp.br
SUMMARY:Defesa de Mestrado de Vinicius Paes de Assis Santos
DESCRIPTION:Anfiteatro Myaki Issáo
URL:https://site.fo.usp.br/evento/defesa-de-mestrado-de-vinicius-paes-de-assis-santos/
LOCATION:Faculdade de Odontologia – USP\, Av. Prof. Lineu Prestes\, 2227\, São Paulo\, São Paulo\, 05508-000\, Brasil
CATEGORIES:Defesa de Tese
ATTACH;FMTTYPE=image/jpeg:https://site.fo.usp.br/wp-content/uploads/2023/02/4.jpg
END:VEVENT
BEGIN:VEVENT
DTSTART;TZID=America/Sao_Paulo:20230302T150000
DTEND;TZID=America/Sao_Paulo:20230302T170000
DTSTAMP:20260423T181419
CREATED:20230227T161117Z
LAST-MODIFIED:20230227T161126Z
UID:10000130-1677769200-1677776400@site.fo.usp.br
SUMMARY:Palestra: Influencing factors on association of student self-assessment skills and performance in preclinical operative dentistry
DESCRIPTION:Sala da Congregação
URL:https://site.fo.usp.br/evento/palestra-influencing-factors-on-association-of-student-self-assessment-skills-and-performance-in-preclinical-operative-dentistry/
LOCATION:Faculdade de Odontologia – USP\, Av. Prof. Lineu Prestes\, 2227\, São Paulo\, São Paulo\, 05508-000\, Brasil
CATEGORIES:Palestra
ATTACH;FMTTYPE=image/jpeg:https://site.fo.usp.br/wp-content/uploads/2023/02/FEED-Encontro-de-PG-2022-.jpg
END:VEVENT
BEGIN:VEVENT
DTSTART;TZID=America/Sao_Paulo:20230302T150000
DTEND;TZID=America/Sao_Paulo:20230302T190000
DTSTAMP:20260423T181419
CREATED:20230213T190128Z
LAST-MODIFIED:20230228T155327Z
UID:10000104-1677769200-1677783600@site.fo.usp.br
SUMMARY:Defesa de Mestrado de Cintia Baena Elchin
DESCRIPTION:Anfiteatro Myaki Issáo
URL:https://site.fo.usp.br/evento/defesa-de-mestrado-de-cintia-baena-elchin/
LOCATION:Faculdade de Odontologia – USP\, Av. Prof. Lineu Prestes\, 2227\, São Paulo\, São Paulo\, 05508-000\, Brasil
CATEGORIES:Defesa de Tese
ATTACH;FMTTYPE=image/jpeg:https://site.fo.usp.br/wp-content/uploads/2023/02/3.jpg
END:VEVENT
BEGIN:VEVENT
DTSTART;TZID=America/Sao_Paulo:20230303T140000
DTEND;TZID=America/Sao_Paulo:20230303T190000
DTSTAMP:20260423T181419
CREATED:20230213T184902Z
LAST-MODIFIED:20230213T185147Z
UID:10000102-1677852000-1677870000@site.fo.usp.br
SUMMARY:Defesa de Doutorado de Mariane Cristina Sloniak
DESCRIPTION:Anfiteatro Myaki Issáo
URL:https://site.fo.usp.br/evento/defesa-de-doutorado-de-mariane-cristina-sloniak/
LOCATION:Faculdade de Odontologia – USP\, Av. Prof. Lineu Prestes\, 2227\, São Paulo\, São Paulo\, 05508-000\, Brasil
CATEGORIES:Defesa de Tese
ATTACH;FMTTYPE=image/jpeg:https://site.fo.usp.br/wp-content/uploads/2023/02/1.jpg
END:VEVENT
BEGIN:VEVENT
DTSTART;TZID=America/Sao_Paulo:20230306T140000
DTEND;TZID=America/Sao_Paulo:20230306T160000
DTSTAMP:20260423T181419
CREATED:20221214T195019Z
LAST-MODIFIED:20221214T195021Z
UID:10000049-1678111200-1678118400@site.fo.usp.br
SUMMARY:Reunião do Grupo do Ciências
DESCRIPTION:Sala de Reuniões
URL:https://site.fo.usp.br/evento/reuniao-do-grupo-do-ciencias/
LOCATION:Faculdade de Odontologia – USP\, Av. Prof. Lineu Prestes\, 2227\, São Paulo\, São Paulo\, 05508-000\, Brasil
CATEGORIES:Reunião
END:VEVENT
BEGIN:VEVENT
DTSTART;TZID=America/Sao_Paulo:20230307T090000
DTEND;TZID=America/Sao_Paulo:20230307T120000
DTSTAMP:20260423T181419
CREATED:20221215T171809Z
LAST-MODIFIED:20221215T171812Z
UID:10000067-1678179600-1678190400@site.fo.usp.br
SUMMARY:Reunião da Comissão de Graduação
DESCRIPTION:Sala da Congregação
URL:https://site.fo.usp.br/evento/reuniao-da-comissao-de-graduacao/
LOCATION:Faculdade de Odontologia – USP\, Av. Prof. Lineu Prestes\, 2227\, São Paulo\, São Paulo\, 05508-000\, Brasil
CATEGORIES:Reunião
END:VEVENT
BEGIN:VEVENT
DTSTART;TZID=America/Sao_Paulo:20230307T090000
DTEND;TZID=America/Sao_Paulo:20230307T130000
DTSTAMP:20260423T181419
CREATED:20221216T140827Z
LAST-MODIFIED:20230302T135804Z
UID:10000081-1678179600-1678194000@site.fo.usp.br
SUMMARY:Defesa de Mestrado de Hasan Al Zaibak
DESCRIPTION:Anfiteatro Myaki Issáo
URL:https://site.fo.usp.br/evento/defesa-de-mestrado-de-hasan-al-zaibak/
LOCATION:Faculdade de Odontologia – USP\, Av. Prof. Lineu Prestes\, 2227\, São Paulo\, São Paulo\, 05508-000\, Brasil
CATEGORIES:Defesa de Tese
ATTACH;FMTTYPE=image/jpeg:https://site.fo.usp.br/wp-content/uploads/2022/12/FEED-Agenda-Defesas-1-1.jpg
END:VEVENT
BEGIN:VEVENT
DTSTART;TZID=America/Sao_Paulo:20230308T133000
DTEND;TZID=America/Sao_Paulo:20230308T153000
DTSTAMP:20260423T181419
CREATED:20221214T201307Z
LAST-MODIFIED:20230111T135320Z
UID:10000058-1678282200-1678289400@site.fo.usp.br
SUMMARY:Reunião da Comissão de Pós-Graduação
DESCRIPTION:Sala de Reuniões
URL:https://site.fo.usp.br/evento/reuniao-da-comissao-de-pos-graduacao-2/
LOCATION:Faculdade de Odontologia – USP\, Av. Prof. Lineu Prestes\, 2227\, São Paulo\, São Paulo\, 05508-000\, Brasil
CATEGORIES:Comissão de Pós-Graduação,Reunião
END:VEVENT
BEGIN:VEVENT
DTSTART;TZID=America/Sao_Paulo:20230308T140000
DTEND;TZID=America/Sao_Paulo:20230308T190000
DTSTAMP:20260423T181419
CREATED:20230214T172705Z
LAST-MODIFIED:20230214T172708Z
UID:10000109-1678284000-1678302000@site.fo.usp.br
SUMMARY:Defesa de Mestrado de Gustavo Machado Villar
DESCRIPTION:Anfiteatro Myaki Issáo
URL:https://site.fo.usp.br/evento/defesa-de-mestrado-de-gustavo-machado-villar/
LOCATION:Faculdade de Odontologia – USP\, Av. Prof. Lineu Prestes\, 2227\, São Paulo\, São Paulo\, 05508-000\, Brasil
CATEGORIES:Defesa de Tese
ATTACH;FMTTYPE=image/jpeg:https://site.fo.usp.br/wp-content/uploads/2023/02/9.jpg
END:VEVENT
BEGIN:VEVENT
DTSTART;TZID=America/Sao_Paulo:20230309T090000
DTEND;TZID=America/Sao_Paulo:20230309T140000
DTSTAMP:20260423T181419
CREATED:20230214T172648Z
LAST-MODIFIED:20230306T140822Z
UID:10000108-1678352400-1678370400@site.fo.usp.br
SUMMARY:Defesa de Doutorado de Emília Maria Gomes Aguiar
DESCRIPTION:CPDigi – Centro de Produção Digital
URL:https://site.fo.usp.br/evento/defesa-de-doutorado-de-emilia-maria-gomes-aguiar/
LOCATION:Faculdade de Odontologia – USP\, Av. Prof. Lineu Prestes\, 2227\, São Paulo\, São Paulo\, 05508-000\, Brasil
CATEGORIES:Defesa de Tese
ATTACH;FMTTYPE=image/jpeg:https://site.fo.usp.br/wp-content/uploads/2023/02/8-1.jpg
END:VEVENT
BEGIN:VEVENT
DTSTART;TZID=America/Sao_Paulo:20230310T083000
DTEND;TZID=America/Sao_Paulo:20230310T133000
DTSTAMP:20260423T181419
CREATED:20230214T185352Z
LAST-MODIFIED:20230214T185356Z
UID:10000111-1678437000-1678455000@site.fo.usp.br
SUMMARY:Defesa de Mestrado de Anita Carolina de Lourdes Ribeiro
DESCRIPTION:Anfiteatro Myaki Issao
URL:https://site.fo.usp.br/evento/defesa-de-mestrado-de-anita-carolina-de-lourdes-ribeiro/
LOCATION:Faculdade de Odontologia – USP\, Av. Prof. Lineu Prestes\, 2227\, São Paulo\, São Paulo\, 05508-000\, Brasil
CATEGORIES:Defesa de Tese
ATTACH;FMTTYPE=image/jpeg:https://site.fo.usp.br/wp-content/uploads/2023/02/12-1.jpg
END:VEVENT
BEGIN:VEVENT
DTSTART;TZID=America/Sao_Paulo:20230310T090000
DTEND;TZID=America/Sao_Paulo:20230310T140000
DTSTAMP:20260423T181419
CREATED:20230214T185320Z
LAST-MODIFIED:20230214T185323Z
UID:10000113-1678438800-1678456800@site.fo.usp.br
SUMMARY:Defesa de Mestrado de Luiza Bastos Nozari
DESCRIPTION:Anfiteatro Ortodontia
URL:https://site.fo.usp.br/evento/defesa-de-mestrado-de-luiza-bastos-nozari/
LOCATION:Faculdade de Odontologia – USP\, Av. Prof. Lineu Prestes\, 2227\, São Paulo\, São Paulo\, 05508-000\, Brasil
CATEGORIES:Defesa de Tese
ATTACH;FMTTYPE=image/jpeg:https://site.fo.usp.br/wp-content/uploads/2023/02/10.jpg
END:VEVENT
BEGIN:VEVENT
DTSTART;TZID=America/Sao_Paulo:20230310T140000
DTEND;TZID=America/Sao_Paulo:20230310T190000
DTSTAMP:20260423T181419
CREATED:20230214T172715Z
LAST-MODIFIED:20230214T172718Z
UID:10000110-1678456800-1678474800@site.fo.usp.br
SUMMARY:Defesa de Mestrado de Renan Spigolon
DESCRIPTION:Anfiteatro Myaki Issáo
URL:https://site.fo.usp.br/evento/defesa-de-mestrado-de-renan-spigolon/
LOCATION:Faculdade de Odontologia – USP\, Av. Prof. Lineu Prestes\, 2227\, São Paulo\, São Paulo\, 05508-000\, Brasil
CATEGORIES:Defesa de Tese
ATTACH;FMTTYPE=image/jpeg:https://site.fo.usp.br/wp-content/uploads/2023/02/7.jpg
END:VEVENT
END:VCALENDAR