BEGIN:VCALENDAR
VERSION:2.0
PRODID:-//FOUSP - ECPv6.15.20//NONSGML v1.0//EN
CALSCALE:GREGORIAN
METHOD:PUBLISH
X-WR-CALNAME:FOUSP
X-ORIGINAL-URL:https://site.fo.usp.br
X-WR-CALDESC:Eventos para FOUSP
REFRESH-INTERVAL;VALUE=DURATION:PT1H
X-Robots-Tag:noindex
X-PUBLISHED-TTL:PT1H
BEGIN:VTIMEZONE
TZID:America/Sao_Paulo
BEGIN:STANDARD
TZOFFSETFROM:-0300
TZOFFSETTO:-0300
TZNAME:-03
DTSTART:20220101T000000
END:STANDARD
END:VTIMEZONE
BEGIN:VEVENT
DTSTART;TZID=America/Sao_Paulo:20230504T090000
DTEND;TZID=America/Sao_Paulo:20230504T130000
DTSTAMP:20260424T102436
CREATED:20230322T184533Z
LAST-MODIFIED:20230322T184538Z
UID:10000146-1683190800-1683205200@site.fo.usp.br
SUMMARY:Defesa de Mestrado Profissional Formação Interdisciplinar em Saúde de Tainá Tayota de Oliveira
DESCRIPTION:Sala de aula do Departamento de Odontologia Social
URL:https://site.fo.usp.br/evento/defesa-de-mestrado-profissional-formacao-interdisciplinar-em-saude-de-taina-tayota-de-oliveira/
LOCATION:Faculdade de Odontologia – USP\, Av. Prof. Lineu Prestes\, 2227\, São Paulo\, São Paulo\, 05508-000\, Brasil
CATEGORIES:Defesa de Tese
ATTACH;FMTTYPE=image/jpeg:https://site.fo.usp.br/wp-content/uploads/2023/03/17.jpg
END:VEVENT
BEGIN:VEVENT
DTSTART;TZID=America/Sao_Paulo:20230504T173000
DTEND;TZID=America/Sao_Paulo:20230504T180000
DTSTAMP:20260424T102436
CREATED:20230424T153307Z
LAST-MODIFIED:20230424T153826Z
UID:10000161-1683221400-1683223200@site.fo.usp.br
SUMMARY:CCani Club promueve segundo encuentro
DESCRIPTION:
URL:https://site.fo.usp.br/evento/ccani-club-promueve-segundo-encuentro/
CATEGORIES:Ciclo de Palestras
ATTACH;FMTTYPE=image/jpeg:https://site.fo.usp.br/wp-content/uploads/2023/04/Imagem-do-WhatsApp-de-2023-04-24-as-11.09.28.jpg
END:VEVENT
BEGIN:VEVENT
DTSTART;TZID=America/Sao_Paulo:20230504T190000
DTEND;TZID=America/Sao_Paulo:20230504T200000
DTSTAMP:20260424T102436
CREATED:20230424T181202Z
LAST-MODIFIED:20230424T181215Z
UID:10000162-1683226800-1683230400@site.fo.usp.br
SUMMARY:Odontopediatria na atenção primária
DESCRIPTION:
URL:https://site.fo.usp.br/evento/odontopediatria-na-atencao-primaria/
CATEGORIES:Aula Aberta
ATTACH;FMTTYPE=image/jpeg:https://site.fo.usp.br/wp-content/uploads/2023/04/Imagem-do-WhatsApp-de-2023-04-24-as-11.30.48.jpg
END:VEVENT
BEGIN:VEVENT
DTSTART;TZID=America/Sao_Paulo:20230508T080000
DTEND;TZID=America/Sao_Paulo:20230512T170000
DTSTAMP:20260424T102436
CREATED:20230503T135356Z
LAST-MODIFIED:20230503T135400Z
UID:10000170-1683532800-1683910800@site.fo.usp.br
SUMMARY:Concurso Público de Títulos e Provas visando ao provimento de 02 (dois) cargos de Professor Titular\, em RDIDP\, junto ao Departamento de Estomatologia
DESCRIPTION:Sala da Congregação
URL:https://site.fo.usp.br/evento/concurso-publico-de-titulos-e-provas-visando-ao-provimento-de-02-dois-cargos-de-professor-titular-em-rdidp-junto-ao-departamento-de-estomatologia/
CATEGORIES:Concurso
ATTACH;FMTTYPE=image/jpeg:https://site.fo.usp.br/wp-content/uploads/2023/05/Concurso-Titular.jpg
END:VEVENT
BEGIN:VEVENT
DTSTART;TZID=America/Sao_Paulo:20230508T140000
DTEND;TZID=America/Sao_Paulo:20230508T190000
DTSTAMP:20260424T102436
CREATED:20230322T184714Z
LAST-MODIFIED:20230322T184718Z
UID:10000147-1683554400-1683572400@site.fo.usp.br
SUMMARY:Defesa de Mestrado Profissional Formação Interdisciplinar em Saúde de Monica Ribas
DESCRIPTION:Sala do CPDigi
URL:https://site.fo.usp.br/evento/defesa-de-mestrado-profissional-formacao-interdisciplinar-em-saude-de-monica-ribas/
LOCATION:Faculdade de Odontologia – USP\, Av. Prof. Lineu Prestes\, 2227\, São Paulo\, São Paulo\, 05508-000\, Brasil
CATEGORIES:Defesa de Tese
ATTACH;FMTTYPE=image/jpeg:https://site.fo.usp.br/wp-content/uploads/2023/03/18.jpg
END:VEVENT
BEGIN:VEVENT
DTSTART;TZID=America/Sao_Paulo:20230509T090000
DTEND;TZID=America/Sao_Paulo:20230509T120000
DTSTAMP:20260424T102436
CREATED:20230110T174142Z
LAST-MODIFIED:20230309T150352Z
UID:10000133-1683622800-1683633600@site.fo.usp.br
SUMMARY:Reunião CCEX
DESCRIPTION:
URL:https://site.fo.usp.br/evento/reuniao-ccex/2023-05-09/
LOCATION:Faculdade de Odontologia – USP\, Av. Prof. Lineu Prestes\, 2227\, São Paulo\, São Paulo\, 05508-000\, Brasil
CATEGORIES:Comissão de Cultura e Extensão Universitária
END:VEVENT
BEGIN:VEVENT
DTSTART;TZID=America/Sao_Paulo:20230509T143000
DTEND;TZID=America/Sao_Paulo:20230509T170000
DTSTAMP:20260424T102436
CREATED:20230217T133241Z
LAST-MODIFIED:20230217T133246Z
UID:10000119-1683642600-1683651600@site.fo.usp.br
SUMMARY:Reunião da Comissão de Pesquisa e Inovação
DESCRIPTION:Sala do CPDigi
URL:https://site.fo.usp.br/evento/reuniao-da-comissao-de-pesquisa-e-inovacao-2/
LOCATION:Faculdade de Odontologia – USP\, Av. Prof. Lineu Prestes\, 2227\, São Paulo\, São Paulo\, 05508-000\, Brasil
END:VEVENT
BEGIN:VEVENT
DTSTART;TZID=America/Sao_Paulo:20230510T080000
DTEND;TZID=America/Sao_Paulo:20230510T113000
DTSTAMP:20260424T102436
CREATED:20221214T195458Z
LAST-MODIFIED:20221214T195710Z
UID:10000053-1683705600-1683718200@site.fo.usp.br
SUMMARY:Projeto Experimentando Ciência
DESCRIPTION:Anfiteatro Myaki Issáo
URL:https://site.fo.usp.br/evento/projeto-experimentando-ciencia-2/
LOCATION:Faculdade de Odontologia – USP\, Av. Prof. Lineu Prestes\, 2227\, São Paulo\, São Paulo\, 05508-000\, Brasil
CATEGORIES:Projeto
END:VEVENT
BEGIN:VEVENT
DTSTART;TZID=America/Sao_Paulo:20230510T133000
DTEND;TZID=America/Sao_Paulo:20230510T153000
DTSTAMP:20260424T102436
CREATED:20221214T201346Z
LAST-MODIFIED:20230111T135316Z
UID:10000060-1683725400-1683732600@site.fo.usp.br
SUMMARY:Reunião da Comissão de Pós-Graduação
DESCRIPTION:Sala de Reuniões
URL:https://site.fo.usp.br/evento/reuniao-da-comissao-de-pos-graduacao-4/
LOCATION:Faculdade de Odontologia – USP\, Av. Prof. Lineu Prestes\, 2227\, São Paulo\, São Paulo\, 05508-000\, Brasil
CATEGORIES:Comissão de Pós-Graduação,Reunião
END:VEVENT
BEGIN:VEVENT
DTSTART;TZID=America/Sao_Paulo:20230510T140000
DTEND;TZID=America/Sao_Paulo:20230510T170000
DTSTAMP:20260424T102436
CREATED:20230217T163705Z
LAST-MODIFIED:20230424T120446Z
UID:10000125-1683727200-1683738000@site.fo.usp.br
SUMMARY:Defesa de Doutorado de Regina Teixeira Barbieri Ramos
DESCRIPTION:Sala da Congregação
URL:https://site.fo.usp.br/evento/defesa-de-doutorado-de-regina-teixeira-barbieri-ramos/
LOCATION:Faculdade de Odontologia – USP\, Av. Prof. Lineu Prestes\, 2227\, São Paulo\, São Paulo\, 05508-000\, Brasil
CATEGORIES:Defesa de Tese
ATTACH;FMTTYPE=image/jpeg:https://site.fo.usp.br/wp-content/uploads/2023/02/2-3.jpg
END:VEVENT
BEGIN:VEVENT
DTSTART;TZID=America/Sao_Paulo:20230511T090000
DTEND;TZID=America/Sao_Paulo:20230511T120000
DTSTAMP:20260424T102436
CREATED:20221215T171916Z
LAST-MODIFIED:20221215T171918Z
UID:10000069-1683795600-1683806400@site.fo.usp.br
SUMMARY:Reunião da Comissão de Graduação
DESCRIPTION:Sala da Congregação
URL:https://site.fo.usp.br/evento/reuniao-da-comissao-de-graduacao-3/
LOCATION:Faculdade de Odontologia – USP\, Av. Prof. Lineu Prestes\, 2227\, São Paulo\, São Paulo\, 05508-000\, Brasil
CATEGORIES:Reunião
END:VEVENT
BEGIN:VEVENT
DTSTART;TZID=America/Sao_Paulo:20230511T143000
DTEND;TZID=America/Sao_Paulo:20230511T163000
DTSTAMP:20260424T102436
CREATED:20230329T195745Z
LAST-MODIFIED:20230329T195749Z
UID:10000152-1683815400-1683822600@site.fo.usp.br
SUMMARY:Treinamento EndNote Web
DESCRIPTION:
URL:https://site.fo.usp.br/evento/treinamento-endnote-web-3/
LOCATION:Biblioteca da FOUSP\, Av Prof. Lineu Prestes\, 2227\, São Paulo\, São Paulo\, 05508-000
CATEGORIES:Treinamento
ATTACH;FMTTYPE=image/jpeg:https://site.fo.usp.br/wp-content/uploads/2023/03/4-1.jpg
ORGANIZER;CN="Glauci Elaine Damasio Fidelis":MAILTO:bibfo@usp.br
END:VEVENT
BEGIN:VEVENT
DTSTART;TZID=America/Sao_Paulo:20230516T090000
DTEND;TZID=America/Sao_Paulo:20230516T120000
DTSTAMP:20260424T102436
CREATED:20230509T162535Z
LAST-MODIFIED:20230509T162543Z
UID:10000176-1684227600-1684238400@site.fo.usp.br
SUMMARY:I Semana de Saúde Mental da USP
DESCRIPTION:pelo canal do youtube
URL:https://site.fo.usp.br/evento/i-semana-de-saude-mental-da-usp/
ATTACH;FMTTYPE=image/jpeg:https://site.fo.usp.br/wp-content/uploads/2023/05/Feed-saude-mental.jpg
END:VEVENT
BEGIN:VEVENT
DTSTART;TZID=America/Sao_Paulo:20230519T140000
DTEND;TZID=America/Sao_Paulo:20230519T180000
DTSTAMP:20260424T102436
CREATED:20230413T165357Z
LAST-MODIFIED:20230509T164949Z
UID:10000148-1684504800-1684519200@site.fo.usp.br
SUMMARY:50+1 - Encontro do Programa de Pós-Graduação de Periodontia
DESCRIPTION:Anfiteatro Myaki Issáo
URL:https://site.fo.usp.br/evento/501-encontro-do-programa-de-pos-graduacao-de-periodontia-save-the-date/
LOCATION:Faculdade de Odontologia – USP\, Av. Prof. Lineu Prestes\, 2227\, São Paulo\, São Paulo\, 05508-000\, Brasil
CATEGORIES:Simpósio
ATTACH;FMTTYPE=image/jpeg:https://site.fo.usp.br/wp-content/uploads/2023/04/FEED-Comunicados-FOUSP-12.jpg
END:VEVENT
BEGIN:VEVENT
DTSTART;TZID=America/Sao_Paulo:20230522T080000
DTEND;TZID=America/Sao_Paulo:20230526T170000
DTSTAMP:20260424T102436
CREATED:20230503T134518Z
LAST-MODIFIED:20230503T134636Z
UID:10000169-1684742400-1685120400@site.fo.usp.br
SUMMARY:Concurso Público de Títulos e Provas visando ao provimento de 02 (dois) cargos de Professor Doutor junto ao Departamento de Cirurgia\, Prótese e Traumatologia Maxilofaciais
DESCRIPTION:Sala da Congregação
URL:https://site.fo.usp.br/evento/concurso-publico-de-titulos-e-provas-visando-ao-provimento-de-02-dois-cargos-de-professor-doutor-junto-ao-departamento-de-cirurgia-protese-e-traumatologia-maxilofaciais/
CATEGORIES:Concurso
ATTACH;FMTTYPE=image/jpeg:https://site.fo.usp.br/wp-content/uploads/2023/05/Concurso-Doutor.jpg
END:VEVENT
BEGIN:VEVENT
DTSTART;TZID=America/Sao_Paulo:20230523T093000
DTEND;TZID=America/Sao_Paulo:20230523T133000
DTSTAMP:20260424T102436
CREATED:20230320T192603Z
LAST-MODIFIED:20230321T131151Z
UID:10000139-1684834200-1684848600@site.fo.usp.br
SUMMARY:Defesa de Doutorado de Bianca Serpa da Fonseca Del Negro de Moura
DESCRIPTION:Anfiteatro Myaki Issao
URL:https://site.fo.usp.br/evento/defesa-de-doutorado-de-bianca-serpa-da-fonseca-del-negro-de-moura/
LOCATION:Faculdade de Odontologia – USP\, Av. Prof. Lineu Prestes\, 2227\, São Paulo\, São Paulo\, 05508-000\, Brasil
CATEGORIES:Defesa de Tese
ATTACH;FMTTYPE=image/jpeg:https://site.fo.usp.br/wp-content/uploads/2023/03/12.jpg
END:VEVENT
BEGIN:VEVENT
DTSTART;TZID=America/Sao_Paulo:20230525T080000
DTEND;TZID=America/Sao_Paulo:20230526T170000
DTSTAMP:20260424T102436
CREATED:20230331T153117Z
LAST-MODIFIED:20230519T123624Z
UID:10000158-1685001600-1685120400@site.fo.usp.br
SUMMARY:8ª Reunião de Pesquisa em Saúde Bucal Coletiva
DESCRIPTION:Anfiteatro Myaki Issáo
URL:https://site.fo.usp.br/evento/8a-reuniao-de-pesquisa-em-saude-bucal-coletiva/
CATEGORIES:Reunião
ATTACH;FMTTYPE=image/png:https://site.fo.usp.br/wp-content/uploads/2023/03/feed-1.png
END:VEVENT
BEGIN:VEVENT
DTSTART;TZID=America/Sao_Paulo:20230525T090000
DTEND;TZID=America/Sao_Paulo:20230525T120000
DTSTAMP:20260424T102436
CREATED:20230110T165203Z
LAST-MODIFIED:20230110T165206Z
UID:10000086-1685005200-1685016000@site.fo.usp.br
SUMMARY:Reunião do CTA
DESCRIPTION:
URL:https://site.fo.usp.br/evento/reuniao-do-cta-2/
LOCATION:Faculdade de Odontologia – USP\, Av. Prof. Lineu Prestes\, 2227\, São Paulo\, São Paulo\, 05508-000\, Brasil
END:VEVENT
BEGIN:VEVENT
DTSTART;TZID=America/Sao_Paulo:20230525T123000
DTEND;TZID=America/Sao_Paulo:20230525T173000
DTSTAMP:20260424T102436
CREATED:20230320T192708Z
LAST-MODIFIED:20230509T125614Z
UID:10000140-1685017800-1685035800@site.fo.usp.br
SUMMARY:Defesa de Doutorado de Jhandira Daibelis Yampa Vargas
DESCRIPTION:Anfiteatro da Disciplina de Ortodontia
URL:https://site.fo.usp.br/evento/defesa-de-doutorado-de-jhandira-daibelis-yampa-vargas/
LOCATION:Faculdade de Odontologia – USP\, Av. Prof. Lineu Prestes\, 2227\, São Paulo\, São Paulo\, 05508-000\, Brasil
CATEGORIES:Defesa de Tese
ATTACH;FMTTYPE=image/jpeg:https://site.fo.usp.br/wp-content/uploads/2023/03/Feed-Jhandira-1.jpg
END:VEVENT
BEGIN:VEVENT
DTSTART;TZID=America/Sao_Paulo:20230525T173000
DTEND;TZID=America/Sao_Paulo:20230525T180000
DTSTAMP:20260424T102436
CREATED:20230518T114644Z
LAST-MODIFIED:20230518T114648Z
UID:10000178-1685035800-1685037600@site.fo.usp.br
SUMMARY:CCANI Club promove terceiro encontro
DESCRIPTION:@ccanifousp
URL:https://site.fo.usp.br/evento/ccani-club-promove-terceiro-encontro/
ATTACH;FMTTYPE=image/jpeg:https://site.fo.usp.br/wp-content/uploads/2023/05/0a08d43c-424e-46ac-85fb-ee20ead23d14-1.jpg
END:VEVENT
BEGIN:VEVENT
DTSTART;TZID=America/Sao_Paulo:20230529T140000
DTEND;TZID=America/Sao_Paulo:20230529T190000
DTSTAMP:20260424T102436
CREATED:20230428T163535Z
LAST-MODIFIED:20230529T112626Z
UID:10000165-1685368800-1685386800@site.fo.usp.br
SUMMARY:Defesa de Doutorado de Paulo Sérgio Souza Pina
DESCRIPTION:Sala da Congregação
URL:https://site.fo.usp.br/evento/defesa-de-doutorado-de-paulo-sergio-souza-pina/
CATEGORIES:Defesa de Tese
ATTACH;FMTTYPE=image/jpeg:https://site.fo.usp.br/wp-content/uploads/2023/04/8.jpg
END:VEVENT
BEGIN:VEVENT
DTSTART;TZID=America/Sao_Paulo:20230530T090000
DTEND;TZID=America/Sao_Paulo:20230530T140000
DTSTAMP:20260424T102436
CREATED:20230428T163528Z
LAST-MODIFIED:20230525T135525Z
UID:10000164-1685437200-1685455200@site.fo.usp.br
SUMMARY:Defesa de Doutorado Direto de José Pimentel Girard
DESCRIPTION:Anfiteatro da Ortodontia
URL:https://site.fo.usp.br/evento/defesa-de-doutorado-direto-de-jose-pimentel-girard/
CATEGORIES:Defesa de Tese
ATTACH;FMTTYPE=image/jpeg:https://site.fo.usp.br/wp-content/uploads/2023/04/Feed-Girard-30-de-maio.jpg
END:VEVENT
BEGIN:VEVENT
DTSTART;TZID=America/Sao_Paulo:20230530T130000
DTEND;TZID=America/Sao_Paulo:20230530T190000
DTSTAMP:20260424T102437
CREATED:20230512T164729Z
LAST-MODIFIED:20230512T164733Z
UID:10000177-1685451600-1685473200@site.fo.usp.br
SUMMARY:Defesa de Doutorado de Aloisio de Melo Farias Neto
DESCRIPTION:CPDigi – Miniauditório (Defesas e Qualificações)
URL:https://site.fo.usp.br/evento/defesa-de-doutorado-de-aloisio-de-melo-farias-neto/
CATEGORIES:Defesa de Tese
ATTACH;FMTTYPE=image/jpeg:https://site.fo.usp.br/wp-content/uploads/2023/05/30-de-maio-Aluisio.jpg
END:VEVENT
BEGIN:VEVENT
DTSTART;TZID=America/Sao_Paulo:20230531T080000
DTEND;TZID=America/Sao_Paulo:20230531T113000
DTSTAMP:20260424T102437
CREATED:20221214T195516Z
LAST-MODIFIED:20221214T195716Z
UID:10000054-1685520000-1685532600@site.fo.usp.br
SUMMARY:Projeto Experimentando Ciência
DESCRIPTION:Anfiteatro Myaki Issáo
URL:https://site.fo.usp.br/evento/projeto-experimentando-ciencia-3/
LOCATION:Faculdade de Odontologia – USP\, Av. Prof. Lineu Prestes\, 2227\, São Paulo\, São Paulo\, 05508-000\, Brasil
CATEGORIES:Projeto
END:VEVENT
BEGIN:VEVENT
DTSTART;TZID=America/Sao_Paulo:20230531T090000
DTEND;TZID=America/Sao_Paulo:20230531T130000
DTSTAMP:20260424T102437
CREATED:20230428T163523Z
LAST-MODIFIED:20230428T163527Z
UID:10000163-1685523600-1685538000@site.fo.usp.br
SUMMARY:Defesa de Mestrado de Emílio Carlos Paschoal
DESCRIPTION:Sala da Congregação
URL:https://site.fo.usp.br/evento/defesa-de-mestrado-de-emilio-carlos-paschoal/
CATEGORIES:Defesa de Tese
ATTACH;FMTTYPE=image/jpeg:https://site.fo.usp.br/wp-content/uploads/2023/04/6-1.jpg
END:VEVENT
BEGIN:VEVENT
DTSTART;TZID=America/Sao_Paulo:20230602T100000
DTEND;TZID=America/Sao_Paulo:20230602T113000
DTSTAMP:20260424T102437
CREATED:20230528T224654Z
LAST-MODIFIED:20230528T224700Z
UID:10000186-1685700000-1685705400@site.fo.usp.br
SUMMARY:Giro Cultural e FOUSP: um passeio pelo campus
DESCRIPTION:
URL:https://site.fo.usp.br/evento/giro-cultural-e-fousp-um-passeio-pelo-campus/
ATTACH;FMTTYPE=image/jpeg:https://site.fo.usp.br/wp-content/uploads/2023/05/600425ff-df22-4630-a22a-024a76d748f6.jpg
END:VEVENT
BEGIN:VEVENT
DTSTART;TZID=America/Sao_Paulo:20230607T080000
DTEND;TZID=America/Sao_Paulo:20230607T130000
DTSTAMP:20260424T102437
CREATED:20230503T144122Z
LAST-MODIFIED:20230503T144126Z
UID:10000174-1686124800-1686142800@site.fo.usp.br
SUMMARY:2º Encontro de Simulação do Lab-Sim
DESCRIPTION:Anfiteatro Myaki Issáo
URL:https://site.fo.usp.br/evento/2o-encontro-de-simulacao-do-lab-sim/
CATEGORIES:Encontro
ATTACH;FMTTYPE=image/jpeg:https://site.fo.usp.br/wp-content/uploads/2023/05/feed-labsim.jpg
END:VEVENT
BEGIN:VEVENT
DTSTART;TZID=America/Sao_Paulo:20230607T110000
DTEND;TZID=America/Sao_Paulo:20230607T130000
DTSTAMP:20260424T102437
CREATED:20221214T165309Z
LAST-MODIFIED:20221214T165312Z
UID:10000039-1686135600-1686142800@site.fo.usp.br
SUMMARY:Reunião do Programa de Ciências Odontológicas
DESCRIPTION:Sala de Reuniões
URL:https://site.fo.usp.br/evento/reuniao-do-programa-de-ciencias-odontologicas-5/
LOCATION:Faculdade de Odontologia – USP\, Av. Prof. Lineu Prestes\, 2227\, São Paulo\, São Paulo\, 05508-000\, Brasil
CATEGORIES:Reunião
END:VEVENT
BEGIN:VEVENT
DTSTART;TZID=America/Sao_Paulo:20230612T080000
DTEND;TZID=America/Sao_Paulo:20230616T170000
DTSTAMP:20260424T102437
CREATED:20230503T134225Z
LAST-MODIFIED:20230503T134720Z
UID:10000168-1686556800-1686934800@site.fo.usp.br
SUMMARY:Concurso Público de Títulos e Provas visando ao provimento de 01 (um) cargo de Professor Doutor junto ao Departamento de Estomatologia
DESCRIPTION:Sala da Congregação
URL:https://site.fo.usp.br/evento/concurso-publico-de-titulos-e-provas-visando-ao-provimento-de-01-um-cargo-de-professor-doutor-junto-ao-departamento-de-estomatologia/
CATEGORIES:Concurso
ATTACH;FMTTYPE=image/jpeg:https://site.fo.usp.br/wp-content/uploads/2023/05/Concurso-Doutor.jpg
END:VEVENT
BEGIN:VEVENT
DTSTART;TZID=America/Sao_Paulo:20230612T090000
DTEND;TZID=America/Sao_Paulo:20230612T130000
DTSTAMP:20260424T102437
CREATED:20230519T155444Z
LAST-MODIFIED:20230606T182641Z
UID:10000181-1686560400-1686574800@site.fo.usp.br
SUMMARY:Defesa de Mestrado de Ruth Venâncio Fernandes Dantas
DESCRIPTION:CPDigi – Miniauditório
URL:https://site.fo.usp.br/evento/defesa-de-mestrado-de-ruth-venancio-fernandes-dantas/
CATEGORIES:Defesa de Tese
ATTACH;FMTTYPE=image/jpeg:https://site.fo.usp.br/wp-content/uploads/2023/05/feed-ruth-1.jpg
END:VEVENT
END:VCALENDAR