BEGIN:VCALENDAR
VERSION:2.0
PRODID:-//FOUSP - ECPv6.15.20//NONSGML v1.0//EN
CALSCALE:GREGORIAN
METHOD:PUBLISH
X-WR-CALNAME:FOUSP
X-ORIGINAL-URL:https://site.fo.usp.br
X-WR-CALDESC:Eventos para FOUSP
REFRESH-INTERVAL;VALUE=DURATION:PT1H
X-Robots-Tag:noindex
X-PUBLISHED-TTL:PT1H
BEGIN:VTIMEZONE
TZID:America/Sao_Paulo
BEGIN:STANDARD
TZOFFSETFROM:-0300
TZOFFSETTO:-0300
TZNAME:-03
DTSTART:20220101T000000
END:STANDARD
END:VTIMEZONE
BEGIN:VEVENT
DTSTART;TZID=America/Sao_Paulo:20230612T080000
DTEND;TZID=America/Sao_Paulo:20230616T170000
DTSTAMP:20260424T043507
CREATED:20230503T134225Z
LAST-MODIFIED:20230503T134720Z
UID:10000168-1686556800-1686934800@site.fo.usp.br
SUMMARY:Concurso Público de Títulos e Provas visando ao provimento de 01 (um) cargo de Professor Doutor junto ao Departamento de Estomatologia
DESCRIPTION:Sala da Congregação
URL:https://site.fo.usp.br/evento/concurso-publico-de-titulos-e-provas-visando-ao-provimento-de-01-um-cargo-de-professor-doutor-junto-ao-departamento-de-estomatologia/
CATEGORIES:Concurso
ATTACH;FMTTYPE=image/jpeg:https://site.fo.usp.br/wp-content/uploads/2023/05/Concurso-Doutor.jpg
END:VEVENT
BEGIN:VEVENT
DTSTART;TZID=America/Sao_Paulo:20230612T090000
DTEND;TZID=America/Sao_Paulo:20230612T130000
DTSTAMP:20260424T043507
CREATED:20230519T155444Z
LAST-MODIFIED:20230606T182641Z
UID:10000181-1686560400-1686574800@site.fo.usp.br
SUMMARY:Defesa de Mestrado de Ruth Venâncio Fernandes Dantas
DESCRIPTION:CPDigi – Miniauditório
URL:https://site.fo.usp.br/evento/defesa-de-mestrado-de-ruth-venancio-fernandes-dantas/
CATEGORIES:Defesa de Tese
ATTACH;FMTTYPE=image/jpeg:https://site.fo.usp.br/wp-content/uploads/2023/05/feed-ruth-1.jpg
END:VEVENT
BEGIN:VEVENT
DTSTART;TZID=America/Sao_Paulo:20230613T100000
DTEND;TZID=America/Sao_Paulo:20230613T120000
DTSTAMP:20260424T043507
CREATED:20230329T200025Z
LAST-MODIFIED:20230329T200115Z
UID:10000153-1686650400-1686657600@site.fo.usp.br
SUMMARY:Treinamento EndNote Web
DESCRIPTION:
URL:https://site.fo.usp.br/evento/treinamento-endnote-web-4/
LOCATION:Biblioteca da FOUSP\, Av Prof. Lineu Prestes\, 2227\, São Paulo\, São Paulo\, 05508-000
CATEGORIES:Treinamento
ATTACH;FMTTYPE=image/jpeg:https://site.fo.usp.br/wp-content/uploads/2023/03/4-1.jpg
ORGANIZER;CN="Glauci Elaine Damasio Fidelis":MAILTO:bibfo@usp.br
END:VEVENT
BEGIN:VEVENT
DTSTART;TZID=America/Sao_Paulo:20230613T150000
DTEND;TZID=America/Sao_Paulo:20230613T170000
DTSTAMP:20260424T043507
CREATED:20230524T142047Z
LAST-MODIFIED:20230524T142051Z
UID:10000183-1686668400-1686675600@site.fo.usp.br
SUMMARY:Can you improve on perfection?
DESCRIPTION:Sala Azul
URL:https://site.fo.usp.br/evento/can-you-improve-on-perfection/
CATEGORIES:Palestra
ATTACH;FMTTYPE=image/jpeg:https://site.fo.usp.br/wp-content/uploads/2023/05/evento.jpg
END:VEVENT
BEGIN:VEVENT
DTSTART;TZID=America/Sao_Paulo:20230614T170000
DTEND;TZID=America/Sao_Paulo:20230614T190000
DTSTAMP:20260424T043507
CREATED:20230614T140722Z
LAST-MODIFIED:20230614T141021Z
UID:10000189-1686762000-1686769200@site.fo.usp.br
SUMMARY:Docentes da FOUSP lançam livro Odontologia na Oncologia: atenção interdisciplinar à saúde bucal do paciente com câncer de boca
DESCRIPTION:Anfiteatro Myaki Issáo
URL:https://site.fo.usp.br/evento/docentes-da-fousp-lancam-livro-odontologia-na-oncologia-atencao-interdisciplinar-a-saude-bucal-do-paciente-com-cancer-de-boca/
CATEGORIES:Aula Aberta
ATTACH;FMTTYPE=image/jpeg:https://site.fo.usp.br/wp-content/uploads/2023/06/FEED-Comunicados-FOUSP-3.jpg
END:VEVENT
BEGIN:VEVENT
DTSTART;TZID=America/Sao_Paulo:20230616T090000
DTEND;TZID=America/Sao_Paulo:20230616T120000
DTSTAMP:20260424T043507
CREATED:20230110T174142Z
LAST-MODIFIED:20230309T150352Z
UID:10000095-1686906000-1686916800@site.fo.usp.br
SUMMARY:Reunião CCEX
DESCRIPTION:
URL:https://site.fo.usp.br/evento/reuniao-ccex/2023-06-16/
LOCATION:Faculdade de Odontologia – USP\, Av. Prof. Lineu Prestes\, 2227\, São Paulo\, São Paulo\, 05508-000\, Brasil
CATEGORIES:Comissão de Cultura e Extensão Universitária
END:VEVENT
BEGIN:VEVENT
DTSTART;TZID=America/Sao_Paulo:20230616T090000
DTEND;TZID=America/Sao_Paulo:20230616T130000
DTSTAMP:20260424T043507
CREATED:20230519T155320Z
LAST-MODIFIED:20230524T135437Z
UID:10000179-1686906000-1686920400@site.fo.usp.br
SUMMARY:Defesa de Mestrado de Letícia Maranhão Penha Araujo
DESCRIPTION:CPDigi
URL:https://site.fo.usp.br/evento/defesa-de-mestrado-de-leticia-maranhao-penha-araujo/
CATEGORIES:Defesa de Tese
ATTACH;FMTTYPE=image/jpeg:https://site.fo.usp.br/wp-content/uploads/2023/05/Feed-Leticia-1.jpg
END:VEVENT
BEGIN:VEVENT
DTSTART;TZID=America/Sao_Paulo:20230616T120000
DTEND;TZID=America/Sao_Paulo:20230616T140000
DTSTAMP:20260424T043507
CREATED:20230508T160419Z
LAST-MODIFIED:20230508T160427Z
UID:10000175-1686916800-1686924000@site.fo.usp.br
SUMMARY:Bate papo com o Prof. Dr. Junichi Asaumi
DESCRIPTION:Anfiteatro Myaki Issáo
URL:https://site.fo.usp.br/evento/bate-papo-com-o-prof-dr-junichi-asaumi/
CATEGORIES:Mesa Redonda
ATTACH;FMTTYPE=image/jpeg:https://site.fo.usp.br/wp-content/uploads/2023/05/Prof.-Dr.-Junichi-Asaumi-FEED-1.jpg
END:VEVENT
BEGIN:VEVENT
DTSTART;TZID=America/Sao_Paulo:20230619T083000
DTEND;TZID=America/Sao_Paulo:20230619T133000
DTSTAMP:20260424T043507
CREATED:20230519T155449Z
LAST-MODIFIED:20230531T124948Z
UID:10000182-1687163400-1687181400@site.fo.usp.br
SUMMARY:Defesa de Mestrado de Layse Ribeiro Schuster
DESCRIPTION:Sala da Congregação
URL:https://site.fo.usp.br/evento/defesa-de-mestrado-de-layse-ribeiro-schuster/
CATEGORIES:Defesa de Tese
ATTACH;FMTTYPE=image/jpeg:https://site.fo.usp.br/wp-content/uploads/2023/05/Feed-Layse-1.jpg
END:VEVENT
BEGIN:VEVENT
DTSTART;TZID=America/Sao_Paulo:20230621T080000
DTEND;TZID=America/Sao_Paulo:20230621T170000
DTSTAMP:20260424T043507
CREATED:20230503T135921Z
LAST-MODIFIED:20230622T192145Z
UID:10000173-1687334400-1687366800@site.fo.usp.br
SUMMARY:Concurso Público de Títulos e Provas visando ao provimento de 01 (um) cargo de Professor Titular\, em RDIDP\, junto ao Departamento de Dentística
DESCRIPTION:Sala da Congregação
URL:https://site.fo.usp.br/evento/concurso-publico-de-titulos-e-provas-visando-ao-provimento-de-01-um-cargo-de-professor-titular-em-rdidp-junto-ao-departamento-de-dentistica/
CATEGORIES:Concurso
ATTACH;FMTTYPE=image/jpeg:https://site.fo.usp.br/wp-content/uploads/2023/05/Concurso-Titular.jpg
END:VEVENT
BEGIN:VEVENT
DTSTART;TZID=America/Sao_Paulo:20230621T133000
DTEND;TZID=America/Sao_Paulo:20230621T153000
DTSTAMP:20260424T043507
CREATED:20221214T201406Z
LAST-MODIFIED:20230601T133254Z
UID:10000061-1687354200-1687361400@site.fo.usp.br
SUMMARY:Reunião da Comissão de Pós-Graduação
DESCRIPTION:Sala de Reuniões
URL:https://site.fo.usp.br/evento/reuniao-da-comissao-de-pos-graduacao-5/
LOCATION:Faculdade de Odontologia – USP\, Av. Prof. Lineu Prestes\, 2227\, São Paulo\, São Paulo\, 05508-000\, Brasil
CATEGORIES:Comissão de Pós-Graduação,Reunião
END:VEVENT
BEGIN:VEVENT
DTSTART;TZID=America/Sao_Paulo:20230622T113000
DTEND;TZID=America/Sao_Paulo:20230622T123000
DTSTAMP:20260424T043507
CREATED:20230615T172637Z
LAST-MODIFIED:20230615T173329Z
UID:10000191-1687433400-1687437000@site.fo.usp.br
SUMMARY:Avaliação: fundamentos para a construção de itens
DESCRIPTION:Sala da Congregação
URL:https://site.fo.usp.br/evento/avaliacao-fundamentos-para-a-construcao-de-itens/
CATEGORIES:Palestra
ATTACH;FMTTYPE=image/jpeg:https://site.fo.usp.br/wp-content/uploads/2023/06/braga-1-3.jpg
END:VEVENT
BEGIN:VEVENT
DTSTART;TZID=America/Sao_Paulo:20230622T123000
DTEND;TZID=America/Sao_Paulo:20230622T133000
DTSTAMP:20260424T043507
CREATED:20230615T180010Z
LAST-MODIFIED:20230615T180016Z
UID:10000192-1687437000-1687440600@site.fo.usp.br
SUMMARY:Apresentação do LAMUC
DESCRIPTION:Anfiteatro Myaki Issáo
URL:https://site.fo.usp.br/evento/apresentacao-do-lamuc/
ATTACH;FMTTYPE=image/jpeg:https://site.fo.usp.br/wp-content/uploads/2023/06/feed-lamuc-1.jpg
END:VEVENT
BEGIN:VEVENT
DTSTART;TZID=America/Sao_Paulo:20230623T170000
DTEND;TZID=America/Sao_Paulo:20230623T190000
DTSTAMP:20260424T043507
CREATED:20230621T131107Z
LAST-MODIFIED:20230621T131147Z
UID:10000194-1687539600-1687546800@site.fo.usp.br
SUMMARY:Aula aberta: Relação intra e extra oral na performance do sorriso
DESCRIPTION:
URL:https://site.fo.usp.br/evento/aula-aberta-relacao-intra-e-extra-oral-na-performance-do-sorriso/
CATEGORIES:Aula Aberta
ATTACH;FMTTYPE=image/jpeg:https://site.fo.usp.br/wp-content/uploads/2023/06/FEED-Comunicados-FOUSP-7.jpg
END:VEVENT
BEGIN:VEVENT
DTSTART;TZID=America/Sao_Paulo:20230626T170000
DTEND;TZID=America/Sao_Paulo:20230626T190000
DTSTAMP:20260424T043507
CREATED:20230623T163706Z
LAST-MODIFIED:20230623T163710Z
UID:10000198-1687798800-1687806000@site.fo.usp.br
SUMMARY:Aula aberta - Injetáveis em DTM
DESCRIPTION:Anfiteatro Myaki Issáo
URL:https://site.fo.usp.br/evento/aula-aberta-injetaveis-em-dtm/
CATEGORIES:Aula Aberta
ATTACH;FMTTYPE=image/png:https://site.fo.usp.br/wp-content/uploads/2023/06/8E3E3768-5CE1-40D9-BA97-B1F9EB87ADAE.png
END:VEVENT
BEGIN:VEVENT
DTSTART;TZID=America/Sao_Paulo:20230627T090000
DTEND;TZID=America/Sao_Paulo:20230627T120000
DTSTAMP:20260424T043507
CREATED:20221215T171945Z
LAST-MODIFIED:20230612T120304Z
UID:10000070-1687856400-1687867200@site.fo.usp.br
SUMMARY:Reunião da Comissão de Graduação
DESCRIPTION:Sala da Congregação
URL:https://site.fo.usp.br/evento/reuniao-da-comissao-de-graduacao-4/
LOCATION:Faculdade de Odontologia – USP\, Av. Prof. Lineu Prestes\, 2227\, São Paulo\, São Paulo\, 05508-000\, Brasil
CATEGORIES:Reunião
END:VEVENT
BEGIN:VEVENT
DTSTART;TZID=America/Sao_Paulo:20230627T143000
DTEND;TZID=America/Sao_Paulo:20230627T170000
DTSTAMP:20260424T043507
CREATED:20230217T133301Z
LAST-MODIFIED:20230601T133335Z
UID:10000120-1687876200-1687885200@site.fo.usp.br
SUMMARY:Reunião da Comissão de Pesquisa e Inovação
DESCRIPTION:Sala do CPDigi
URL:https://site.fo.usp.br/evento/reuniao-da-comissao-de-pesquisa-e-inovacao-3/
LOCATION:Faculdade de Odontologia – USP\, Av. Prof. Lineu Prestes\, 2227\, São Paulo\, São Paulo\, 05508-000\, Brasil
END:VEVENT
BEGIN:VEVENT
DTSTART;TZID=America/Sao_Paulo:20230629T080000
DTEND;TZID=America/Sao_Paulo:20230629T170000
DTSTAMP:20260424T043507
CREATED:20230503T133940Z
LAST-MODIFIED:20230629T123240Z
UID:10000167-1688025600-1688058000@site.fo.usp.br
SUMMARY:Concurso Público de Títulos e Provas visando ao provimento de 01 (um) cargo de Professor Doutor junto ao Departamento de Ortodontia e Odontopediatria
DESCRIPTION:Sala da Congregação
URL:https://site.fo.usp.br/evento/concurso-publico-de-titulos-e-provas-visando-ao-provimento-de-01-um-cargo-de-professor-doutor-junto-ao-departamento-de-ortodontia-e-odontopediatria/
CATEGORIES:Concurso
ATTACH;FMTTYPE=image/jpeg:https://site.fo.usp.br/wp-content/uploads/2023/05/Concurso-Doutor.jpg
END:VEVENT
BEGIN:VEVENT
DTSTART;TZID=America/Sao_Paulo:20230629T090000
DTEND;TZID=America/Sao_Paulo:20230629T130000
DTSTAMP:20260424T043507
CREATED:20230606T184607Z
LAST-MODIFIED:20230627T184657Z
UID:10000187-1688029200-1688043600@site.fo.usp.br
SUMMARY:Defesa de Mestrado de Karla Nogueira Matos
DESCRIPTION:Anfiteatro da Ortodontia
URL:https://site.fo.usp.br/evento/defesa-de-mestrado-de-karla-nogueira-matos/
CATEGORIES:Defesa de Tese
ATTACH;FMTTYPE=image/jpeg:https://site.fo.usp.br/wp-content/uploads/2023/06/Feed-Karla-Matos.jpg
END:VEVENT
BEGIN:VEVENT
DTSTART;TZID=America/Sao_Paulo:20230629T153000
DTEND;TZID=America/Sao_Paulo:20230629T173000
DTSTAMP:20260424T043507
CREATED:20230619T182254Z
LAST-MODIFIED:20230619T182258Z
UID:10000193-1688052600-1688059800@site.fo.usp.br
SUMMARY:Inauguração do Centro de Recursos para Aprendizagem\, Investigação e Inovação da FOUSP
DESCRIPTION:CRAI
URL:https://site.fo.usp.br/evento/inauguracao-do-centro-de-recursos-para-aprendizagem-investigacao-e-inovacao-da-fousp/
ATTACH;FMTTYPE=image/jpeg:https://site.fo.usp.br/wp-content/uploads/2023/06/Imagem-do-WhatsApp-de-2023-06-19-as-15.14.55-1.jpg
END:VEVENT
BEGIN:VEVENT
DTSTART;TZID=America/Sao_Paulo:20230704T140000
DTEND;TZID=America/Sao_Paulo:20230704T170000
DTSTAMP:20260424T043507
CREATED:20230614T142658Z
LAST-MODIFIED:20230627T184704Z
UID:10000190-1688479200-1688490000@site.fo.usp.br
SUMMARY:Defesa de Mestrado de Caroline Parducci Arruda
DESCRIPTION:Sala da Congregação
URL:https://site.fo.usp.br/evento/defesa-de-mestrado-de-caroline-parducci-arruda/
ATTACH;FMTTYPE=image/jpeg:https://site.fo.usp.br/wp-content/uploads/2023/06/Feed-Caroline-2.jpg
END:VEVENT
BEGIN:VEVENT
DTSTART;TZID=America/Sao_Paulo:20230705T090000
DTEND;TZID=America/Sao_Paulo:20230705T130000
DTSTAMP:20260424T043507
CREATED:20230626T144218Z
LAST-MODIFIED:20230627T184654Z
UID:10000200-1688547600-1688562000@site.fo.usp.br
SUMMARY:Defesa de Mestrado de Débora Moisés Duarte
DESCRIPTION:Sala de Aula do Departamento de Odontologia Social da Faculdade de Odontologia da USP
URL:https://site.fo.usp.br/evento/defesa-de-mestrado-de-debora-moises-duarte/
CATEGORIES:Defesa de Tese
ATTACH;FMTTYPE=image/jpeg:https://site.fo.usp.br/wp-content/uploads/2023/06/Feed-Debora.jpg
END:VEVENT
BEGIN:VEVENT
DTSTART;TZID=America/Sao_Paulo:20230706T090000
DTEND;TZID=America/Sao_Paulo:20230706T120000
DTSTAMP:20260424T043507
CREATED:20221205T172348Z
LAST-MODIFIED:20230616T163854Z
UID:10000028-1688634000-1688644800@site.fo.usp.br
SUMMARY:Sessão da Congregação
DESCRIPTION:Data limite para inclusão de matéria na pauta em 13 de junho de 2023
URL:https://site.fo.usp.br/evento/sessao-da-congregacao-jun-2023/
LOCATION:Sala da Congregação\, Avenida Professor Lineu Prestes\, 2227\, São Paulo\, São Paulo\, 05508-000\, Brasil
CATEGORIES:Congregação
GEO:-23.566856830686;-46.738922482039
X-APPLE-STRUCTURED-LOCATION;VALUE=URI;X-ADDRESS=Sala da Congregação Avenida Professor Lineu Prestes 2227 São Paulo São Paulo 05508-000 Brasil;X-APPLE-RADIUS=500;X-TITLE=Avenida Professor Lineu Prestes\, 2227:geo:-46.738922482039,-23.566856830686
END:VEVENT
BEGIN:VEVENT
DTSTART;TZID=America/Sao_Paulo:20230706T140000
DTEND;TZID=America/Sao_Paulo:20230706T190000
DTSTAMP:20260424T043507
CREATED:20230519T155323Z
LAST-MODIFIED:20230627T184700Z
UID:10000180-1688652000-1688670000@site.fo.usp.br
SUMMARY:Defesa de Doutorado Direto de Amanda Caroline Zarpellon
DESCRIPTION:Sala da Congregação
URL:https://site.fo.usp.br/evento/defesa-de-doutorado-direto-de-amanda-caroline-zarpellon/
CATEGORIES:Defesa de Tese
ATTACH;FMTTYPE=image/jpeg:https://site.fo.usp.br/wp-content/uploads/2023/05/Feed-Amanda-1.jpg
END:VEVENT
BEGIN:VEVENT
DTSTART;TZID=America/Sao_Paulo:20230707T080000
DTEND;TZID=America/Sao_Paulo:20230707T130000
DTSTAMP:20260424T043507
CREATED:20230623T172451Z
LAST-MODIFIED:20230707T131144Z
UID:10000199-1688716800-1688734800@site.fo.usp.br
SUMMARY:Defesa de Mestrado de Marcella Dewes Cassal
DESCRIPTION:Sala da Congregação
URL:https://site.fo.usp.br/evento/defesa-de-mestrado-de-marcella-dewes-cassal/
CATEGORIES:Defesa de Tese
ATTACH;FMTTYPE=image/png:https://site.fo.usp.br/wp-content/uploads/2023/06/Feed-Marcella.png
END:VEVENT
BEGIN:VEVENT
DTSTART;TZID=America/Sao_Paulo:20230712T080000
DTEND;TZID=America/Sao_Paulo:20230713T170000
DTSTAMP:20260424T043507
CREATED:20230503T133706Z
LAST-MODIFIED:20230712T123950Z
UID:10000166-1689148800-1689267600@site.fo.usp.br
SUMMARY:Concurso Público de Títulos e Provas visando ao provimento de 01 (um) cargo de Professor Doutor junto ao Departamento de Prótese
DESCRIPTION:Sala da Congregação
URL:https://site.fo.usp.br/evento/concurso-publico-de-titulos-e-provas-visando-ao-provimento-de-01-um-cargo-de-professor-doutor-junto-ao-departamento-de-protese/
CATEGORIES:Concurso
ATTACH;FMTTYPE=image/jpeg:https://site.fo.usp.br/wp-content/uploads/2023/05/Concurso-Doutor.jpg
END:VEVENT
BEGIN:VEVENT
DTSTART;TZID=America/Sao_Paulo:20230712T090000
DTEND;TZID=America/Sao_Paulo:20230712T130000
DTSTAMP:20260424T043507
CREATED:20230628T191630Z
LAST-MODIFIED:20230628T191640Z
UID:10000203-1689152400-1689166800@site.fo.usp.br
SUMMARY:Defesa de Tese de Mohamed Ahmed Hassan Mahmoud
DESCRIPTION:CPDigi – Miniauditório (Defesas e Qualificações)
URL:https://site.fo.usp.br/evento/defesa-de-tese-de-mohamed-ahmed-hassan-mahmoud/
CATEGORIES:Defesa de Tese
ATTACH;FMTTYPE=image/jpeg:https://site.fo.usp.br/wp-content/uploads/2023/06/Feed-Mohamed.jpg
END:VEVENT
BEGIN:VEVENT
DTSTART;TZID=America/Sao_Paulo:20230713T120000
DTEND;TZID=America/Sao_Paulo:20230713T123000
DTSTAMP:20260424T043507
CREATED:20230710T164201Z
LAST-MODIFIED:20230710T164205Z
UID:10000205-1689249600-1689251400@site.fo.usp.br
SUMMARY:Apresentação do LAMUC
DESCRIPTION:
URL:https://site.fo.usp.br/evento/apresentacao-do-lamuc-2/
CATEGORIES:Voluntariado
ATTACH;FMTTYPE=image/jpeg:https://site.fo.usp.br/wp-content/uploads/2023/07/Story-apresentacao-LAMUC.jpg
END:VEVENT
BEGIN:VEVENT
DTSTART;TZID=America/Sao_Paulo:20230717T080000
DTEND;TZID=America/Sao_Paulo:20230717T130000
DTSTAMP:20260424T043507
CREATED:20230622T192009Z
LAST-MODIFIED:20230710T172005Z
UID:10000197-1689580800-1689598800@site.fo.usp.br
SUMMARY:Defesa de Doutorado de Marina Damasceno e Souza de Carvalho Chiari
DESCRIPTION:Sala da Congregação
URL:https://site.fo.usp.br/evento/defesa-de-doutorado-de-marina-damasceno-e-souza-de-carvalho-chiari/
CATEGORIES:Defesa de Tese
ATTACH;FMTTYPE=image/jpeg:https://site.fo.usp.br/wp-content/uploads/2023/06/Feed-Marina-2.jpg
END:VEVENT
BEGIN:VEVENT
DTSTART;TZID=America/Sao_Paulo:20230802T110000
DTEND;TZID=America/Sao_Paulo:20230802T130000
DTSTAMP:20260424T043507
CREATED:20221214T165331Z
LAST-MODIFIED:20221214T165334Z
UID:10000040-1690974000-1690981200@site.fo.usp.br
SUMMARY:Reunião do Programa de Ciências Odontológicas
DESCRIPTION:Sala de Reuniões
URL:https://site.fo.usp.br/evento/reuniao-do-programa-de-ciencias-odontologicas-6/
LOCATION:Faculdade de Odontologia – USP\, Av. Prof. Lineu Prestes\, 2227\, São Paulo\, São Paulo\, 05508-000\, Brasil
CATEGORIES:Reunião
END:VEVENT
END:VCALENDAR