BEGIN:VCALENDAR
VERSION:2.0
PRODID:-//FOUSP - ECPv6.15.20//NONSGML v1.0//EN
CALSCALE:GREGORIAN
METHOD:PUBLISH
X-WR-CALNAME:FOUSP
X-ORIGINAL-URL:https://site.fo.usp.br
X-WR-CALDESC:Eventos para FOUSP
REFRESH-INTERVAL;VALUE=DURATION:PT1H
X-Robots-Tag:noindex
X-PUBLISHED-TTL:PT1H
BEGIN:VTIMEZONE
TZID:America/Sao_Paulo
BEGIN:STANDARD
TZOFFSETFROM:-0300
TZOFFSETTO:-0300
TZNAME:-03
DTSTART:20220101T000000
END:STANDARD
END:VTIMEZONE
BEGIN:VEVENT
DTSTART;TZID=America/Sao_Paulo:20231113T090000
DTEND;TZID=America/Sao_Paulo:20231124T170000
DTSTAMP:20260424T112346
CREATED:20230803T180620Z
LAST-MODIFIED:20230803T180624Z
UID:10000209-1699866000-1700845200@site.fo.usp.br
SUMMARY:Evento: Bioinspired Dentistry 2023
DESCRIPTION:Anfiteatro do CRAI
URL:https://site.fo.usp.br/evento/evento-bioinspired-dentistry-2023/
CATEGORIES:Simpósio
ATTACH;FMTTYPE=image/jpeg:https://site.fo.usp.br/wp-content/uploads/2023/08/Imagem-do-WhatsApp-de-2023-08-03-as-14.48.10-1.jpg
END:VEVENT
BEGIN:VEVENT
DTSTART;TZID=America/Sao_Paulo:20231121T080000
DTEND;TZID=America/Sao_Paulo:20231123T170000
DTSTAMP:20260424T112346
CREATED:20231113T184421Z
LAST-MODIFIED:20231113T184426Z
UID:10000268-1700553600-1700758800@site.fo.usp.br
SUMMARY:Jornada da LOPH
DESCRIPTION:
URL:https://site.fo.usp.br/evento/jornada-da-loph/
CATEGORIES:Jornada
ATTACH;FMTTYPE=image/jpeg:https://site.fo.usp.br/wp-content/uploads/2023/11/Screenshot_20231113_152248_WhatsApp.jpg
END:VEVENT
BEGIN:VEVENT
DTSTART;TZID=America/Sao_Paulo:20231121T080000
DTEND;TZID=America/Sao_Paulo:20231124T170000
DTSTAMP:20260424T112346
CREATED:20231025T182053Z
LAST-MODIFIED:20231025T182058Z
UID:10000252-1700553600-1700845200@site.fo.usp.br
SUMMARY:26ª Semana de Arte e Cultura
DESCRIPTION:
URL:https://site.fo.usp.br/evento/26a-semana-de-arte-e-cultura/
CATEGORIES:Feira
ATTACH;FMTTYPE=image/jpeg:https://site.fo.usp.br/wp-content/uploads/2023/10/Semana-de-arte.jpg
END:VEVENT
BEGIN:VEVENT
DTSTART;TZID=America/Sao_Paulo:20231123T090000
DTEND;TZID=America/Sao_Paulo:20231123T120000
DTSTAMP:20260424T112346
CREATED:20230110T165401Z
LAST-MODIFIED:20230110T165404Z
UID:10000089-1700730000-1700740800@site.fo.usp.br
SUMMARY:Reunião do CTA
DESCRIPTION:
URL:https://site.fo.usp.br/evento/reuniao-do-cta-5/
LOCATION:Faculdade de Odontologia – USP\, Av. Prof. Lineu Prestes\, 2227\, São Paulo\, São Paulo\, 05508-000\, Brasil
END:VEVENT
BEGIN:VEVENT
DTSTART;TZID=America/Sao_Paulo:20231123T090000
DTEND;TZID=America/Sao_Paulo:20231123T140000
DTSTAMP:20260424T112346
CREATED:20231024T171145Z
LAST-MODIFIED:20231121T162839Z
UID:10000250-1700730000-1700748000@site.fo.usp.br
SUMMARY:Tese de Doutorado da Aluno Eduardo Mukai
DESCRIPTION:
URL:https://site.fo.usp.br/evento/tese-de-doutorado-da-aluno-eduardo-mukai/
CATEGORIES:Defesa de Tese
ATTACH;FMTTYPE=image/jpeg:https://site.fo.usp.br/wp-content/uploads/2023/10/Tese-FEED.jpg
END:VEVENT
BEGIN:VEVENT
DTSTART;TZID=America/Sao_Paulo:20231123T140000
DTEND;TZID=America/Sao_Paulo:20231123T190000
DTSTAMP:20260424T112346
CREATED:20231024T171321Z
LAST-MODIFIED:20231116T120604Z
UID:10000251-1700748000-1700766000@site.fo.usp.br
SUMMARY:Dissertação de Mestrado da Aluna Fiorella Elizabeth Arevalo Tarrillo
DESCRIPTION:
URL:https://site.fo.usp.br/evento/dissertacao-de-mestrado-da-aluna-fiorella-elizabeth-arevalo-tarrillo/
CATEGORIES:Defesa de Tese
ATTACH;FMTTYPE=image/png:https://site.fo.usp.br/wp-content/uploads/2023/10/Tese-FEED.png
END:VEVENT
BEGIN:VEVENT
DTSTART;TZID=America/Sao_Paulo:20231125T110000
DTEND;TZID=America/Sao_Paulo:20231125T163000
DTSTAMP:20260424T112346
CREATED:20231114T111930Z
LAST-MODIFIED:20231114T111934Z
UID:10000269-1700910000-1700929800@site.fo.usp.br
SUMMARY:Imersão LGPO: Caminhos para o sucesso na Odontologia
DESCRIPTION:
URL:https://site.fo.usp.br/evento/imersao-lgpo-caminhos-para-o-sucesso-na-odontologia/
CATEGORIES:Encontro
ATTACH;FMTTYPE=image/jpeg:https://site.fo.usp.br/wp-content/uploads/2023/11/Imersao-LGPO-TV.jpg
END:VEVENT
BEGIN:VEVENT
DTSTART;TZID=America/Sao_Paulo:20231128T000000
DTEND;TZID=America/Sao_Paulo:20231130T235959
DTSTAMP:20260424T112346
CREATED:20230920T162707Z
LAST-MODIFIED:20230920T162710Z
UID:10000238-1701129600-1701388799@site.fo.usp.br
SUMMARY:Save The Date: XXVI REUNIÃO DE PESQUISA
DESCRIPTION:
URL:https://site.fo.usp.br/evento/save-the-date-xxvi-reuniao-de-pesquisa/
ATTACH;FMTTYPE=image/png:https://site.fo.usp.br/wp-content/uploads/2023/09/SAVE-THE-DATE-REUNIAO-DE-PESQUISA-1.png
END:VEVENT
BEGIN:VEVENT
DTSTART;TZID=America/Sao_Paulo:20231128T143000
DTEND;TZID=America/Sao_Paulo:20231128T170000
DTSTAMP:20260424T112347
CREATED:20230217T133411Z
LAST-MODIFIED:20230217T133417Z
UID:10000124-1701181800-1701190800@site.fo.usp.br
SUMMARY:Reunião da Comissão de Pesquisa e Inovação
DESCRIPTION:Sala do CPDigi
URL:https://site.fo.usp.br/evento/reuniao-da-comissao-de-pesquisa-e-inovacao-7/
LOCATION:Faculdade de Odontologia – USP\, Av. Prof. Lineu Prestes\, 2227\, São Paulo\, São Paulo\, 05508-000\, Brasil
END:VEVENT
BEGIN:VEVENT
DTSTART;TZID=America/Sao_Paulo:20231201T080000
DTEND;TZID=America/Sao_Paulo:20231201T170000
DTSTAMP:20260424T112347
CREATED:20230828T182521Z
LAST-MODIFIED:20230828T182541Z
UID:10000211-1701417600-1701450000@site.fo.usp.br
SUMMARY:XXIII JOCAPE - Jornada Odontológica do CAPE
DESCRIPTION:Auditório da Biblioteca Brasiliana Guita e José Midlin
URL:https://site.fo.usp.br/evento/xxiii-jocape-jornada-odontologica-do-cape/
CATEGORIES:Jornada
ATTACH;FMTTYPE=image/png:https://site.fo.usp.br/wp-content/uploads/2023/08/save-the-date-1.png
END:VEVENT
BEGIN:VEVENT
DTSTART;TZID=America/Sao_Paulo:20231201T080000
DTEND;TZID=America/Sao_Paulo:20231201T180000
DTSTAMP:20260424T112347
CREATED:20231113T162809Z
LAST-MODIFIED:20231113T162814Z
UID:10000267-1701417600-1701453600@site.fo.usp.br
SUMMARY:Congresso Internacional de Odontologia do Esporte
DESCRIPTION:
URL:https://site.fo.usp.br/evento/congresso-internacional-de-odontologia-do-esporte/
CATEGORIES:Congresso
ATTACH;FMTTYPE=image/jpeg:https://site.fo.usp.br/wp-content/uploads/2023/11/1-2.jpg
END:VEVENT
BEGIN:VEVENT
DTSTART;TZID=America/Sao_Paulo:20231201T090000
DTEND;TZID=America/Sao_Paulo:20231201T120000
DTSTAMP:20260424T112347
CREATED:20230110T174142Z
LAST-MODIFIED:20230309T150352Z
UID:10000100-1701421200-1701432000@site.fo.usp.br
SUMMARY:Reunião CCEX
DESCRIPTION:
URL:https://site.fo.usp.br/evento/reuniao-ccex/2023-12-01/
LOCATION:Faculdade de Odontologia – USP\, Av. Prof. Lineu Prestes\, 2227\, São Paulo\, São Paulo\, 05508-000\, Brasil
CATEGORIES:Comissão de Cultura e Extensão Universitária
END:VEVENT
BEGIN:VEVENT
DTSTART;TZID=America/Sao_Paulo:20231202T000000
DTEND;TZID=America/Sao_Paulo:20231202T235959
DTSTAMP:20260424T112347
CREATED:20231106T173456Z
LAST-MODIFIED:20231106T173548Z
UID:10000254-1701475200-1701561599@site.fo.usp.br
SUMMARY:I Encontro do Laboratório Especial de Laser em Odontologia
DESCRIPTION:Anfiteatro Myaki Issáo
URL:https://site.fo.usp.br/evento/i-encontro-do-laboratorio-especial-de-laser-em-odontologia-2/
CATEGORIES:Encontro
ATTACH;FMTTYPE=image/jpeg:https://site.fo.usp.br/wp-content/uploads/2023/11/1-1.jpg
END:VEVENT
BEGIN:VEVENT
DTSTART;TZID=America/Sao_Paulo:20231203T080000
DTEND;TZID=America/Sao_Paulo:20231203T180000
DTSTAMP:20260424T112347
CREATED:20231124T181039Z
LAST-MODIFIED:20231124T181043Z
UID:10000274-1701590400-1701626400@site.fo.usp.br
SUMMARY:Garra do Lobo
DESCRIPTION:
URL:https://site.fo.usp.br/evento/garra-do-lobo/
CATEGORIES:Evento Esportivo
ATTACH;FMTTYPE=image/jpeg:https://site.fo.usp.br/wp-content/uploads/2023/11/Divulgacao-Feed-003_Pagina_1-scaled.jpg
END:VEVENT
BEGIN:VEVENT
DTSTART;TZID=America/Sao_Paulo:20231205T080000
DTEND;TZID=America/Sao_Paulo:20231207T170000
DTSTAMP:20260424T112347
CREATED:20231130T100950Z
LAST-MODIFIED:20231130T100958Z
UID:10000275-1701763200-1701968400@site.fo.usp.br
SUMMARY:Jornada Acadêmica da LAE
DESCRIPTION:
URL:https://site.fo.usp.br/evento/jornada-academica-da-lae/
CATEGORIES:Jornada
ATTACH;FMTTYPE=image/jpeg:https://site.fo.usp.br/wp-content/uploads/2023/11/Template-para-Ligas-FEED-scaled.jpg
END:VEVENT
BEGIN:VEVENT
DTSTART;TZID=America/Sao_Paulo:20231205T090000
DTEND;TZID=America/Sao_Paulo:20231205T120000
DTSTAMP:20260424T112347
CREATED:20230912T164322Z
LAST-MODIFIED:20230912T164628Z
UID:10000229-1701766800-1701777600@site.fo.usp.br
SUMMARY:Reunião do Comitê de Ética em Pesquisa (CEP)
DESCRIPTION:Local: Mini Auditório do CPDigi
URL:https://site.fo.usp.br/evento/reuniao-do-comite-de-etica-em-pesquisa-cep/2023-12-05/
CATEGORIES:Reunião
ATTACH;FMTTYPE=image/jpeg:https://site.fo.usp.br/wp-content/uploads/2022/06/cep.jpg
END:VEVENT
BEGIN:VEVENT
DTSTART;TZID=America/Sao_Paulo:20231206T110000
DTEND;TZID=America/Sao_Paulo:20231206T130000
DTSTAMP:20260424T112347
CREATED:20221214T165446Z
LAST-MODIFIED:20221214T165448Z
UID:10000044-1701860400-1701867600@site.fo.usp.br
SUMMARY:Reunião do Programa de Ciências Odontológicas
DESCRIPTION:Sala de Reuniões
URL:https://site.fo.usp.br/evento/reuniao-do-programa-de-ciencias-odontologicas-10/
LOCATION:Faculdade de Odontologia – USP\, Av. Prof. Lineu Prestes\, 2227\, São Paulo\, São Paulo\, 05508-000\, Brasil
CATEGORIES:Reunião
END:VEVENT
BEGIN:VEVENT
DTSTART;TZID=America/Sao_Paulo:20231207T090000
DTEND;TZID=America/Sao_Paulo:20231207T120000
DTSTAMP:20260424T112347
CREATED:20221206T153855Z
LAST-MODIFIED:20221206T153857Z
UID:10000031-1701939600-1701950400@site.fo.usp.br
SUMMARY:Sessão da Congregação - Dez/2023
DESCRIPTION:Data limite para inclusão de matéria na pauta em 07 de dezembro de 2023
URL:https://site.fo.usp.br/evento/sessao-da-congregacao-dez-2023/
LOCATION:Sala da Congregação\, Avenida Professor Lineu Prestes\, 2227\, São Paulo\, São Paulo\, 05508-000\, Brasil
CATEGORIES:Congregação
GEO:-23.566856830686;-46.738922482039
X-APPLE-STRUCTURED-LOCATION;VALUE=URI;X-ADDRESS=Sala da Congregação Avenida Professor Lineu Prestes 2227 São Paulo São Paulo 05508-000 Brasil;X-APPLE-RADIUS=500;X-TITLE=Avenida Professor Lineu Prestes\, 2227:geo:-46.738922482039,-23.566856830686
END:VEVENT
BEGIN:VEVENT
DTSTART;TZID=America/Sao_Paulo:20231208T140000
DTEND;TZID=America/Sao_Paulo:20231208T190000
DTSTAMP:20260424T112347
CREATED:20231117T143237Z
LAST-MODIFIED:20231117T143243Z
UID:10000272-1702044000-1702062000@site.fo.usp.br
SUMMARY:Tese de Doutorado Direto de Miriam Hochman
DESCRIPTION:
URL:https://site.fo.usp.br/evento/tese-de-doutorado-direto-de-miriam-hochman/
CATEGORIES:Defesa de Tese
ATTACH;FMTTYPE=image/jpeg:https://site.fo.usp.br/wp-content/uploads/2023/11/8-1.jpg
END:VEVENT
BEGIN:VEVENT
DTSTART;TZID=America/Sao_Paulo:20231211T140000
DTEND;TZID=America/Sao_Paulo:20231211T180000
DTSTAMP:20260424T112347
CREATED:20231204T104807Z
LAST-MODIFIED:20231204T104811Z
UID:10000276-1702303200-1702317600@site.fo.usp.br
SUMMARY:Curso Estética em Odontologia Digital
DESCRIPTION:
URL:https://site.fo.usp.br/evento/curso-estetica-em-odontologia-digital/
CATEGORIES:Curso
ATTACH;FMTTYPE=image/jpeg:https://site.fo.usp.br/wp-content/uploads/2023/12/Curso-LIESTOLIOD-Feed-insta.jpg
END:VEVENT
BEGIN:VEVENT
DTSTART;TZID=America/Sao_Paulo:20231213T090000
DTEND;TZID=America/Sao_Paulo:20231213T120000
DTSTAMP:20260424T112347
CREATED:20221215T172200Z
LAST-MODIFIED:20221215T172202Z
UID:10000075-1702458000-1702468800@site.fo.usp.br
SUMMARY:Reunião da Comissão de Graduação
DESCRIPTION:Sala da Congregação
URL:https://site.fo.usp.br/evento/reuniao-da-comissao-de-graduacao-9/
LOCATION:Faculdade de Odontologia – USP\, Av. Prof. Lineu Prestes\, 2227\, São Paulo\, São Paulo\, 05508-000\, Brasil
CATEGORIES:Reunião
END:VEVENT
BEGIN:VEVENT
DTSTART;TZID=America/Sao_Paulo:20231213T133000
DTEND;TZID=America/Sao_Paulo:20231213T153000
DTSTAMP:20260424T112347
CREATED:20221214T201602Z
LAST-MODIFIED:20230111T135304Z
UID:10000066-1702474200-1702481400@site.fo.usp.br
SUMMARY:Reunião da Comissão de Pós-Graduação
DESCRIPTION:Sala de Reuniões
URL:https://site.fo.usp.br/evento/reuniao-da-comissao-de-pos-graduacao-10/
LOCATION:Faculdade de Odontologia – USP\, Av. Prof. Lineu Prestes\, 2227\, São Paulo\, São Paulo\, 05508-000\, Brasil
CATEGORIES:Comissão de Pós-Graduação,Reunião
END:VEVENT
BEGIN:VEVENT
DTSTART;TZID=America/Sao_Paulo:20231214T090000
DTEND;TZID=America/Sao_Paulo:20231214T140000
DTSTAMP:20260424T112347
CREATED:20231117T175609Z
LAST-MODIFIED:20231117T175615Z
UID:10000273-1702544400-1702562400@site.fo.usp.br
SUMMARY:Dissertação de Mestrado de Renata Bommarito
DESCRIPTION:
URL:https://site.fo.usp.br/evento/dissertacao-de-mestrado-de-renata-bommarito/
CATEGORIES:Defesa de Tese
ATTACH;FMTTYPE=image/jpeg:https://site.fo.usp.br/wp-content/uploads/2023/11/9-1.jpg
END:VEVENT
BEGIN:VEVENT
DTSTART;TZID=America/Sao_Paulo:20231215T090000
DTEND;TZID=America/Sao_Paulo:20231215T130000
DTSTAMP:20260424T112347
CREATED:20231117T143116Z
LAST-MODIFIED:20231117T143122Z
UID:10000271-1702630800-1702645200@site.fo.usp.br
SUMMARY:Tese de Doutorado Direto de Caroline Mariano Laux
DESCRIPTION:
URL:https://site.fo.usp.br/evento/tese-de-doutorado-direto-de-caroline-mariano-laux/
CATEGORIES:Defesa de Tese
ATTACH;FMTTYPE=image/jpeg:https://site.fo.usp.br/wp-content/uploads/2023/11/7-2.jpg
END:VEVENT
BEGIN:VEVENT
DTSTART;TZID=America/Sao_Paulo:20240119T160000
DTEND;TZID=America/Sao_Paulo:20240119T183000
DTSTAMP:20260424T112347
CREATED:20240116T184335Z
LAST-MODIFIED:20240116T184412Z
UID:10000323-1705680000-1705689000@site.fo.usp.br
SUMMARY:Colação de Grau das Turmas 127 e 128
DESCRIPTION:
URL:https://site.fo.usp.br/evento/colacao-de-grau-das-turmas-127-e-128/
CATEGORIES:Colação de Grau
ATTACH;FMTTYPE=image/jpeg:https://site.fo.usp.br/wp-content/uploads/2024/01/Imagem-do-WhatsApp-de-2024-01-16-as-15.29.49_d547deac.jpg
END:VEVENT
BEGIN:VEVENT
DTSTART;TZID=America/Sao_Paulo:20240123T090000
DTEND;TZID=America/Sao_Paulo:20240123T120000
DTSTAMP:20260424T112347
CREATED:20240110T162458Z
LAST-MODIFIED:20240110T162526Z
UID:10000298-1706000400-1706011200@site.fo.usp.br
SUMMARY:Reunião do Comitê de Ética em Pesquisa – CEP-FOUSP
DESCRIPTION:
URL:https://site.fo.usp.br/evento/reuniao-do-comite-de-etica-em-pesquisa-cep-fousp-2/
END:VEVENT
BEGIN:VEVENT
DTSTART;TZID=America/Sao_Paulo:20240130T080000
DTEND;TZID=America/Sao_Paulo:20240130T140000
DTSTAMP:20260424T112347
CREATED:20240110T161920Z
LAST-MODIFIED:20240122T142149Z
UID:10000297-1706601600-1706623200@site.fo.usp.br
SUMMARY:Tese de Doutorado de Hermano Camelo Paiva
DESCRIPTION:
URL:https://site.fo.usp.br/evento/tese-de-doutorado-de-hermano-camelo-paiva-2/
CATEGORIES:Defesa de Tese
ATTACH;FMTTYPE=image/jpeg:https://site.fo.usp.br/wp-content/uploads/2024/01/feed-hermano.jpg
END:VEVENT
BEGIN:VEVENT
DTSTART;TZID=America/Sao_Paulo:20240201T090000
DTEND;TZID=America/Sao_Paulo:20240201T140000
DTSTAMP:20260424T112347
CREATED:20240122T141624Z
LAST-MODIFIED:20240122T141641Z
UID:10000324-1706778000-1706796000@site.fo.usp.br
SUMMARY:Tese de Doutorado de Gustavo Alberto Rubino
DESCRIPTION:
URL:https://site.fo.usp.br/evento/tese-de-doutorado-de-gustavo-alberto-rubino/
CATEGORIES:Defesa de Tese
ATTACH;FMTTYPE=image/jpeg:https://site.fo.usp.br/wp-content/uploads/2024/01/feed-gustavo.jpg
END:VEVENT
BEGIN:VEVENT
DTSTART;TZID=America/Sao_Paulo:20240202T090000
DTEND;TZID=America/Sao_Paulo:20240202T140000
DTSTAMP:20260424T112347
CREATED:20231221T190832Z
LAST-MODIFIED:20231221T192257Z
UID:10000287-1706864400-1706882400@site.fo.usp.br
SUMMARY:Dissertação de Mestrado de Marina Nogueira de Castro Galvão Corrente
DESCRIPTION:
URL:https://site.fo.usp.br/evento/dissertacao-de-mestrado-de-marina-nogueira-de-castro-galvao-corrente/
CATEGORIES:Defesa de Tese
ATTACH;FMTTYPE=image/jpeg:https://site.fo.usp.br/wp-content/uploads/2023/12/2-1.jpg
END:VEVENT
BEGIN:VEVENT
DTSTART;TZID=America/Sao_Paulo:20240205T140000
DTEND;TZID=America/Sao_Paulo:20240205T190000
DTSTAMP:20260424T112347
CREATED:20231221T190928Z
LAST-MODIFIED:20231221T191926Z
UID:10000288-1707141600-1707159600@site.fo.usp.br
SUMMARY:Tese de Doutorado de Anaeliza Figueiredo dos Santos
DESCRIPTION:
URL:https://site.fo.usp.br/evento/tese-de-doutorado-de-anaeliza-figueiredo-dos-santos/
CATEGORIES:Defesa de Tese
ATTACH;FMTTYPE=image/jpeg:https://site.fo.usp.br/wp-content/uploads/2023/12/3-2.jpg
END:VEVENT
END:VCALENDAR