BEGIN:VCALENDAR
VERSION:2.0
PRODID:-//FOUSP - ECPv6.15.20//NONSGML v1.0//EN
CALSCALE:GREGORIAN
METHOD:PUBLISH
X-WR-CALNAME:FOUSP
X-ORIGINAL-URL:https://site.fo.usp.br
X-WR-CALDESC:Eventos para FOUSP
REFRESH-INTERVAL;VALUE=DURATION:PT1H
X-Robots-Tag:noindex
X-PUBLISHED-TTL:PT1H
BEGIN:VTIMEZONE
TZID:America/Sao_Paulo
BEGIN:STANDARD
TZOFFSETFROM:-0300
TZOFFSETTO:-0300
TZNAME:-03
DTSTART:20230101T000000
END:STANDARD
END:VTIMEZONE
BEGIN:VEVENT
DTSTART;TZID=America/Sao_Paulo:20240402T090000
DTEND;TZID=America/Sao_Paulo:20240402T120000
DTSTAMP:20260424T131009
CREATED:20240110T162306Z
LAST-MODIFIED:20240208T130005Z
UID:10000301-1712048400-1712059200@site.fo.usp.br
SUMMARY:Reunião do Comitê de Ética em Pesquisa – CEP-FOUSP
DESCRIPTION:
URL:https://site.fo.usp.br/evento/reuniao-do-comite-de-etica-em-pesquisa-cep-fousp/2024-04-02/
END:VEVENT
BEGIN:VEVENT
DTSTART;TZID=America/Sao_Paulo:20240403T083000
DTEND;TZID=America/Sao_Paulo:20240403T103000
DTSTAMP:20260424T131009
CREATED:20240208T185843Z
LAST-MODIFIED:20240208T185857Z
UID:10000341-1712133000-1712140200@site.fo.usp.br
SUMMARY:Cerimônia de Outorga de Título de Pós-Graduação aos alunos que defenderam tese em 2023
DESCRIPTION:Biblioteca Brasiliana Guita e José Mindlin\, Rua da Biblioteca\, USP
URL:https://site.fo.usp.br/evento/cerimonia-de-outorga-de-titulo-de-pos-graduacao-aos-alunos-que-defenderam-tese-em-2023/
CATEGORIES:Formatura
ATTACH;FMTTYPE=image/jpeg:https://site.fo.usp.br/wp-content/uploads/2024/02/Convite-PG-2023-1.jpg
END:VEVENT
BEGIN:VEVENT
DTSTART;TZID=America/Sao_Paulo:20240404T150000
DTEND;TZID=America/Sao_Paulo:20240404T200000
DTSTAMP:20260424T131009
CREATED:20240327T131939Z
LAST-MODIFIED:20240327T131947Z
UID:10000382-1712242800-1712260800@site.fo.usp.br
SUMMARY:Dissertação de Mestrado de Joyce Araújo de Barros
DESCRIPTION:
URL:https://site.fo.usp.br/evento/dissertacao-de-mestrado-de-joyce-araujo-de-barros/
CATEGORIES:Defesa de Tese
ATTACH;FMTTYPE=image/jpeg:https://site.fo.usp.br/wp-content/uploads/2024/03/Joyce-feed.jpg
END:VEVENT
BEGIN:VEVENT
DTSTART;TZID=America/Sao_Paulo:20240408T110000
DTEND;TZID=America/Sao_Paulo:20240408T120000
DTSTAMP:20260424T131009
CREATED:20240326T125853Z
LAST-MODIFIED:20240326T131239Z
UID:10000381-1712574000-1712577600@site.fo.usp.br
SUMMARY:Reunião da Comissão Coordenadora do Programa de Ciências Odontológicas
DESCRIPTION:
URL:https://site.fo.usp.br/evento/reuniao-da-comissao-coordenadora-do-programa-de-ciencias-odontologicas-2/2024-04-08/
CATEGORIES:Reunião
END:VEVENT
BEGIN:VEVENT
DTSTART;TZID=America/Sao_Paulo:20240410T083000
DTEND;TZID=America/Sao_Paulo:20240410T110000
DTSTAMP:20260424T131009
CREATED:20240408T175202Z
LAST-MODIFIED:20240408T175415Z
UID:10000385-1712737800-1712746800@site.fo.usp.br
SUMMARY:Reunião da Comissão de Pós Graduação
DESCRIPTION:
URL:https://site.fo.usp.br/evento/reuniao-da-comissao-de-pos-graduacao-11/2024-04-10/
CATEGORIES:Comissão de Pós-Graduação,Reunião
END:VEVENT
BEGIN:VEVENT
DTSTART;TZID=America/Sao_Paulo:20240410T140000
DTEND;TZID=America/Sao_Paulo:20240410T190000
DTSTAMP:20260424T131009
CREATED:20240314T142456Z
LAST-MODIFIED:20240325T181053Z
UID:10000372-1712757600-1712775600@site.fo.usp.br
SUMMARY:Dissertação de Mestrado de Rafael Pereira de Mendonça
DESCRIPTION:
URL:https://site.fo.usp.br/evento/dissertacao-de-mestrado-de-rafael-pereira-de-mendonca/
CATEGORIES:Defesa de Tese
ATTACH;FMTTYPE=image/jpeg:https://site.fo.usp.br/wp-content/uploads/2024/03/Tese-FEED.jpg
END:VEVENT
BEGIN:VEVENT
DTSTART;TZID=America/Sao_Paulo:20240412T090000
DTEND;TZID=America/Sao_Paulo:20240412T110000
DTSTAMP:20260424T131009
CREATED:20240220T103324Z
LAST-MODIFIED:20240220T103334Z
UID:10000348-1712912400-1712919600@site.fo.usp.br
SUMMARY:Reunião CCExFO
DESCRIPTION:
URL:https://site.fo.usp.br/evento/reuniao-ccexfo/2024-04-12/
CATEGORIES:Reunião
END:VEVENT
BEGIN:VEVENT
DTSTART;TZID=America/Sao_Paulo:20240412T140000
DTEND;TZID=America/Sao_Paulo:20240412T190000
DTSTAMP:20260424T131009
CREATED:20240327T132021Z
LAST-MODIFIED:20240327T132033Z
UID:10000383-1712930400-1712948400@site.fo.usp.br
SUMMARY:Dissertação de Mestrado de Weliton Nepomuceno Rodrigues
DESCRIPTION:
URL:https://site.fo.usp.br/evento/dissertacao-de-mestrado-de-weliton-nepomuceno-rodrigues/
CATEGORIES:Defesa de Tese
ATTACH;FMTTYPE=image/jpeg:https://site.fo.usp.br/wp-content/uploads/2024/03/Weliton-feed.jpg
END:VEVENT
BEGIN:VEVENT
DTSTART;TZID=America/Sao_Paulo:20240416T090000
DTEND;TZID=America/Sao_Paulo:20240416T110000
DTSTAMP:20260424T131009
CREATED:20240412T192852Z
LAST-MODIFIED:20240412T192906Z
UID:10000394-1713258000-1713265200@site.fo.usp.br
SUMMARY:Palestra com o Prof. Dr. Mário Brondani no Anfiteatro do CRAI
DESCRIPTION:
URL:https://site.fo.usp.br/evento/palestra-com-o-prof-dr-mario-brondani-no-anfiteatro-do-crai/
CATEGORIES:Palestra
ATTACH;FMTTYPE=image/jpeg:https://site.fo.usp.br/wp-content/uploads/2024/04/2-1.jpg
END:VEVENT
BEGIN:VEVENT
DTSTART;TZID=America/Sao_Paulo:20240417T140000
DTEND;TZID=America/Sao_Paulo:20240417T160000
DTSTAMP:20260424T131009
CREATED:20240412T193733Z
LAST-MODIFIED:20240415T160145Z
UID:10000395-1713362400-1713369600@site.fo.usp.br
SUMMARY:Palestra com o Prof. Dr. Mário Brondani no Anfiteatro da Ortodontia
DESCRIPTION:
URL:https://site.fo.usp.br/evento/palestra-com-o-prof-dr-mario-brondani-no-anfiteatro-da-ortodontia/
CATEGORIES:Palestra
ATTACH;FMTTYPE=image/jpeg:https://site.fo.usp.br/wp-content/uploads/2024/04/1-1.jpg
END:VEVENT
BEGIN:VEVENT
DTSTART;TZID=America/Sao_Paulo:20240420T090000
DTEND;TZID=America/Sao_Paulo:20240420T120000
DTSTAMP:20260424T131009
CREATED:20240326T131337Z
LAST-MODIFIED:20240326T131337Z
UID:10000380-1713603600-1713614400@site.fo.usp.br
SUMMARY:Reunião da Comissão Coordenadora do Programa de Ciências Odontológicas
DESCRIPTION:
URL:https://site.fo.usp.br/evento/reuniao-da-comissao-coordenadora-do-programa-de-ciencias-odontologicas-3/
CATEGORIES:Reunião
END:VEVENT
BEGIN:VEVENT
DTSTART;TZID=America/Sao_Paulo:20240422T090000
DTEND;TZID=America/Sao_Paulo:20240422T130000
DTSTAMP:20260424T131009
CREATED:20240405T222220Z
LAST-MODIFIED:20240405T222230Z
UID:10000384-1713776400-1713790800@site.fo.usp.br
SUMMARY:Dissertação de Mestrado de Mariana Massuda
DESCRIPTION:
URL:https://site.fo.usp.br/evento/dissertacao-de-mestrado-de-mariana-massuda/
CATEGORIES:Defesa de Tese
ATTACH;FMTTYPE=image/jpeg:https://site.fo.usp.br/wp-content/uploads/2024/04/Tese-FEED.jpg
END:VEVENT
BEGIN:VEVENT
DTSTART;TZID=America/Sao_Paulo:20240423T083000
DTEND;TZID=America/Sao_Paulo:20240423T143000
DTSTAMP:20260424T131009
CREATED:20240314T142410Z
LAST-MODIFIED:20240314T142422Z
UID:10000371-1713861000-1713882600@site.fo.usp.br
SUMMARY:Tese de Doutorado Direto de Gabriela do Manco Machado
DESCRIPTION:
URL:https://site.fo.usp.br/evento/tese-de-doutorado-direto-de-gabriela-do-manco-machado/
CATEGORIES:Defesa de Tese
ATTACH;FMTTYPE=image/jpeg:https://site.fo.usp.br/wp-content/uploads/2024/03/3-1.jpg
END:VEVENT
BEGIN:VEVENT
DTSTART;TZID=America/Sao_Paulo:20240425T090000
DTEND;TZID=America/Sao_Paulo:20240425T120000
DTSTAMP:20260424T131009
CREATED:20231113T125744Z
LAST-MODIFIED:20231113T125749Z
UID:10000257-1714035600-1714046400@site.fo.usp.br
SUMMARY:Reunião da Congregação
DESCRIPTION:
URL:https://site.fo.usp.br/evento/reuniao-da-congregacao/2024-04-25/
CATEGORIES:Congregação
END:VEVENT
BEGIN:VEVENT
DTSTART;TZID=America/Sao_Paulo:20240429T140000
DTEND;TZID=America/Sao_Paulo:20240429T190000
DTSTAMP:20260424T131009
CREATED:20240408T184232Z
LAST-MODIFIED:20240408T184244Z
UID:10000393-1714399200-1714417200@site.fo.usp.br
SUMMARY:Dissertação de Mestrado de Gustavo Souza Galvão
DESCRIPTION:
URL:https://site.fo.usp.br/evento/dissertacao-de-mestrado-de-gustavo-souza-galvao/
CATEGORIES:Defesa de Tese
ATTACH;FMTTYPE=image/jpeg:https://site.fo.usp.br/wp-content/uploads/2024/04/Feed-Gustavo.jpg
END:VEVENT
BEGIN:VEVENT
DTSTART;TZID=America/Sao_Paulo:20240430T100000
DTEND;TZID=America/Sao_Paulo:20240430T120000
DTSTAMP:20260424T131009
CREATED:20240314T135434Z
LAST-MODIFIED:20240314T135445Z
UID:10000366-1714471200-1714478400@site.fo.usp.br
SUMMARY:Treinamento EndNote WEB para o 1º Semestre de 2024
DESCRIPTION:
URL:https://site.fo.usp.br/evento/treinamento-endnote-web-para-o-1o-semestre-de-2024/2024-04-30/
CATEGORIES:Treinamento
ATTACH;FMTTYPE=image/jpeg:https://site.fo.usp.br/wp-content/uploads/2024/03/2024-Comunicados-FOUSP-5.jpg
END:VEVENT
BEGIN:VEVENT
DTSTART;TZID=America/Sao_Paulo:20240502T090000
DTEND;TZID=America/Sao_Paulo:20240502T130000
DTSTAMP:20260424T131009
CREATED:20240415T155707Z
LAST-MODIFIED:20240415T155721Z
UID:10000398-1714640400-1714654800@site.fo.usp.br
SUMMARY:Dissertação de Mestrado de Maria Cristina Pereira Macario Ferreira
DESCRIPTION:
URL:https://site.fo.usp.br/evento/dissertacao-de-mestrado-de-maria-cristina-pereira-macario-ferreira/
CATEGORIES:Defesa de Tese
ATTACH;FMTTYPE=image/jpeg:https://site.fo.usp.br/wp-content/uploads/2024/04/10.jpg
END:VEVENT
BEGIN:VEVENT
DTSTART;TZID=America/Sao_Paulo:20240503T140000
DTEND;TZID=America/Sao_Paulo:20240503T190000
DTSTAMP:20260424T131009
CREATED:20240415T155636Z
LAST-MODIFIED:20240415T155647Z
UID:10000397-1714744800-1714762800@site.fo.usp.br
SUMMARY:Dissertação de Mestrado de Carolina Alves Andrade
DESCRIPTION:
URL:https://site.fo.usp.br/evento/dissertacao-de-mestrado-de-carolina-alves-andrade/
CATEGORIES:Defesa de Tese
ATTACH;FMTTYPE=image/jpeg:https://site.fo.usp.br/wp-content/uploads/2024/04/9.jpg
END:VEVENT
BEGIN:VEVENT
DTSTART;TZID=America/Sao_Paulo:20240506T090000
DTEND;TZID=America/Sao_Paulo:20240506T140000
DTSTAMP:20260424T131009
CREATED:20240304T133105Z
LAST-MODIFIED:20240304T133129Z
UID:10000362-1714986000-1715004000@site.fo.usp.br
SUMMARY:Tese de Doutorado de Letícia Oba Sakae
DESCRIPTION:
URL:https://site.fo.usp.br/evento/tese-de-doutorado-de-leticia-oba-sakae/
CATEGORIES:Defesa de Tese
ATTACH;FMTTYPE=image/jpeg:https://site.fo.usp.br/wp-content/uploads/2024/03/8.jpg
END:VEVENT
BEGIN:VEVENT
DTSTART;TZID=America/Sao_Paulo:20240507T090000
DTEND;TZID=America/Sao_Paulo:20240507T120000
DTSTAMP:20260424T131009
CREATED:20240110T162306Z
LAST-MODIFIED:20240208T130005Z
UID:10000302-1715072400-1715083200@site.fo.usp.br
SUMMARY:Reunião do Comitê de Ética em Pesquisa – CEP-FOUSP
DESCRIPTION:
URL:https://site.fo.usp.br/evento/reuniao-do-comite-de-etica-em-pesquisa-cep-fousp/2024-05-07/
END:VEVENT
BEGIN:VEVENT
DTSTART;TZID=America/Sao_Paulo:20240508T110000
DTEND;TZID=America/Sao_Paulo:20240508T120000
DTSTAMP:20260424T131009
CREATED:20240326T125853Z
LAST-MODIFIED:20240326T131239Z
UID:10000334-1715166000-1715169600@site.fo.usp.br
SUMMARY:Reunião da Comissão Coordenadora do Programa de Ciências Odontológicas
DESCRIPTION:
URL:https://site.fo.usp.br/evento/reuniao-da-comissao-coordenadora-do-programa-de-ciencias-odontologicas-2/2024-05-08/
CATEGORIES:Reunião
END:VEVENT
BEGIN:VEVENT
DTSTART;TZID=America/Sao_Paulo:20240509T090000
DTEND;TZID=America/Sao_Paulo:20240509T130000
DTSTAMP:20260424T131009
CREATED:20240415T155550Z
LAST-MODIFIED:20240415T155558Z
UID:10000396-1715245200-1715259600@site.fo.usp.br
SUMMARY:Dissertação de Mestrado de Daiane Betiatto
DESCRIPTION:
URL:https://site.fo.usp.br/evento/dissertacao-de-mestrado-de-daiane-betiatto/
CATEGORIES:Defesa de Tese
ATTACH;FMTTYPE=image/jpeg:https://site.fo.usp.br/wp-content/uploads/2024/04/8.jpg
END:VEVENT
BEGIN:VEVENT
DTSTART;TZID=America/Sao_Paulo:20240509T170000
DTEND;TZID=America/Sao_Paulo:20240509T190000
DTSTAMP:20260424T131009
CREATED:20240429T191110Z
LAST-MODIFIED:20240429T191118Z
UID:10000410-1715274000-1715281200@site.fo.usp.br
SUMMARY:CCANI Club
DESCRIPTION:
URL:https://site.fo.usp.br/evento/ccani-club/
CATEGORIES:Encontro
ATTACH;FMTTYPE=image/jpeg:https://site.fo.usp.br/wp-content/uploads/2024/04/1-3.jpg
END:VEVENT
BEGIN:VEVENT
DTSTART;TZID=America/Sao_Paulo:20240510T090000
DTEND;TZID=America/Sao_Paulo:20240510T110000
DTSTAMP:20260424T131009
CREATED:20240220T103324Z
LAST-MODIFIED:20240220T103334Z
UID:10000349-1715331600-1715338800@site.fo.usp.br
SUMMARY:Reunião CCExFO
DESCRIPTION:
URL:https://site.fo.usp.br/evento/reuniao-ccexfo/2024-05-10/
CATEGORIES:Reunião
END:VEVENT
BEGIN:VEVENT
DTSTART;TZID=America/Sao_Paulo:20240513T140000
DTEND;TZID=America/Sao_Paulo:20240513T190000
DTSTAMP:20260424T131009
CREATED:20240415T173849Z
LAST-MODIFIED:20240415T173902Z
UID:10000399-1715608800-1715626800@site.fo.usp.br
SUMMARY:Dissertação de Mestrado de Guilherme da Costa
DESCRIPTION:
URL:https://site.fo.usp.br/evento/dissertacao-de-mestrado-de-guilherme-da-costa/
CATEGORIES:Defesa de Tese
ATTACH;FMTTYPE=image/jpeg:https://site.fo.usp.br/wp-content/uploads/2024/04/11-feed-1.jpg
END:VEVENT
BEGIN:VEVENT
DTSTART;TZID=America/Sao_Paulo:20240515T083000
DTEND;TZID=America/Sao_Paulo:20240515T110000
DTSTAMP:20260424T131009
CREATED:20240408T175202Z
LAST-MODIFIED:20240408T175415Z
UID:10000386-1715761800-1715770800@site.fo.usp.br
SUMMARY:Reunião da Comissão de Pós Graduação
DESCRIPTION:
URL:https://site.fo.usp.br/evento/reuniao-da-comissao-de-pos-graduacao-11/2024-05-15/
CATEGORIES:Comissão de Pós-Graduação,Reunião
END:VEVENT
BEGIN:VEVENT
DTSTART;TZID=America/Sao_Paulo:20240516T140000
DTEND;TZID=America/Sao_Paulo:20240516T170000
DTSTAMP:20260424T131009
CREATED:20240226T165805Z
LAST-MODIFIED:20240226T165818Z
UID:10000360-1715868000-1715878800@site.fo.usp.br
SUMMARY:Palestra Biomimetics of color and appearance
DESCRIPTION:
URL:https://site.fo.usp.br/evento/palestra-biomimetics-of-color-and-appearance/
CATEGORIES:Palestra
ATTACH;FMTTYPE=image/jpeg:https://site.fo.usp.br/wp-content/uploads/2024/02/4-1.jpg
END:VEVENT
BEGIN:VEVENT
DTSTART;TZID=America/Sao_Paulo:20240517T090000
DTEND;TZID=America/Sao_Paulo:20240517T140000
DTSTAMP:20260424T131009
CREATED:20240314T142319Z
LAST-MODIFIED:20240314T142326Z
UID:10000370-1715936400-1715954400@site.fo.usp.br
SUMMARY:Dissertação de Mestrado de Edna Alejandra Gallardo Lopez
DESCRIPTION:
URL:https://site.fo.usp.br/evento/dissertacao-de-mestrado-de-edna-alejandra-gallardo-lopez/
CATEGORIES:Defesa de Tese
ATTACH;FMTTYPE=image/jpeg:https://site.fo.usp.br/wp-content/uploads/2024/03/2.jpg
END:VEVENT
BEGIN:VEVENT
DTSTART;TZID=America/Sao_Paulo:20240517T140000
DTEND;TZID=America/Sao_Paulo:20240517T180000
DTSTAMP:20260424T131009
CREATED:20240208T190219Z
LAST-MODIFIED:20240208T190229Z
UID:10000342-1715954400-1715968800@site.fo.usp.br
SUMMARY:50+2 - Encontro anual de PG da Periodontia
DESCRIPTION:Anfiteatro Myaki Issáo
URL:https://site.fo.usp.br/evento/502-encontro-anual-de-pg-da-periodontia/
CATEGORIES:Encontro
ATTACH;FMTTYPE=image/jpeg:https://site.fo.usp.br/wp-content/uploads/2024/02/Feed-502.jpg
END:VEVENT
BEGIN:VEVENT
DTSTART;TZID=America/Sao_Paulo:20240517T140000
DTEND;TZID=America/Sao_Paulo:20240517T190000
DTSTAMP:20260424T131009
CREATED:20240321T163358Z
LAST-MODIFIED:20240321T163407Z
UID:10000373-1715954400-1715972400@site.fo.usp.br
SUMMARY:Dissertação de Mestrado de Alice Souza Villar Cassimiro Fonseca
DESCRIPTION:
URL:https://site.fo.usp.br/evento/dissertacao-de-mestrado-de-alice-souza-villar-cassimiro-fonseca/
CATEGORIES:Defesa de Tese
ATTACH;FMTTYPE=image/jpeg:https://site.fo.usp.br/wp-content/uploads/2024/03/Feed-Alice.jpg
END:VEVENT
END:VCALENDAR