BEGIN:VCALENDAR
VERSION:2.0
PRODID:-//FOUSP - ECPv6.15.20//NONSGML v1.0//EN
CALSCALE:GREGORIAN
METHOD:PUBLISH
X-WR-CALNAME:FOUSP
X-ORIGINAL-URL:https://site.fo.usp.br
X-WR-CALDESC:Eventos para FOUSP
REFRESH-INTERVAL;VALUE=DURATION:PT1H
X-Robots-Tag:noindex
X-PUBLISHED-TTL:PT1H
BEGIN:VTIMEZONE
TZID:America/Sao_Paulo
BEGIN:STANDARD
TZOFFSETFROM:-0300
TZOFFSETTO:-0300
TZNAME:-03
DTSTART:20230101T000000
END:STANDARD
END:VTIMEZONE
BEGIN:VEVENT
DTSTART;TZID=America/Sao_Paulo:20240508T110000
DTEND;TZID=America/Sao_Paulo:20240508T120000
DTSTAMP:20260425T212718
CREATED:20240326T125853Z
LAST-MODIFIED:20240326T131239Z
UID:10000334-1715166000-1715169600@site.fo.usp.br
SUMMARY:Reunião da Comissão Coordenadora do Programa de Ciências Odontológicas
DESCRIPTION:
URL:https://site.fo.usp.br/evento/reuniao-da-comissao-coordenadora-do-programa-de-ciencias-odontologicas-2/2024-05-08/
CATEGORIES:Reunião
END:VEVENT
BEGIN:VEVENT
DTSTART;TZID=America/Sao_Paulo:20240509T090000
DTEND;TZID=America/Sao_Paulo:20240509T130000
DTSTAMP:20260425T212718
CREATED:20240415T155550Z
LAST-MODIFIED:20240415T155558Z
UID:10000396-1715245200-1715259600@site.fo.usp.br
SUMMARY:Dissertação de Mestrado de Daiane Betiatto
DESCRIPTION:
URL:https://site.fo.usp.br/evento/dissertacao-de-mestrado-de-daiane-betiatto/
CATEGORIES:Defesa de Tese
ATTACH;FMTTYPE=image/jpeg:https://site.fo.usp.br/wp-content/uploads/2024/04/8.jpg
END:VEVENT
BEGIN:VEVENT
DTSTART;TZID=America/Sao_Paulo:20240509T170000
DTEND;TZID=America/Sao_Paulo:20240509T190000
DTSTAMP:20260425T212718
CREATED:20240429T191110Z
LAST-MODIFIED:20240429T191118Z
UID:10000410-1715274000-1715281200@site.fo.usp.br
SUMMARY:CCANI Club
DESCRIPTION:
URL:https://site.fo.usp.br/evento/ccani-club/
CATEGORIES:Encontro
ATTACH;FMTTYPE=image/jpeg:https://site.fo.usp.br/wp-content/uploads/2024/04/1-3.jpg
END:VEVENT
BEGIN:VEVENT
DTSTART;TZID=America/Sao_Paulo:20240510T090000
DTEND;TZID=America/Sao_Paulo:20240510T110000
DTSTAMP:20260425T212718
CREATED:20240220T103324Z
LAST-MODIFIED:20240220T103334Z
UID:10000349-1715331600-1715338800@site.fo.usp.br
SUMMARY:Reunião CCExFO
DESCRIPTION:
URL:https://site.fo.usp.br/evento/reuniao-ccexfo/2024-05-10/
CATEGORIES:Reunião
END:VEVENT
BEGIN:VEVENT
DTSTART;TZID=America/Sao_Paulo:20240513T140000
DTEND;TZID=America/Sao_Paulo:20240513T190000
DTSTAMP:20260425T212718
CREATED:20240415T173849Z
LAST-MODIFIED:20240415T173902Z
UID:10000399-1715608800-1715626800@site.fo.usp.br
SUMMARY:Dissertação de Mestrado de Guilherme da Costa
DESCRIPTION:
URL:https://site.fo.usp.br/evento/dissertacao-de-mestrado-de-guilherme-da-costa/
CATEGORIES:Defesa de Tese
ATTACH;FMTTYPE=image/jpeg:https://site.fo.usp.br/wp-content/uploads/2024/04/11-feed-1.jpg
END:VEVENT
BEGIN:VEVENT
DTSTART;TZID=America/Sao_Paulo:20240515T083000
DTEND;TZID=America/Sao_Paulo:20240515T110000
DTSTAMP:20260425T212718
CREATED:20240408T175202Z
LAST-MODIFIED:20240408T175415Z
UID:10000386-1715761800-1715770800@site.fo.usp.br
SUMMARY:Reunião da Comissão de Pós Graduação
DESCRIPTION:
URL:https://site.fo.usp.br/evento/reuniao-da-comissao-de-pos-graduacao-11/2024-05-15/
CATEGORIES:Comissão de Pós-Graduação,Reunião
END:VEVENT
BEGIN:VEVENT
DTSTART;TZID=America/Sao_Paulo:20240516T140000
DTEND;TZID=America/Sao_Paulo:20240516T170000
DTSTAMP:20260425T212718
CREATED:20240226T165805Z
LAST-MODIFIED:20240226T165818Z
UID:10000360-1715868000-1715878800@site.fo.usp.br
SUMMARY:Palestra Biomimetics of color and appearance
DESCRIPTION:
URL:https://site.fo.usp.br/evento/palestra-biomimetics-of-color-and-appearance/
CATEGORIES:Palestra
ATTACH;FMTTYPE=image/jpeg:https://site.fo.usp.br/wp-content/uploads/2024/02/4-1.jpg
END:VEVENT
BEGIN:VEVENT
DTSTART;TZID=America/Sao_Paulo:20240517T090000
DTEND;TZID=America/Sao_Paulo:20240517T140000
DTSTAMP:20260425T212718
CREATED:20240314T142319Z
LAST-MODIFIED:20240314T142326Z
UID:10000370-1715936400-1715954400@site.fo.usp.br
SUMMARY:Dissertação de Mestrado de Edna Alejandra Gallardo Lopez
DESCRIPTION:
URL:https://site.fo.usp.br/evento/dissertacao-de-mestrado-de-edna-alejandra-gallardo-lopez/
CATEGORIES:Defesa de Tese
ATTACH;FMTTYPE=image/jpeg:https://site.fo.usp.br/wp-content/uploads/2024/03/2.jpg
END:VEVENT
BEGIN:VEVENT
DTSTART;TZID=America/Sao_Paulo:20240517T140000
DTEND;TZID=America/Sao_Paulo:20240517T180000
DTSTAMP:20260425T212718
CREATED:20240208T190219Z
LAST-MODIFIED:20240208T190229Z
UID:10000342-1715954400-1715968800@site.fo.usp.br
SUMMARY:50+2 - Encontro anual de PG da Periodontia
DESCRIPTION:Anfiteatro Myaki Issáo
URL:https://site.fo.usp.br/evento/502-encontro-anual-de-pg-da-periodontia/
CATEGORIES:Encontro
ATTACH;FMTTYPE=image/jpeg:https://site.fo.usp.br/wp-content/uploads/2024/02/Feed-502.jpg
END:VEVENT
BEGIN:VEVENT
DTSTART;TZID=America/Sao_Paulo:20240517T140000
DTEND;TZID=America/Sao_Paulo:20240517T190000
DTSTAMP:20260425T212718
CREATED:20240321T163358Z
LAST-MODIFIED:20240321T163407Z
UID:10000373-1715954400-1715972400@site.fo.usp.br
SUMMARY:Dissertação de Mestrado de Alice Souza Villar Cassimiro Fonseca
DESCRIPTION:
URL:https://site.fo.usp.br/evento/dissertacao-de-mestrado-de-alice-souza-villar-cassimiro-fonseca/
CATEGORIES:Defesa de Tese
ATTACH;FMTTYPE=image/jpeg:https://site.fo.usp.br/wp-content/uploads/2024/03/Feed-Alice.jpg
END:VEVENT
BEGIN:VEVENT
DTSTART;TZID=America/Sao_Paulo:20240520T140000
DTEND;TZID=America/Sao_Paulo:20240520T190000
DTSTAMP:20260425T212718
CREATED:20240419T064125Z
LAST-MODIFIED:20240419T064140Z
UID:10000406-1716213600-1716231600@site.fo.usp.br
SUMMARY:Dissertação de Mestrado de Fabiana Bracco
DESCRIPTION:
URL:https://site.fo.usp.br/evento/dissertacao-de-mestrado-de-fabiana-bracco/
CATEGORIES:Defesa de Tese
ATTACH;FMTTYPE=image/jpeg:https://site.fo.usp.br/wp-content/uploads/2024/04/13.jpg
END:VEVENT
BEGIN:VEVENT
DTSTART;TZID=America/Sao_Paulo:20240521T140000
DTEND;TZID=America/Sao_Paulo:20240521T190000
DTSTAMP:20260425T212718
CREATED:20240419T064047Z
LAST-MODIFIED:20240419T064100Z
UID:10000405-1716300000-1716318000@site.fo.usp.br
SUMMARY:Dissertação de Mestrado de Thaís Samarina Sousa Lopes Mello
DESCRIPTION:
URL:https://site.fo.usp.br/evento/dissertacao-de-mestrado-de-thais-samarina-sousa-lopes-mello/
CATEGORIES:Defesa de Tese
ATTACH;FMTTYPE=image/jpeg:https://site.fo.usp.br/wp-content/uploads/2024/04/14.jpg
END:VEVENT
BEGIN:VEVENT
DTSTART;TZID=America/Sao_Paulo:20240522T083000
DTEND;TZID=America/Sao_Paulo:20240522T143000
DTSTAMP:20260425T212718
CREATED:20240314T142109Z
LAST-MODIFIED:20240522T145813Z
UID:10000369-1716366600-1716388200@site.fo.usp.br
SUMMARY:Tese de Doutorado Direto de Rokaia Ahmed Khairi Elhusseini Elagami
DESCRIPTION:
URL:https://site.fo.usp.br/evento/tese-de-doutorado-direto-de-rokaia-ahmed-khairi-elhusseini-elagami/
LOCATION:Anfiteatro Myaki Issáo\, Avenida Professor Lineu Prestes\, 2227\, São Paulo\, SP\, 05508-000\, Brasil
CATEGORIES:Defesa de Tese
ATTACH;FMTTYPE=image/jpeg:https://site.fo.usp.br/wp-content/uploads/2024/03/1-1.jpg
END:VEVENT
BEGIN:VEVENT
DTSTART;TZID=America/Sao_Paulo:20240522T090000
DTEND;TZID=America/Sao_Paulo:20240522T140000
DTSTAMP:20260425T212718
CREATED:20240419T064203Z
LAST-MODIFIED:20240419T064217Z
UID:10000407-1716368400-1716386400@site.fo.usp.br
SUMMARY:Dissertação de Mestrado de Milena Fernandes Corrêa
DESCRIPTION:
URL:https://site.fo.usp.br/evento/dissertacao-de-mestrado-de-milena-fernandes-correa/
CATEGORIES:Defesa de Tese
ATTACH;FMTTYPE=image/jpeg:https://site.fo.usp.br/wp-content/uploads/2024/04/12.jpg
END:VEVENT
BEGIN:VEVENT
DTSTART;TZID=America/Sao_Paulo:20240523T090000
DTEND;TZID=America/Sao_Paulo:20240526T120000
DTSTAMP:20260425T212718
CREATED:20231113T130314Z
LAST-MODIFIED:20231113T130321Z
UID:10000263-1716454800-1716724800@site.fo.usp.br
SUMMARY:Reunião do CTA
DESCRIPTION:
URL:https://site.fo.usp.br/evento/reuniao-do-cta-6/2024-05-23/
CATEGORIES:Conselho Técnico Administrativo
END:VEVENT
BEGIN:VEVENT
DTSTART;TZID=America/Sao_Paulo:20240523T123000
DTEND;TZID=America/Sao_Paulo:20240523T133000
DTSTAMP:20260425T212718
CREATED:20240522T174254Z
LAST-MODIFIED:20240522T191252Z
UID:10000418-1716467400-1716471000@site.fo.usp.br
SUMMARY:23/05/2024: LAMUC no Saguão principal
DESCRIPTION:
URL:https://site.fo.usp.br/evento/23-05-2024-lamuc-no-saguao-principal/
CATEGORIES:Aula Aberta
ATTACH;FMTTYPE=image/jpeg:https://site.fo.usp.br/wp-content/uploads/2024/05/LAMUC-23.05.23-FOUSP-1-scaled.jpg
END:VEVENT
BEGIN:VEVENT
DTSTART;TZID=America/Sao_Paulo:20240529T100000
DTEND;TZID=America/Sao_Paulo:20240529T120000
DTSTAMP:20260425T212718
CREATED:20240314T135434Z
LAST-MODIFIED:20240314T135445Z
UID:10000367-1716976800-1716984000@site.fo.usp.br
SUMMARY:Treinamento EndNote WEB para o 1º Semestre de 2024
DESCRIPTION:
URL:https://site.fo.usp.br/evento/treinamento-endnote-web-para-o-1o-semestre-de-2024/2024-05-29/
CATEGORIES:Treinamento
ATTACH;FMTTYPE=image/jpeg:https://site.fo.usp.br/wp-content/uploads/2024/03/2024-Comunicados-FOUSP-5.jpg
END:VEVENT
BEGIN:VEVENT
DTSTART;TZID=America/Sao_Paulo:20240604T090000
DTEND;TZID=America/Sao_Paulo:20240604T120000
DTSTAMP:20260425T212718
CREATED:20240110T162306Z
LAST-MODIFIED:20240208T130005Z
UID:10000303-1717491600-1717502400@site.fo.usp.br
SUMMARY:Reunião do Comitê de Ética em Pesquisa – CEP-FOUSP
DESCRIPTION:
URL:https://site.fo.usp.br/evento/reuniao-do-comite-de-etica-em-pesquisa-cep-fousp/2024-06-04/
END:VEVENT
BEGIN:VEVENT
DTSTART;TZID=America/Sao_Paulo:20240605T110000
DTEND;TZID=America/Sao_Paulo:20240605T120000
DTSTAMP:20260425T212718
CREATED:20240326T125853Z
LAST-MODIFIED:20240326T131239Z
UID:10000335-1717585200-1717588800@site.fo.usp.br
SUMMARY:Reunião da Comissão Coordenadora do Programa de Ciências Odontológicas
DESCRIPTION:
URL:https://site.fo.usp.br/evento/reuniao-da-comissao-coordenadora-do-programa-de-ciencias-odontologicas-2/2024-06-05/
CATEGORIES:Reunião
END:VEVENT
BEGIN:VEVENT
DTSTART;TZID=America/Sao_Paulo:20240607T080000
DTEND;TZID=America/Sao_Paulo:20240607T130000
DTSTAMP:20260425T212718
CREATED:20240419T063816Z
LAST-MODIFIED:20240419T063828Z
UID:10000402-1717747200-1717765200@site.fo.usp.br
SUMMARY:Tese de Doutorado de Camila Maldonado Huanca
DESCRIPTION:
URL:https://site.fo.usp.br/evento/tese-de-doutorado-de-camila-maldonado-huanca/
CATEGORIES:Defesa de Tese
ATTACH;FMTTYPE=image/jpeg:https://site.fo.usp.br/wp-content/uploads/2024/04/17.jpg
END:VEVENT
BEGIN:VEVENT
DTSTART;TZID=America/Sao_Paulo:20240607T080000
DTEND;TZID=America/Sao_Paulo:20240607T130000
DTSTAMP:20260425T212718
CREATED:20240423T150023Z
LAST-MODIFIED:20240423T150631Z
UID:10000408-1717747200-1717765200@site.fo.usp.br
SUMMARY:3º Encontro de Simulação do Lab.Sim 2024
DESCRIPTION:
URL:https://site.fo.usp.br/evento/3o-encontro-de-simulacao-do-lab-sim-2024/
CATEGORIES:Encontro
ATTACH;FMTTYPE=image/jpeg:https://site.fo.usp.br/wp-content/uploads/2024/04/Template-LITS-FEED.jpg
END:VEVENT
BEGIN:VEVENT
DTSTART;TZID=America/Sao_Paulo:20240607T090000
DTEND;TZID=America/Sao_Paulo:20240607T110000
DTSTAMP:20260425T212718
CREATED:20240220T103324Z
LAST-MODIFIED:20240220T103334Z
UID:10000350-1717750800-1717758000@site.fo.usp.br
SUMMARY:Reunião CCExFO
DESCRIPTION:
URL:https://site.fo.usp.br/evento/reuniao-ccexfo/2024-06-07/
CATEGORIES:Reunião
END:VEVENT
BEGIN:VEVENT
DTSTART;TZID=America/Sao_Paulo:20240610T140000
DTEND;TZID=America/Sao_Paulo:20240610T190000
DTSTAMP:20260425T212718
CREATED:20240517T110010Z
LAST-MODIFIED:20240517T182727Z
UID:10000412-1718028000-1718046000@site.fo.usp.br
SUMMARY:Dissertação de Mestrado de Shirley Maklane Gomes Soares
DESCRIPTION:
URL:https://site.fo.usp.br/evento/dissertacao-de-mestrado-de-shirley-maklane-gomes-soares/
CATEGORIES:Defesa de Tese
ATTACH;FMTTYPE=image/jpeg:https://site.fo.usp.br/wp-content/uploads/2024/05/12-2.jpg
END:VEVENT
BEGIN:VEVENT
DTSTART;TZID=America/Sao_Paulo:20240611T080000
DTEND;TZID=America/Sao_Paulo:20240611T090000
DTSTAMP:20260425T212718
CREATED:20240607T200513Z
LAST-MODIFIED:20240607T200523Z
UID:10000387-1718092800-1718096400@site.fo.usp.br
SUMMARY:Reunião da Comissão de Pós Graduação
DESCRIPTION:
URL:https://site.fo.usp.br/evento/reuniao-da-comissao-de-pos-graduacao-12/
CATEGORIES:Comissão de Pós-Graduação,Reunião
END:VEVENT
BEGIN:VEVENT
DTSTART;TZID=America/Sao_Paulo:20240612T123000
DTEND;TZID=America/Sao_Paulo:20240612T133000
DTSTAMP:20260425T212718
CREATED:20240529T185800Z
LAST-MODIFIED:20240603T191528Z
UID:10000420-1718195400-1718199000@site.fo.usp.br
SUMMARY:Evento IC - Como divulgar nossos achados científicos?
DESCRIPTION:
URL:https://site.fo.usp.br/evento/evento-ic-como-divulgar-nossos-achados-cientificos/
CATEGORIES:Aula Aberta
ATTACH;FMTTYPE=image/jpeg:https://site.fo.usp.br/wp-content/uploads/2024/05/Imagem-do-WhatsApp-de-2024-06-03-as-15.56.13_dc27b94b.jpg
END:VEVENT
BEGIN:VEVENT
DTSTART;TZID=America/Sao_Paulo:20240614T083000
DTEND;TZID=America/Sao_Paulo:20240614T133000
DTSTAMP:20260425T212718
CREATED:20240517T160933Z
LAST-MODIFIED:20240517T160944Z
UID:10000415-1718353800-1718371800@site.fo.usp.br
SUMMARY:Tese de Doutorado de Marcella Rodrigues Ueda Fernandes
DESCRIPTION:
URL:https://site.fo.usp.br/evento/tese-de-doutorado-de-marcella-rodrigues-ueda-fernandes/
CATEGORIES:Defesa de Tese
ATTACH;FMTTYPE=image/jpeg:https://site.fo.usp.br/wp-content/uploads/2024/05/14.jpg
END:VEVENT
BEGIN:VEVENT
DTSTART;TZID=America/Sao_Paulo:20240614T090000
DTEND;TZID=America/Sao_Paulo:20240614T140000
DTSTAMP:20260425T212718
CREATED:20240419T063954Z
LAST-MODIFIED:20240423T162830Z
UID:10000404-1718355600-1718373600@site.fo.usp.br
SUMMARY:Dissertação de Mestrado de Lisa Milanesi Trevisan
DESCRIPTION:
URL:https://site.fo.usp.br/evento/dissertacao-de-mestrado-de-lisa-milanesi-trevisan/
CATEGORIES:Defesa de Tese
ATTACH;FMTTYPE=image/jpeg:https://site.fo.usp.br/wp-content/uploads/2024/04/15-1.jpg
END:VEVENT
BEGIN:VEVENT
DTSTART;TZID=America/Sao_Paulo:20240614T133000
DTEND;TZID=America/Sao_Paulo:20240614T183000
DTSTAMP:20260425T212718
CREATED:20240419T063914Z
LAST-MODIFIED:20240419T063925Z
UID:10000403-1718371800-1718389800@site.fo.usp.br
SUMMARY:Tese de Doutorado de Gabriela Sá Oliveira
DESCRIPTION:
URL:https://site.fo.usp.br/evento/tese-de-doutorado-de-gabriela-sa-oliveira/
CATEGORIES:Defesa de Tese
ATTACH;FMTTYPE=image/jpeg:https://site.fo.usp.br/wp-content/uploads/2024/04/16.jpg
END:VEVENT
BEGIN:VEVENT
DTSTART;TZID=America/Sao_Paulo:20240617T140000
DTEND;TZID=America/Sao_Paulo:20240617T190000
DTSTAMP:20260425T212718
CREATED:20240606T160930Z
LAST-MODIFIED:20240606T160939Z
UID:10000422-1718632800-1718650800@site.fo.usp.br
SUMMARY:Tese de Doutorado de Nathalia Vilela Souza
DESCRIPTION:
URL:https://site.fo.usp.br/evento/tese-de-doutorado-de-nathalia-vilela-souza/
CATEGORIES:Defesa de Tese
ATTACH;FMTTYPE=image/jpeg:https://site.fo.usp.br/wp-content/uploads/2024/06/IMG-20240606-WA0008.jpg
END:VEVENT
BEGIN:VEVENT
DTSTART;TZID=America/Sao_Paulo:20240618T133000
DTEND;TZID=America/Sao_Paulo:20240618T183000
DTSTAMP:20260425T212718
CREATED:20240419T063731Z
LAST-MODIFIED:20240419T063741Z
UID:10000401-1718717400-1718735400@site.fo.usp.br
SUMMARY:Tese de Doutorado de Bruna Di Prófio Daibs
DESCRIPTION:
URL:https://site.fo.usp.br/evento/tese-de-doutorado-de-bruna-di-profio-daibs/
CATEGORIES:Defesa de Tese
ATTACH;FMTTYPE=image/jpeg:https://site.fo.usp.br/wp-content/uploads/2024/04/18.jpg
END:VEVENT
END:VCALENDAR