BEGIN:VCALENDAR
VERSION:2.0
PRODID:-//FOUSP - ECPv6.15.20//NONSGML v1.0//EN
CALSCALE:GREGORIAN
METHOD:PUBLISH
X-WR-CALNAME:FOUSP
X-ORIGINAL-URL:https://site.fo.usp.br
X-WR-CALDESC:Eventos para FOUSP
REFRESH-INTERVAL;VALUE=DURATION:PT1H
X-Robots-Tag:noindex
X-PUBLISHED-TTL:PT1H
BEGIN:VTIMEZONE
TZID:America/Sao_Paulo
BEGIN:STANDARD
TZOFFSETFROM:-0300
TZOFFSETTO:-0300
TZNAME:-03
DTSTART:20230101T000000
END:STANDARD
END:VTIMEZONE
BEGIN:VEVENT
DTSTART;TZID=America/Sao_Paulo:20240820T083000
DTEND;TZID=America/Sao_Paulo:20240820T123000
DTSTAMP:20260424T131614
CREATED:20240614T185026Z
LAST-MODIFIED:20240614T185034Z
UID:10000433-1724142600-1724157000@site.fo.usp.br
SUMMARY:Dissertação de Mestrado de Luciana Akemi Yamaguchi Bassani
DESCRIPTION:
URL:https://site.fo.usp.br/evento/dissertacao-de-mestrado-de-luciana-akemi-yamaguchi-bassani/
CATEGORIES:Defesa de Tese
ATTACH;FMTTYPE=image/jpeg:https://site.fo.usp.br/wp-content/uploads/2024/06/Imagem-do-WhatsApp-de-2024-06-14-as-15.40.10_0ffeea0e.jpg
END:VEVENT
BEGIN:VEVENT
DTSTART;TZID=America/Sao_Paulo:20240820T143000
DTEND;TZID=America/Sao_Paulo:20240820T153000
DTSTAMP:20260424T131614
CREATED:20240807T174508Z
LAST-MODIFIED:20240807T174514Z
UID:10000457-1724164200-1724167800@site.fo.usp.br
SUMMARY:Reunião da Comissão de Pesquisa
DESCRIPTION:
URL:https://site.fo.usp.br/evento/reuniao-da-comissao-de-pesquisa/
CATEGORIES:Comissão de Pesquisa,Reunião
END:VEVENT
BEGIN:VEVENT
DTSTART;TZID=America/Sao_Paulo:20240821T130000
DTEND;TZID=America/Sao_Paulo:20240821T180000
DTSTAMP:20260424T131614
CREATED:20240729T141111Z
LAST-MODIFIED:20240801T102432Z
UID:10000452-1724245200-1724263200@site.fo.usp.br
SUMMARY:Dissertação de Mestrado de Marcos Hideki Hagy
DESCRIPTION:
URL:https://site.fo.usp.br/evento/dissertacao-de-mestrado-de-marcos-hideki-hagy-2/
CATEGORIES:Defesa de Tese
ATTACH;FMTTYPE=image/jpeg:https://site.fo.usp.br/wp-content/uploads/2024/07/Tese-FEED-1.jpg
END:VEVENT
BEGIN:VEVENT
DTSTART;TZID=America/Sao_Paulo:20240822T080000
DTEND;TZID=America/Sao_Paulo:20240822T170000
DTSTAMP:20260424T131614
CREATED:20240429T144516Z
LAST-MODIFIED:20240429T144530Z
UID:10000409-1724313600-1724346000@site.fo.usp.br
SUMMARY:1º Encontro de Pós Graduação dos cursos de Odontologia da USP
DESCRIPTION:Mais informações: @posgradfobusp | posgrad@fob.usp.br | (14) 3235-8223
URL:https://site.fo.usp.br/evento/1o-encontro-de-pos-graduacao-dos-cursos-de-odontologia-da-usp/
CATEGORIES:Encontro
ATTACH;FMTTYPE=image/png:https://site.fo.usp.br/wp-content/uploads/2024/04/svd.png
END:VEVENT
BEGIN:VEVENT
DTSTART;TZID=America/Sao_Paulo:20240822T090000
DTEND;TZID=America/Sao_Paulo:20240822T123000
DTSTAMP:20260424T131614
CREATED:20240614T191050Z
LAST-MODIFIED:20240614T191059Z
UID:10000434-1724317200-1724329800@site.fo.usp.br
SUMMARY:Dissertação de Mestrado de Stefano Pieralli
DESCRIPTION:
URL:https://site.fo.usp.br/evento/dissertacao-de-mestrado-de-stefano-pieralli/
CATEGORIES:Defesa de Tese
ATTACH;FMTTYPE=image/jpeg:https://site.fo.usp.br/wp-content/uploads/2024/06/Imagem-do-WhatsApp-de-2024-06-14-as-16.00.30_aa21ea21.jpg
END:VEVENT
BEGIN:VEVENT
DTSTART;TZID=America/Sao_Paulo:20240826T140000
DTEND;TZID=America/Sao_Paulo:20240826T190000
DTSTAMP:20260424T131614
CREATED:20240822T165746Z
LAST-MODIFIED:20240822T165752Z
UID:10000475-1724680800-1724698800@site.fo.usp.br
SUMMARY:Dissertação de Mestrado de Juliana Rosse
DESCRIPTION:
URL:https://site.fo.usp.br/evento/dissertacao-de-mestrado-de-juliana-rosse/
CATEGORIES:Defesa de Tese
ATTACH;FMTTYPE=image/png:https://site.fo.usp.br/wp-content/uploads/2024/08/Tese-FEED-16.png
END:VEVENT
BEGIN:VEVENT
DTSTART;TZID=America/Sao_Paulo:20240828T083000
DTEND;TZID=America/Sao_Paulo:20240828T180000
DTSTAMP:20260424T131614
CREATED:20240723T101024Z
LAST-MODIFIED:20240723T101030Z
UID:10000448-1724833800-1724868000@site.fo.usp.br
SUMMARY:Capacitação em Cessação de Tabagismo
DESCRIPTION:
URL:https://site.fo.usp.br/evento/capacitacao-em-cessacao-de-tabagismo/
ATTACH;FMTTYPE=image/jpeg:https://site.fo.usp.br/wp-content/uploads/2024/07/Divulgacao-Eventos-Feed-2024.jpg
END:VEVENT
BEGIN:VEVENT
DTSTART;TZID=America/Sao_Paulo:20240829T090000
DTEND;TZID=America/Sao_Paulo:20240829T120000
DTSTAMP:20260424T131614
CREATED:20231113T125744Z
LAST-MODIFIED:20231113T125749Z
UID:10000259-1724922000-1724932800@site.fo.usp.br
SUMMARY:Reunião da Congregação
DESCRIPTION:
URL:https://site.fo.usp.br/evento/reuniao-da-congregacao/2024-08-29/
CATEGORIES:Congregação
END:VEVENT
BEGIN:VEVENT
DTSTART;TZID=America/Sao_Paulo:20240829T090000
DTEND;TZID=America/Sao_Paulo:20240829T123000
DTSTAMP:20260424T131614
CREATED:20240614T192332Z
LAST-MODIFIED:20240614T192343Z
UID:10000435-1724922000-1724934600@site.fo.usp.br
SUMMARY:Dissertação de Mestrado de Camila Nogueira Chamma Wedemann
DESCRIPTION:
URL:https://site.fo.usp.br/evento/dissertacao-de-mestrado-de-camila-nogueira-chamma-wedemann/
CATEGORIES:Defesa de Tese
ATTACH;FMTTYPE=image/jpeg:https://site.fo.usp.br/wp-content/uploads/2024/06/Imagem-do-WhatsApp-de-2024-06-14-as-16.17.21_a0394e4e.jpg
END:VEVENT
BEGIN:VEVENT
DTSTART;TZID=America/Sao_Paulo:20240829T090000
DTEND;TZID=America/Sao_Paulo:20240829T140000
DTSTAMP:20260424T131614
CREATED:20240822T171505Z
LAST-MODIFIED:20240822T171511Z
UID:10000476-1724922000-1724940000@site.fo.usp.br
SUMMARY:Dissertação de Mestrado de Ricardo Ferrer
DESCRIPTION:
URL:https://site.fo.usp.br/evento/dissertacao-de-mestrado-de-ricardo-ferrer/
CATEGORIES:Defesa de Tese
ATTACH;FMTTYPE=image/png:https://site.fo.usp.br/wp-content/uploads/2024/08/Tese-FEED-17.png
END:VEVENT
BEGIN:VEVENT
DTSTART;TZID=America/Sao_Paulo:20240830T090000
DTEND;TZID=America/Sao_Paulo:20240830T140000
DTSTAMP:20260424T131614
CREATED:20240822T172502Z
LAST-MODIFIED:20240822T172507Z
UID:10000477-1725008400-1725026400@site.fo.usp.br
SUMMARY:Dissertação de Mestrado de Thays Lacerda Cavalcanti de Lima
DESCRIPTION:
URL:https://site.fo.usp.br/evento/dissertacao-de-mestrado-de-thays-lacerda-cavalcanti-de-lima/
CATEGORIES:Defesa de Tese
ATTACH;FMTTYPE=image/png:https://site.fo.usp.br/wp-content/uploads/2024/08/Tese-FEED-18.png
END:VEVENT
BEGIN:VEVENT
DTSTART;TZID=America/Sao_Paulo:20240830T090000
DTEND;TZID=America/Sao_Paulo:20240830T140000
DTSTAMP:20260424T131614
CREATED:20240822T173658Z
LAST-MODIFIED:20240822T173703Z
UID:10000478-1725008400-1725026400@site.fo.usp.br
SUMMARY:Dissertação de Mestrado de Isabela Monteiro Nicolau de Moraes
DESCRIPTION:
URL:https://site.fo.usp.br/evento/dissertacao-de-mestrado-de-isabela-monteiro-nicolau-de-moraes/
CATEGORIES:Defesa de Tese
ATTACH;FMTTYPE=image/png:https://site.fo.usp.br/wp-content/uploads/2024/08/Tese-FEED-19.png
END:VEVENT
BEGIN:VEVENT
DTSTART;TZID=America/Sao_Paulo:20240830T140000
DTEND;TZID=America/Sao_Paulo:20240830T190000
DTSTAMP:20260424T131614
CREATED:20240822T200917Z
LAST-MODIFIED:20240822T200923Z
UID:10000479-1725026400-1725044400@site.fo.usp.br
SUMMARY:Dissertação de Mestrado de Renata Mendes Orsi
DESCRIPTION:
URL:https://site.fo.usp.br/evento/dissertacao-de-mestrado-de-renata-mendes-orsi/
CATEGORIES:Defesa de Tese
ATTACH;FMTTYPE=image/png:https://site.fo.usp.br/wp-content/uploads/2024/08/Tese-FEED-20.png
END:VEVENT
BEGIN:VEVENT
DTSTART;TZID=America/Sao_Paulo:20240902T090000
DTEND;TZID=America/Sao_Paulo:20240902T120000
DTSTAMP:20260424T131614
CREATED:20240820T165149Z
LAST-MODIFIED:20240820T165155Z
UID:10000473-1725267600-1725278400@site.fo.usp.br
SUMMARY:Successful use of fiber-reinforced composites in dentistry
DESCRIPTION:
URL:https://site.fo.usp.br/evento/successful-use-of-fiber-reinforced-composites-in-dentistry/
CATEGORIES:Palestra
ATTACH;FMTTYPE=image/jpeg:https://site.fo.usp.br/wp-content/uploads/2024/08/Feed-Pekka.jpg
END:VEVENT
BEGIN:VEVENT
DTSTART;TZID=America/Sao_Paulo:20240903T090000
DTEND;TZID=America/Sao_Paulo:20240903T130000
DTSTAMP:20260424T131614
CREATED:20240819T142241Z
LAST-MODIFIED:20240902T140520Z
UID:10000463-1725354000-1725368400@site.fo.usp.br
SUMMARY:Dissertação de Mestrado de Camila Carreiro Gallo Cabral
DESCRIPTION:
URL:https://site.fo.usp.br/evento/dissertacao-de-mestrado-de-camila-carreiro-gallo-cabral/
CATEGORIES:Defesa de Tese
ATTACH;FMTTYPE=image/png:https://site.fo.usp.br/wp-content/uploads/2024/08/Tese-FEED-1.png
END:VEVENT
BEGIN:VEVENT
DTSTART;TZID=America/Sao_Paulo:20240904T110000
DTEND;TZID=America/Sao_Paulo:20240904T120000
DTSTAMP:20260424T131614
CREATED:20240326T125853Z
LAST-MODIFIED:20240326T131239Z
UID:10000337-1725447600-1725451200@site.fo.usp.br
SUMMARY:Reunião da Comissão Coordenadora do Programa de Ciências Odontológicas
DESCRIPTION:
URL:https://site.fo.usp.br/evento/reuniao-da-comissao-coordenadora-do-programa-de-ciencias-odontologicas-2/2024-09-04/
CATEGORIES:Reunião
END:VEVENT
BEGIN:VEVENT
DTSTART;TZID=America/Sao_Paulo:20240909T090000
DTEND;TZID=America/Sao_Paulo:20240909T140000
DTSTAMP:20260424T131614
CREATED:20240819T143830Z
LAST-MODIFIED:20240819T143837Z
UID:10000464-1725872400-1725890400@site.fo.usp.br
SUMMARY:Tese de Doutorado de Bernardo Correia Lima
DESCRIPTION:
URL:https://site.fo.usp.br/evento/tese-de-doutorado-de-bernardo-correia-lima/
CATEGORIES:Defesa de Tese
ATTACH;FMTTYPE=image/png:https://site.fo.usp.br/wp-content/uploads/2024/08/Tese-FEED-2.png
END:VEVENT
BEGIN:VEVENT
DTSTART;TZID=America/Sao_Paulo:20240909T100000
DTEND;TZID=America/Sao_Paulo:20240909T131500
DTSTAMP:20260424T131614
CREATED:20240821T102900Z
LAST-MODIFIED:20240821T102905Z
UID:10000474-1725876000-1725887700@site.fo.usp.br
SUMMARY:Materiais Bioativos como estratégia Preventiva e Restauradora
DESCRIPTION:
URL:https://site.fo.usp.br/evento/materiais-bioativos-como-estrategia-preventiva-e-restauradora/
ATTACH;FMTTYPE=image/jpeg:https://site.fo.usp.br/wp-content/uploads/2024/08/FOUSP-JUNJI-TAGAMI-TAIS-SCARAMUCCI-FEED-1080-x-1080-1.jpg
END:VEVENT
BEGIN:VEVENT
DTSTART;TZID=America/Sao_Paulo:20240910T090000
DTEND;TZID=America/Sao_Paulo:20240910T120000
DTSTAMP:20260424T131614
CREATED:20240110T162306Z
LAST-MODIFIED:20240208T130005Z
UID:10000306-1725958800-1725969600@site.fo.usp.br
SUMMARY:Reunião do Comitê de Ética em Pesquisa – CEP-FOUSP
DESCRIPTION:
URL:https://site.fo.usp.br/evento/reuniao-do-comite-de-etica-em-pesquisa-cep-fousp/2024-09-10/
END:VEVENT
BEGIN:VEVENT
DTSTART;TZID=America/Sao_Paulo:20240911T083000
DTEND;TZID=America/Sao_Paulo:20240911T110000
DTSTAMP:20260424T131614
CREATED:20240408T175202Z
LAST-MODIFIED:20240408T175415Z
UID:10000389-1726043400-1726052400@site.fo.usp.br
SUMMARY:Reunião da Comissão de Pós Graduação
DESCRIPTION:
URL:https://site.fo.usp.br/evento/reuniao-da-comissao-de-pos-graduacao-11/2024-09-11/
CATEGORIES:Comissão de Pós-Graduação,Reunião
END:VEVENT
BEGIN:VEVENT
DTSTART;TZID=America/Sao_Paulo:20240913T000000
DTEND;TZID=America/Sao_Paulo:20240913T235959
DTSTAMP:20260424T131614
CREATED:20240806T193049Z
LAST-MODIFIED:20240806T193158Z
UID:10000456-1726185600-1726271999@site.fo.usp.br
SUMMARY:Encerramento das Inscrições do 32º SIICUSP
DESCRIPTION:
URL:https://site.fo.usp.br/evento/encerramento-das-inscricoes-do-32o-siicusp/
CATEGORIES:Simpósio
ATTACH;FMTTYPE=image/jpeg:https://site.fo.usp.br/wp-content/uploads/2024/08/Imagem-do-WhatsApp-de-2024-08-06-as-14.50.32_112ed4d3.jpg
END:VEVENT
BEGIN:VEVENT
DTSTART;TZID=America/Sao_Paulo:20240913T090000
DTEND;TZID=America/Sao_Paulo:20240913T110000
DTSTAMP:20260424T131614
CREATED:20240313T110927Z
LAST-MODIFIED:20240313T110938Z
UID:10000352-1726218000-1726225200@site.fo.usp.br
SUMMARY:Reunião CCExFO
DESCRIPTION:
URL:https://site.fo.usp.br/evento/reuniao-ccexfo-2/
CATEGORIES:Reunião
END:VEVENT
BEGIN:VEVENT
DTSTART;TZID=America/Sao_Paulo:20240917T143000
DTEND;TZID=America/Sao_Paulo:20240917T163000
DTSTAMP:20260424T131614
CREATED:20240903T130635Z
LAST-MODIFIED:20240903T130641Z
UID:10000481-1726583400-1726590600@site.fo.usp.br
SUMMARY:Reunião da Comissão de Pesquisa
DESCRIPTION:
URL:https://site.fo.usp.br/evento/reuniao-da-comissao-de-pesquisa-2/
CATEGORIES:Comissão de Pesquisa,Reunião
END:VEVENT
BEGIN:VEVENT
DTSTART;TZID=America/Sao_Paulo:20240918T083000
DTEND;TZID=America/Sao_Paulo:20240918T133000
DTSTAMP:20260424T131614
CREATED:20240916T195452Z
LAST-MODIFIED:20240916T195459Z
UID:10000488-1726648200-1726666200@site.fo.usp.br
SUMMARY:Dissertação de Mestrado de Tatiana de Freitas Ribas Ulhôa
DESCRIPTION:
URL:https://site.fo.usp.br/evento/dissertacao-de-mestrado-de-tatiana-de-freitas-ribas-ulhoa/
CATEGORIES:Defesa de Tese
ATTACH;FMTTYPE=image/png:https://site.fo.usp.br/wp-content/uploads/2024/09/Tese-FEED-21.png
END:VEVENT
BEGIN:VEVENT
DTSTART;TZID=America/Sao_Paulo:20240918T120000
DTEND;TZID=America/Sao_Paulo:20240918T130000
DTSTAMP:20260424T131614
CREATED:20240829T111431Z
LAST-MODIFIED:20240829T111439Z
UID:10000480-1726660800-1726664400@site.fo.usp.br
SUMMARY:Saúde mental e relacionamentos interpessoais. Posso melhorar?
DESCRIPTION:
URL:https://site.fo.usp.br/evento/saude-mental-e-relacionamentos-interpessoais-posso-melhorar/
ATTACH;FMTTYPE=image/jpeg:https://site.fo.usp.br/wp-content/uploads/2024/08/Copia-de-Divulgacao-Eventos-Feed-2024.jpg
END:VEVENT
BEGIN:VEVENT
DTSTART;TZID=America/Sao_Paulo:20240919T133000
DTEND;TZID=America/Sao_Paulo:20240919T190000
DTSTAMP:20260424T131615
CREATED:20240819T150518Z
LAST-MODIFIED:20240819T151628Z
UID:10000465-1726752600-1726772400@site.fo.usp.br
SUMMARY:Tese de Doutorado de Breno Nappi Ventura
DESCRIPTION:
URL:https://site.fo.usp.br/evento/tese-de-doutorado-de-breno-nappi-ventura/
CATEGORIES:Defesa de Tese
ATTACH;FMTTYPE=image/png:https://site.fo.usp.br/wp-content/uploads/2024/08/Tese-FEED-6.png
END:VEVENT
BEGIN:VEVENT
DTSTART;TZID=America/Sao_Paulo:20240920T083000
DTEND;TZID=America/Sao_Paulo:20240920T130000
DTSTAMP:20260424T131615
CREATED:20240819T153935Z
LAST-MODIFIED:20240819T153941Z
UID:10000466-1726821000-1726837200@site.fo.usp.br
SUMMARY:Dissertação de Mestrado de Carolina de Picoli Acosta
DESCRIPTION:
URL:https://site.fo.usp.br/evento/dissertacao-de-mestrado-de-carolina-de-picoli-acosta/
CATEGORIES:Defesa de Tese
ATTACH;FMTTYPE=image/png:https://site.fo.usp.br/wp-content/uploads/2024/08/Tese-FEED-7.png
END:VEVENT
BEGIN:VEVENT
DTSTART;TZID=America/Sao_Paulo:20240923T080000
DTEND;TZID=America/Sao_Paulo:20240927T180000
DTSTAMP:20260424T131615
CREATED:20240917T144742Z
LAST-MODIFIED:20240917T144748Z
UID:10000491-1727078400-1727460000@site.fo.usp.br
SUMMARY:Congresso Universitário Brasileiro de Odontologia 2024
DESCRIPTION:
URL:https://site.fo.usp.br/evento/congresso-universitario-brasileiro-de-odontologia-2024/
CATEGORIES:Congresso
ATTACH;FMTTYPE=image/png:https://site.fo.usp.br/wp-content/uploads/2024/09/Eventos-Feed-2024.png
END:VEVENT
BEGIN:VEVENT
DTSTART;TZID=America/Sao_Paulo:20240923T160000
DTEND;TZID=America/Sao_Paulo:20240923T170000
DTSTAMP:20260424T131615
CREATED:20240916T141518Z
LAST-MODIFIED:20240917T095342Z
UID:10000487-1727107200-1727110800@site.fo.usp.br
SUMMARY:Proteômica Salivar e Bioengenharia na Prevenção e Tratamento de Doenças Orais: Avanços Recentes e Possibilidades Futuras
DESCRIPTION:
URL:https://site.fo.usp.br/evento/proteomica-salivar-e-bioengenharia-na-prevencao-e-tratamento-de-doencas-orais-avancos-recentes-e-possibilidades-futuras/
CATEGORIES:Palestra
ATTACH;FMTTYPE=image/png:https://site.fo.usp.br/wp-content/uploads/2024/09/Copia-de-Divulgacao-Eventos-Feed-2024-31.png
END:VEVENT
BEGIN:VEVENT
DTSTART;TZID=America/Sao_Paulo:20240923T170000
DTEND;TZID=America/Sao_Paulo:20240923T170000
DTSTAMP:20260424T131615
CREATED:20240917T101720Z
LAST-MODIFIED:20240917T101725Z
UID:10000490-1727110800-1727110800@site.fo.usp.br
SUMMARY:Palestra: Dividindo experiências e contextos diferentes em parcerias promissoras - Brasil x Colômbia
DESCRIPTION:
URL:https://site.fo.usp.br/evento/palestra-dividindo-experiencias-e-contextos-diferentes-em-parcerias-promissoras-brasil-x-colombia/
CATEGORIES:Palestra
ATTACH;FMTTYPE=image/jpeg:https://site.fo.usp.br/wp-content/uploads/2024/09/IMG-20240916-WA0019.jpg
END:VEVENT
END:VCALENDAR