BEGIN:VCALENDAR
VERSION:2.0
PRODID:-//FOUSP - ECPv6.15.20//NONSGML v1.0//EN
CALSCALE:GREGORIAN
METHOD:PUBLISH
X-WR-CALNAME:FOUSP
X-ORIGINAL-URL:https://site.fo.usp.br
X-WR-CALDESC:Eventos para FOUSP
REFRESH-INTERVAL;VALUE=DURATION:PT1H
X-Robots-Tag:noindex
X-PUBLISHED-TTL:PT1H
BEGIN:VTIMEZONE
TZID:America/Sao_Paulo
BEGIN:STANDARD
TZOFFSETFROM:-0300
TZOFFSETTO:-0300
TZNAME:-03
DTSTART:20230101T000000
END:STANDARD
END:VTIMEZONE
BEGIN:VEVENT
DTSTART;TZID=America/Sao_Paulo:20241007T080000
DTEND;TZID=America/Sao_Paulo:20241011T170000
DTSTAMP:20260424T130432
CREATED:20240925T161023Z
LAST-MODIFIED:20240925T161031Z
UID:10000495-1728288000-1728666000@site.fo.usp.br
SUMMARY:Concurso para Professor Doutor do ODE\, área de conhecimento em Radiologia
DESCRIPTION:
URL:https://site.fo.usp.br/evento/concurso-para-professor-doutor-do-ode-area-de-conhecimento-em-radiologia/
ATTACH;FMTTYPE=image/jpeg:https://site.fo.usp.br/wp-content/uploads/2024/09/2-1.jpg
END:VEVENT
BEGIN:VEVENT
DTSTART;TZID=America/Sao_Paulo:20241007T140000
DTEND;TZID=America/Sao_Paulo:20241007T190000
DTSTAMP:20260424T130432
CREATED:20240820T141417Z
LAST-MODIFIED:20240820T141424Z
UID:10000469-1728309600-1728327600@site.fo.usp.br
SUMMARY:Tese de Doutorado de Lilian Victoria Pérez Espinola
DESCRIPTION:
URL:https://site.fo.usp.br/evento/tese-de-doutorado-de-lilian-victoria-perez-espinola/
CATEGORIES:Defesa de Tese
ATTACH;FMTTYPE=image/png:https://site.fo.usp.br/wp-content/uploads/2024/08/Tese-FEED-12.png
END:VEVENT
BEGIN:VEVENT
DTSTART;TZID=America/Sao_Paulo:20241008T140000
DTEND;TZID=America/Sao_Paulo:20241008T190000
DTSTAMP:20260424T130432
CREATED:20240916T195846Z
LAST-MODIFIED:20240916T195857Z
UID:10000489-1728396000-1728414000@site.fo.usp.br
SUMMARY:Dissertação de Mestrado de Marilia Navarro
DESCRIPTION:
URL:https://site.fo.usp.br/evento/dissertacao-de-mestrado-de-marilia-navarro/
CATEGORIES:Defesa de Tese
ATTACH;FMTTYPE=image/png:https://site.fo.usp.br/wp-content/uploads/2024/09/Tese-FEED-23.png
END:VEVENT
BEGIN:VEVENT
DTSTART;TZID=America/Sao_Paulo:20241009T083000
DTEND;TZID=America/Sao_Paulo:20241009T110000
DTSTAMP:20260424T130432
CREATED:20240408T175202Z
LAST-MODIFIED:20240408T175415Z
UID:10000390-1728462600-1728471600@site.fo.usp.br
SUMMARY:Reunião da Comissão de Pós Graduação
DESCRIPTION:
URL:https://site.fo.usp.br/evento/reuniao-da-comissao-de-pos-graduacao-11/2024-10-09/
CATEGORIES:Comissão de Pós-Graduação,Reunião
END:VEVENT
BEGIN:VEVENT
DTSTART;TZID=America/Sao_Paulo:20241010T080000
DTEND;TZID=America/Sao_Paulo:20241010T120000
DTSTAMP:20260424T130432
CREATED:20240820T142859Z
LAST-MODIFIED:20240909T101313Z
UID:10000470-1728547200-1728561600@site.fo.usp.br
SUMMARY:Dissertação de Mestrado de Mariana Rossi Carneiro Gasperini
DESCRIPTION:
URL:https://site.fo.usp.br/evento/dissertacao-de-mestrado-de-mariana-rossi-carneiro-gasperini/
CATEGORIES:Defesa de Tese
ATTACH;FMTTYPE=image/jpeg:https://site.fo.usp.br/wp-content/uploads/2024/08/8.jpg
END:VEVENT
BEGIN:VEVENT
DTSTART;TZID=America/Sao_Paulo:20241011T090000
DTEND;TZID=America/Sao_Paulo:20241011T110000
DTSTAMP:20260424T130432
CREATED:20240220T103324Z
LAST-MODIFIED:20240220T103334Z
UID:10000353-1728637200-1728644400@site.fo.usp.br
SUMMARY:Reunião CCExFO
DESCRIPTION:
URL:https://site.fo.usp.br/evento/reuniao-ccexfo/2024-10-11/
CATEGORIES:Reunião
END:VEVENT
BEGIN:VEVENT
DTSTART;TZID=America/Sao_Paulo:20241011T140000
DTEND;TZID=America/Sao_Paulo:20241011T190000
DTSTAMP:20260424T130432
CREATED:20240926T141941Z
LAST-MODIFIED:20240926T141947Z
UID:10000506-1728655200-1728673200@site.fo.usp.br
SUMMARY:Dissertação de Mestrado de Carolina Andrea Fredes Acevedo
DESCRIPTION:
URL:https://site.fo.usp.br/evento/dissertacao-de-mestrado-de-carolina-andrea-fredes-acevedo/
CATEGORIES:Defesa de Tese
ATTACH;FMTTYPE=image/jpeg:https://site.fo.usp.br/wp-content/uploads/2024/09/12.jpg
END:VEVENT
BEGIN:VEVENT
DTSTART;TZID=America/Sao_Paulo:20241014T080000
DTEND;TZID=America/Sao_Paulo:20241018T170000
DTSTAMP:20260424T130432
CREATED:20240925T161034Z
LAST-MODIFIED:20240925T161045Z
UID:10000496-1728892800-1729270800@site.fo.usp.br
SUMMARY:Concurso para Professor Doutor do ODE\, área de conhecimento em Clínica Integrada
DESCRIPTION:
URL:https://site.fo.usp.br/evento/concurso-para-professor-doutor-do-ode-area-de-conhecimento-em-clinica-integrada/
ATTACH;FMTTYPE=image/jpeg:https://site.fo.usp.br/wp-content/uploads/2024/09/3-1.jpg
END:VEVENT
BEGIN:VEVENT
DTSTART;TZID=America/Sao_Paulo:20241015T090000
DTEND;TZID=America/Sao_Paulo:20241015T143000
DTSTAMP:20260424T130432
CREATED:20241002T174537Z
LAST-MODIFIED:20241002T174542Z
UID:10000507-1728982800-1729002600@site.fo.usp.br
SUMMARY:Tese de Doutorado de Camila Miorelli Girondi
DESCRIPTION:
URL:https://site.fo.usp.br/evento/tese-de-doutorado-de-camila-miorelli-girondi/
CATEGORIES:Defesa de Tese
ATTACH;FMTTYPE=image/png:https://site.fo.usp.br/wp-content/uploads/2024/10/Tese-FEED-25.png
END:VEVENT
BEGIN:VEVENT
DTSTART;TZID=America/Sao_Paulo:20241021T080000
DTEND;TZID=America/Sao_Paulo:20241025T170000
DTSTAMP:20260424T130432
CREATED:20240925T161209Z
LAST-MODIFIED:20240925T161227Z
UID:10000500-1729497600-1729875600@site.fo.usp.br
SUMMARY:Concurso para Professor Doutor do ODB\, área de conhecimento em Biologia Oral
DESCRIPTION:
URL:https://site.fo.usp.br/evento/concurso-para-professor-doutor-do-odb-area-de-conhecimento-em-biologia-oral/
ATTACH;FMTTYPE=image/jpeg:https://site.fo.usp.br/wp-content/uploads/2024/09/4-1.jpg
END:VEVENT
BEGIN:VEVENT
DTSTART;TZID=America/Sao_Paulo:20241021T090000
DTEND;TZID=America/Sao_Paulo:20241021T110000
DTSTAMP:20260424T130432
CREATED:20240926T141901Z
LAST-MODIFIED:20240926T141907Z
UID:10000505-1729501200-1729508400@site.fo.usp.br
SUMMARY:Tese de Doutorado de Ezequiel Ortiz Rosa
DESCRIPTION:
URL:https://site.fo.usp.br/evento/tese-de-doutorado-de-ezequiel-ortiz-rosa/
CATEGORIES:Defesa de Tese
ATTACH;FMTTYPE=image/jpeg:https://site.fo.usp.br/wp-content/uploads/2024/09/11-2.jpg
END:VEVENT
BEGIN:VEVENT
DTSTART;TZID=America/Sao_Paulo:20241021T140000
DTEND;TZID=America/Sao_Paulo:20241021T190000
DTSTAMP:20260424T130432
CREATED:20241009T163304Z
LAST-MODIFIED:20241009T163310Z
UID:10000511-1729519200-1729537200@site.fo.usp.br
SUMMARY:Tese de Doutorado de Natália Pieretti Bueno
DESCRIPTION:
URL:https://site.fo.usp.br/evento/tese-de-doutorado-de-natalia-pieretti-bueno/
CATEGORIES:Defesa de Tese
ATTACH;FMTTYPE=image/png:https://site.fo.usp.br/wp-content/uploads/2024/10/Tese-FEED-27.png
END:VEVENT
BEGIN:VEVENT
DTSTART;TZID=America/Sao_Paulo:20241022T080000
DTEND;TZID=America/Sao_Paulo:20241023T170000
DTSTAMP:20260424T130432
CREATED:20241007T112222Z
LAST-MODIFIED:20241007T112319Z
UID:10000508-1729584000-1729702800@site.fo.usp.br
SUMMARY:Jornada LIOH 2024
DESCRIPTION:
URL:https://site.fo.usp.br/evento/jornada-lioh-2024/
CATEGORIES:Jornada
ATTACH;FMTTYPE=image/png:https://site.fo.usp.br/wp-content/uploads/2024/10/Copia-de-Divulgacao-Eventos-Feed-2024.png
END:VEVENT
BEGIN:VEVENT
DTSTART;TZID=America/Sao_Paulo:20241022T123000
DTEND;TZID=America/Sao_Paulo:20241022T133000
DTSTAMP:20260424T130432
CREATED:20241022T173606Z
LAST-MODIFIED:20241022T173613Z
UID:10000522-1729600200-1729603800@site.fo.usp.br
SUMMARY:LAMUC na FOUSP
DESCRIPTION:
URL:https://site.fo.usp.br/evento/lamuc-na-fousp/
CATEGORIES:Encontro
ATTACH;FMTTYPE=image/png:https://site.fo.usp.br/wp-content/uploads/2024/10/feed-lamuc.png
END:VEVENT
BEGIN:VEVENT
DTSTART;TZID=America/Sao_Paulo:20241022T140000
DTEND;TZID=America/Sao_Paulo:20241022T180000
DTSTAMP:20260424T130432
CREATED:20240820T152545Z
LAST-MODIFIED:20240820T152557Z
UID:10000471-1729605600-1729620000@site.fo.usp.br
SUMMARY:Dissertação de Mestrado de Erik Vinícius Barros Guedes
DESCRIPTION:
URL:https://site.fo.usp.br/evento/dissertacao-de-mestrado-de-erik-vinicius-barros-guedes/
CATEGORIES:Defesa de Tese
ATTACH;FMTTYPE=image/png:https://site.fo.usp.br/wp-content/uploads/2024/08/Tese-FEED-14.png
END:VEVENT
BEGIN:VEVENT
DTSTART;TZID=America/Sao_Paulo:20241022T140000
DTEND;TZID=America/Sao_Paulo:20241022T190000
DTSTAMP:20260424T130432
CREATED:20241009T161246Z
LAST-MODIFIED:20241016T133927Z
UID:10000510-1729605600-1729623600@site.fo.usp.br
SUMMARY:Dissertação de Mestrado de Gabriela Marcelle Almeida Sant’Ana dos Santos
DESCRIPTION:
URL:https://site.fo.usp.br/evento/dissertacao-de-mestrado-de-gabriela-marcelle-almeida-santana-dos-santos/
CATEGORIES:Defesa de Tese
ATTACH;FMTTYPE=image/jpeg:https://site.fo.usp.br/wp-content/uploads/2024/10/PHOTO-2024-10-15-17-14-17.jpg
END:VEVENT
BEGIN:VEVENT
DTSTART;TZID=America/Sao_Paulo:20241024T123000
DTEND;TZID=America/Sao_Paulo:20241024T133000
DTSTAMP:20260424T130432
CREATED:20240923T101812Z
LAST-MODIFIED:20240923T101818Z
UID:10000492-1729773000-1729776600@site.fo.usp.br
SUMMARY:Palestra: Boas Praticas em Ciência: O que é e onde estamos?
DESCRIPTION:No dia 24 de Outubro no Anfiteatro Myaki Issáo\,  das 12h30 às 13h30 será ministrada a palestra “Boas Praticas em Ciência: O que é e onde estamos?” pela Profa. Dra. Ana Paula Magalhães\, da FFLCH\, e pela Profa. Dra. Renata Eloah de Lucena Ferretti-Rebustini\, da EE. \n\n\n\nEste evento tem como intenção recepcionar e orientar os alunos de Iniciação Científica do ciclo 2024/ 2025 \n\n\n\nLembramos que a participação no evento é OBRIGATÓRIA para alunos do Programa de Iniciação Científica da FOUSP ( PIBIC\, PUB e PIBITI ). A ausência no evento deve ser justificada no relatório parcial. \n\n\n\nToda a comunidade é bem vinda\,  basta preencher o formulário para organizarmos o espaço e certificados. \n\n\n\nClique aqui para se inscrever.
URL:https://site.fo.usp.br/evento/palestra-boas-praticas-em-ciencia-o-que-e-e-onde-estamos/
ATTACH;FMTTYPE=image/png:https://site.fo.usp.br/wp-content/uploads/2024/09/feed-e-site-2.png
END:VEVENT
BEGIN:VEVENT
DTSTART;TZID=America/Sao_Paulo:20241024T123000
DTEND;TZID=America/Sao_Paulo:20241024T133000
DTSTAMP:20260424T130432
CREATED:20241022T184709Z
LAST-MODIFIED:20241022T184817Z
UID:10000523-1729773000-1729776600@site.fo.usp.br
SUMMARY:Apresentação do LAMUC
DESCRIPTION:
URL:https://site.fo.usp.br/evento/apresentacao-do-lamuc-4/
ATTACH;FMTTYPE=image/png:https://site.fo.usp.br/wp-content/uploads/2024/10/feed-lamuc.png
END:VEVENT
BEGIN:VEVENT
DTSTART;TZID=America/Sao_Paulo:20241029T080000
DTEND;TZID=America/Sao_Paulo:20241101T170000
DTSTAMP:20260424T130432
CREATED:20240925T161222Z
LAST-MODIFIED:20240925T161235Z
UID:10000501-1730188800-1730480400@site.fo.usp.br
SUMMARY:Concurso para Professor Doutor do ODC\, área de conhecimento em CTBMF
DESCRIPTION:
URL:https://site.fo.usp.br/evento/concurso-para-professor-doutor-do-odc-area-de-conhecimento-em-ctbmf/
ATTACH;FMTTYPE=image/jpeg:https://site.fo.usp.br/wp-content/uploads/2024/09/8-1.jpg
END:VEVENT
BEGIN:VEVENT
DTSTART;TZID=America/Sao_Paulo:20241029T143000
DTEND;TZID=America/Sao_Paulo:20241029T163000
DTSTAMP:20260424T130432
CREATED:20240903T130859Z
LAST-MODIFIED:20240903T130913Z
UID:10000482-1730212200-1730219400@site.fo.usp.br
SUMMARY:Reunião da Comissão de Pesquisa
DESCRIPTION:
URL:https://site.fo.usp.br/evento/reuniao-da-comissao-de-pesquisa-3/
CATEGORIES:Comissão de Pesquisa,Reunião
END:VEVENT
BEGIN:VEVENT
DTSTART;TZID=America/Sao_Paulo:20241031T090000
DTEND;TZID=America/Sao_Paulo:20241031T120000
DTSTAMP:20260424T130432
CREATED:20231113T125744Z
LAST-MODIFIED:20231113T125749Z
UID:10000260-1730365200-1730376000@site.fo.usp.br
SUMMARY:Reunião da Congregação
DESCRIPTION:
URL:https://site.fo.usp.br/evento/reuniao-da-congregacao/2024-10-31/
CATEGORIES:Congregação
END:VEVENT
BEGIN:VEVENT
DTSTART;TZID=America/Sao_Paulo:20241031T140000
DTEND;TZID=America/Sao_Paulo:20241031T190000
DTSTAMP:20260424T130432
CREATED:20241021T143245Z
LAST-MODIFIED:20241021T143251Z
UID:10000513-1730383200-1730401200@site.fo.usp.br
SUMMARY:Tese de Doutorado de Nayara Toledo de Lucena
DESCRIPTION:
URL:https://site.fo.usp.br/evento/tese-de-doutorado-de-nayara-toledo-de-lucena/
CATEGORIES:Defesa de Tese
ATTACH;FMTTYPE=image/png:https://site.fo.usp.br/wp-content/uploads/2024/10/Tese-FEED-28.png
END:VEVENT
BEGIN:VEVENT
DTSTART;TZID=America/Sao_Paulo:20241104T000000
DTEND;TZID=America/Sao_Paulo:20241104T235959
DTSTAMP:20260424T130432
CREATED:20240805T203207Z
LAST-MODIFIED:20241003T163603Z
UID:10000454-1730678400-1730764799@site.fo.usp.br
SUMMARY:Save the Date - Primeira fase 32º SIICUSP
DESCRIPTION:
URL:https://site.fo.usp.br/evento/save-the-date-primeira-fase-32o-siicusp/
CATEGORIES:Simpósio
ATTACH;FMTTYPE=image/png:https://site.fo.usp.br/wp-content/uploads/2024/08/SIICUSP-2024-FEED-E-SITE-ATUALIZADO-3.png
END:VEVENT
BEGIN:VEVENT
DTSTART;TZID=America/Sao_Paulo:20241104T080000
DTEND;TZID=America/Sao_Paulo:20241108T170000
DTSTAMP:20260424T130432
CREATED:20240925T161137Z
LAST-MODIFIED:20240925T161145Z
UID:10000497-1730707200-1731085200@site.fo.usp.br
SUMMARY:Concurso para Professor Doutor do ODD\, área de conhecimento em Endodontia
DESCRIPTION:
URL:https://site.fo.usp.br/evento/concurso-para-professor-doutor-do-odd-area-de-conhecimento-em-endodontia/
ATTACH;FMTTYPE=image/jpeg:https://site.fo.usp.br/wp-content/uploads/2024/09/6-1.jpg
END:VEVENT
BEGIN:VEVENT
DTSTART;TZID=America/Sao_Paulo:20241105T090000
DTEND;TZID=America/Sao_Paulo:20241105T120000
DTSTAMP:20260424T130432
CREATED:20240110T162306Z
LAST-MODIFIED:20240208T130005Z
UID:10000308-1730797200-1730808000@site.fo.usp.br
SUMMARY:Reunião do Comitê de Ética em Pesquisa – CEP-FOUSP
DESCRIPTION:
URL:https://site.fo.usp.br/evento/reuniao-do-comite-de-etica-em-pesquisa-cep-fousp/2024-11-05/
END:VEVENT
BEGIN:VEVENT
DTSTART;TZID=America/Sao_Paulo:20241105T090000
DTEND;TZID=America/Sao_Paulo:20241105T140000
DTSTAMP:20260424T130432
CREATED:20241021T144256Z
LAST-MODIFIED:20241021T144304Z
UID:10000514-1730797200-1730815200@site.fo.usp.br
SUMMARY:Dissertação de Mestrado de Lucas Silveira Fernandes
DESCRIPTION:
URL:https://site.fo.usp.br/evento/dissertacao-de-mestrado-de-lucas-silveira-fernandes/
CATEGORIES:Defesa de Tese
ATTACH;FMTTYPE=image/png:https://site.fo.usp.br/wp-content/uploads/2024/10/Tese-FEED-29.png
END:VEVENT
BEGIN:VEVENT
DTSTART;TZID=America/Sao_Paulo:20241106T090000
DTEND;TZID=America/Sao_Paulo:20241106T140000
DTSTAMP:20260424T130432
CREATED:20241021T144922Z
LAST-MODIFIED:20241021T144931Z
UID:10000515-1730883600-1730901600@site.fo.usp.br
SUMMARY:Tese de Doutorado de Alexandre Jun Zerbini Ueda
DESCRIPTION:
URL:https://site.fo.usp.br/evento/tese-de-doutorado-de-alexandre-jun-zerbini-ueda/
CATEGORIES:Defesa de Tese
ATTACH;FMTTYPE=image/png:https://site.fo.usp.br/wp-content/uploads/2024/10/Tese-FEED-30.png
END:VEVENT
BEGIN:VEVENT
DTSTART;TZID=America/Sao_Paulo:20241106T110000
DTEND;TZID=America/Sao_Paulo:20241106T120000
DTSTAMP:20260424T130432
CREATED:20240326T125853Z
LAST-MODIFIED:20240326T131239Z
UID:10000339-1730890800-1730894400@site.fo.usp.br
SUMMARY:Reunião da Comissão Coordenadora do Programa de Ciências Odontológicas
DESCRIPTION:
URL:https://site.fo.usp.br/evento/reuniao-da-comissao-coordenadora-do-programa-de-ciencias-odontologicas-2/2024-11-06/
CATEGORIES:Reunião
END:VEVENT
BEGIN:VEVENT
DTSTART;TZID=America/Sao_Paulo:20241106T140000
DTEND;TZID=America/Sao_Paulo:20241106T153000
DTSTAMP:20260424T130432
CREATED:20241008T104620Z
LAST-MODIFIED:20241008T104626Z
UID:10000509-1730901600-1730907000@site.fo.usp.br
SUMMARY:Palestra Internacional: Overview of Oral Medicine in Denmark
DESCRIPTION:
URL:https://site.fo.usp.br/evento/palestra-internacional-overview-of-oral-medicine-in-denmark/
ATTACH;FMTTYPE=image/jpeg:https://site.fo.usp.br/wp-content/uploads/2024/10/Divulgacao-Eventos-Feed-2024-PALESTRA-Profa-Anne-Marie-Lynge-Pedersen.jpg
END:VEVENT
BEGIN:VEVENT
DTSTART;TZID=America/Sao_Paulo:20241108T080000
DTEND;TZID=America/Sao_Paulo:20241108T180000
DTSTAMP:20260424T130432
CREATED:20240620T190225Z
LAST-MODIFIED:20240916T101925Z
UID:10000442-1731052800-1731088800@site.fo.usp.br
SUMMARY:2° Simpósio de Frênulos Orais e Laser
DESCRIPTION:Inscrições: https://ww1.fundecto.com.br/cursos/ii-simposio-de-frenulos-orais-e-laser/
URL:https://site.fo.usp.br/evento/2-simposio-de-frenulos-orais-e-laser/
CATEGORIES:Encontro
ATTACH;FMTTYPE=image/jpeg:https://site.fo.usp.br/wp-content/uploads/2024/09/Eventos-Feed-2024.jpg
END:VEVENT
END:VCALENDAR