BEGIN:VCALENDAR
VERSION:2.0
PRODID:-//FOUSP - ECPv6.15.20//NONSGML v1.0//EN
CALSCALE:GREGORIAN
METHOD:PUBLISH
X-WR-CALNAME:FOUSP
X-ORIGINAL-URL:https://site.fo.usp.br
X-WR-CALDESC:Eventos para FOUSP
REFRESH-INTERVAL;VALUE=DURATION:PT1H
X-Robots-Tag:noindex
X-PUBLISHED-TTL:PT1H
BEGIN:VTIMEZONE
TZID:America/Sao_Paulo
BEGIN:STANDARD
TZOFFSETFROM:-0300
TZOFFSETTO:-0300
TZNAME:-03
DTSTART:20240101T000000
END:STANDARD
END:VTIMEZONE
BEGIN:VEVENT
DTSTART;TZID=America/Sao_Paulo:20250128T090000
DTEND;TZID=America/Sao_Paulo:20250128T130000
DTSTAMP:20260423T164600
CREATED:20250124T113136Z
LAST-MODIFIED:20250124T113145Z
UID:10000538-1738054800-1738069200@site.fo.usp.br
SUMMARY:Tese de Doutorado de Mariana Lobo Bergamini
DESCRIPTION:
URL:https://site.fo.usp.br/evento/tese-de-doutorado-de-mariana-lobo-bergamini/
CATEGORIES:Defesa de Tese
ATTACH;FMTTYPE=image/jpeg:https://site.fo.usp.br/wp-content/uploads/2024/11/feed-mariana.jpg
END:VEVENT
BEGIN:VEVENT
DTSTART;TZID=America/Sao_Paulo:20250128T090000
DTEND;TZID=America/Sao_Paulo:20250128T140000
DTSTAMP:20260423T164600
CREATED:20250121T175711Z
LAST-MODIFIED:20250121T175717Z
UID:10000577-1738054800-1738072800@site.fo.usp.br
SUMMARY:Dissertação de Mestrado de Rodrigo Soares de Oliveira
DESCRIPTION:
URL:https://site.fo.usp.br/evento/dissertacao-de-mestrado-de-rodrigo-soares-de-oliveira/
CATEGORIES:Defesa de Tese
ATTACH;FMTTYPE=image/jpeg:https://site.fo.usp.br/wp-content/uploads/2025/01/7.jpg
END:VEVENT
BEGIN:VEVENT
DTSTART;TZID=America/Sao_Paulo:20250128T130000
DTEND;TZID=America/Sao_Paulo:20250128T180000
DTSTAMP:20260423T164600
CREATED:20241220T145114Z
LAST-MODIFIED:20241220T145121Z
UID:10000571-1738069200-1738087200@site.fo.usp.br
SUMMARY:Tese de Doutorado de Iandara de Lima Scardini
DESCRIPTION:
URL:https://site.fo.usp.br/evento/tese-de-doutorado-de-iandara-de-lima-scardini/
CATEGORIES:Defesa de Tese
ATTACH;FMTTYPE=image/png:https://site.fo.usp.br/wp-content/uploads/2024/12/2025-Teses-Feed.png
END:VEVENT
BEGIN:VEVENT
DTSTART;TZID=America/Sao_Paulo:20250203T090000
DTEND;TZID=America/Sao_Paulo:20250203T140000
DTSTAMP:20260423T164600
CREATED:20250124T113343Z
LAST-MODIFIED:20250124T113349Z
UID:10000572-1738573200-1738591200@site.fo.usp.br
SUMMARY:Dissertação de Mestrado de Nicole Cindy Fontinele Miranda
DESCRIPTION:
URL:https://site.fo.usp.br/evento/dissertacao-de-mestrado-de-nicole-cindy-fontinele-miranda/
CATEGORIES:Defesa de Tese
ATTACH;FMTTYPE=image/jpeg:https://site.fo.usp.br/wp-content/uploads/2024/12/2-2.jpg
END:VEVENT
BEGIN:VEVENT
DTSTART;TZID=America/Sao_Paulo:20250206T090000
DTEND;TZID=America/Sao_Paulo:20250206T140000
DTSTAMP:20260423T164600
CREATED:20241220T175259Z
LAST-MODIFIED:20241220T175306Z
UID:10000573-1738832400-1738850400@site.fo.usp.br
SUMMARY:Dissertação de Mestrado de Rodrigo Diniz Gomes
DESCRIPTION:
URL:https://site.fo.usp.br/evento/dissertacao-de-mestrado-de-rodrigo-diniz-gomes/
CATEGORIES:Defesa de Tese
ATTACH;FMTTYPE=image/png:https://site.fo.usp.br/wp-content/uploads/2024/12/2025-Teses-Feed-2.png
END:VEVENT
BEGIN:VEVENT
DTSTART;TZID=America/Sao_Paulo:20250207T090000
DTEND;TZID=America/Sao_Paulo:20250207T143000
DTSTAMP:20260423T164600
CREATED:20241220T175909Z
LAST-MODIFIED:20241220T175914Z
UID:10000574-1738918800-1738938600@site.fo.usp.br
SUMMARY:Tese de Doutorado de Christyan Hiroshi Iida
DESCRIPTION:
URL:https://site.fo.usp.br/evento/tese-de-doutorado-de-christyan-hiroshi-iida/
CATEGORIES:Defesa de Tese
ATTACH;FMTTYPE=image/png:https://site.fo.usp.br/wp-content/uploads/2024/12/2025-Teses-Feed-3.png
END:VEVENT
BEGIN:VEVENT
DTSTART;TZID=America/Sao_Paulo:20250211T090000
DTEND;TZID=America/Sao_Paulo:20250211T140000
DTSTAMP:20260423T164600
CREATED:20250130T134136Z
LAST-MODIFIED:20250130T134143Z
UID:10000580-1739264400-1739282400@site.fo.usp.br
SUMMARY:Dissertação de Mestrado de Luana de Oliveira Candido
DESCRIPTION:
URL:https://site.fo.usp.br/evento/dissertacao-de-mestrado-de-luana-de-oliveira-candido/
CATEGORIES:Defesa de Tese
ATTACH;FMTTYPE=image/png:https://site.fo.usp.br/wp-content/uploads/2025/01/2025-Teses-Feed-6.png
END:VEVENT
BEGIN:VEVENT
DTSTART;TZID=America/Sao_Paulo:20250212T140000
DTEND;TZID=America/Sao_Paulo:20250212T190000
DTSTAMP:20260423T164600
CREATED:20250121T175822Z
LAST-MODIFIED:20250121T175833Z
UID:10000578-1739368800-1739386800@site.fo.usp.br
SUMMARY:Dissertação de Mestrado de Sheila Mara Travain
DESCRIPTION:
URL:https://site.fo.usp.br/evento/dissertacao-de-mestrado-de-sheila-mara-travain/
CATEGORIES:Defesa de Tese
ATTACH;FMTTYPE=image/jpeg:https://site.fo.usp.br/wp-content/uploads/2025/01/8.jpg
END:VEVENT
BEGIN:VEVENT
DTSTART;TZID=America/Sao_Paulo:20250213T150000
DTEND;TZID=America/Sao_Paulo:20250213T190000
DTSTAMP:20260423T164600
CREATED:20250121T175915Z
LAST-MODIFIED:20250121T175921Z
UID:10000579-1739458800-1739473200@site.fo.usp.br
SUMMARY:Dissertação de Mestrado de Felipe Souza Peito Silva Borges
DESCRIPTION:
URL:https://site.fo.usp.br/evento/dissertacao-de-mestrado-de-felipe-souza-peito-silva-borges/
ATTACH;FMTTYPE=image/jpeg:https://site.fo.usp.br/wp-content/uploads/2025/01/9.jpg
END:VEVENT
BEGIN:VEVENT
DTSTART;TZID=America/Sao_Paulo:20250214T090000
DTEND;TZID=America/Sao_Paulo:20250214T140000
DTSTAMP:20260423T164600
CREATED:20241220T180726Z
LAST-MODIFIED:20241220T180732Z
UID:10000575-1739523600-1739541600@site.fo.usp.br
SUMMARY:Dissertação de Mestrado de Amanda Iida Giraldes
DESCRIPTION:
URL:https://site.fo.usp.br/evento/dissertacao-de-mestrado-de-amanda-iida-giraldes/
CATEGORIES:Defesa de Tese
ATTACH;FMTTYPE=image/png:https://site.fo.usp.br/wp-content/uploads/2024/12/2025-Teses-Feed-4.png
END:VEVENT
BEGIN:VEVENT
DTSTART;TZID=America/Sao_Paulo:20250219T140000
DTEND;TZID=America/Sao_Paulo:20250219T190000
DTSTAMP:20260423T164600
CREATED:20250130T134516Z
LAST-MODIFIED:20250130T134523Z
UID:10000581-1739973600-1739991600@site.fo.usp.br
SUMMARY:Dissertação de Mestrado de Tiago Vinicius Carneiro Marques
DESCRIPTION:
URL:https://site.fo.usp.br/evento/dissertacao-de-mestrado-de-tiago-vinicius-carneiro-marques/
CATEGORIES:Defesa de Tese
ATTACH;FMTTYPE=image/png:https://site.fo.usp.br/wp-content/uploads/2025/01/2025-Teses-Feed-7.png
END:VEVENT
BEGIN:VEVENT
DTSTART;TZID=America/Sao_Paulo:20250226T083000
DTEND;TZID=America/Sao_Paulo:20250226T133000
DTSTAMP:20260423T164600
CREATED:20241220T181611Z
LAST-MODIFIED:20241220T181617Z
UID:10000576-1740558600-1740576600@site.fo.usp.br
SUMMARY:Dissertação de Mestrado de Thomaz Henrique de Moura Santos
DESCRIPTION:
URL:https://site.fo.usp.br/evento/dissertacao-de-mestrado-de-thomaz-henrique-de-moura-santos/
CATEGORIES:Defesa de Tese
ATTACH;FMTTYPE=image/png:https://site.fo.usp.br/wp-content/uploads/2024/12/2025-Teses-Feed-5.png
END:VEVENT
BEGIN:VEVENT
DTSTART;TZID=America/Sao_Paulo:20250310T150000
DTEND;TZID=America/Sao_Paulo:20250310T170000
DTSTAMP:20260423T164600
CREATED:20250228T101914Z
LAST-MODIFIED:20250228T111711Z
UID:10000616-1741618800-1741626000@site.fo.usp.br
SUMMARY:Epidemiologia do ciclo vital e os estudos de coorte de Pelotas
DESCRIPTION:
URL:https://site.fo.usp.br/evento/epidemiologia-do-ciclo-vital-e-os-estudos-de-corte-de-pelotas/
CATEGORIES:Aula Aberta
ATTACH;FMTTYPE=image/jpeg:https://site.fo.usp.br/wp-content/uploads/2025/02/odo-feed-2.jpg
END:VEVENT
BEGIN:VEVENT
DTSTART;TZID=America/Sao_Paulo:20250311T090000
DTEND;TZID=America/Sao_Paulo:20250311T140000
DTSTAMP:20260423T164600
CREATED:20250205T184803Z
LAST-MODIFIED:20250205T184810Z
UID:10000593-1741683600-1741701600@site.fo.usp.br
SUMMARY:Dissertação de Mestrado de Patricia Pinheiro Shibutani
DESCRIPTION:
URL:https://site.fo.usp.br/evento/dissertacao-de-mestrado-de-patricia-pinheiro-shibutani/
CATEGORIES:Defesa de Tese
ATTACH;FMTTYPE=image/png:https://site.fo.usp.br/wp-content/uploads/2025/02/2025-Teses-Feed-9.png
END:VEVENT
BEGIN:VEVENT
DTSTART;TZID=America/Sao_Paulo:20250311T133000
DTEND;TZID=America/Sao_Paulo:20250311T183000
DTSTAMP:20260423T164600
CREATED:20250205T184406Z
LAST-MODIFIED:20250218T143850Z
UID:10000592-1741699800-1741717800@site.fo.usp.br
SUMMARY:Tese de Doutorado de Stephanie Isabel Diaz Zamalloa
DESCRIPTION:
URL:https://site.fo.usp.br/evento/tese-de-doutorado-de-stephanie-isabel-diaz-zamalloa/
CATEGORIES:Defesa de Tese
ATTACH;FMTTYPE=image/png:https://site.fo.usp.br/wp-content/uploads/2025/02/2025-Teses-Feed-12.png
END:VEVENT
BEGIN:VEVENT
DTSTART;TZID=America/Sao_Paulo:20250311T140000
DTEND;TZID=America/Sao_Paulo:20250311T190000
DTSTAMP:20260423T164600
CREATED:20250205T185231Z
LAST-MODIFIED:20250218T143709Z
UID:10000594-1741701600-1741719600@site.fo.usp.br
SUMMARY:Dissertação de Mestrado de Patricia Nakasato Kondo
DESCRIPTION:
URL:https://site.fo.usp.br/evento/dissertacao-de-mestrado-de-patricia-nakasato-kondo/
CATEGORIES:Defesa de Tese
ATTACH;FMTTYPE=image/png:https://site.fo.usp.br/wp-content/uploads/2025/02/2025-Teses-Feed-11.png
END:VEVENT
BEGIN:VEVENT
DTSTART;TZID=America/Sao_Paulo:20250314T090000
DTEND;TZID=America/Sao_Paulo:20250314T140000
DTSTAMP:20260423T164600
CREATED:20250218T150307Z
LAST-MODIFIED:20250313T144030Z
UID:10000607-1741942800-1741960800@site.fo.usp.br
SUMMARY:Dissertação de Mestrado de Isabella Silva Santos
DESCRIPTION:
URL:https://site.fo.usp.br/evento/dissertacao-de-mestrado-de-isabella-silva-santos/
CATEGORIES:Defesa de Tese
ATTACH;FMTTYPE=image/png:https://site.fo.usp.br/wp-content/uploads/2025/02/2025-Teses-Feed-4.png
END:VEVENT
BEGIN:VEVENT
DTSTART;TZID=America/Sao_Paulo:20250318T140000
DTEND;TZID=America/Sao_Paulo:20250318T190000
DTSTAMP:20260423T164600
CREATED:20250218T151909Z
LAST-MODIFIED:20250218T151915Z
UID:10000608-1742306400-1742324400@site.fo.usp.br
SUMMARY:Dissertação de Mestrado de Isabela de Moraes Spigariol
DESCRIPTION:
URL:https://site.fo.usp.br/evento/dissertacao-de-mestrado-de-isabela-de-moraes-spigariol/
CATEGORIES:Defesa de Tese
ATTACH;FMTTYPE=image/png:https://site.fo.usp.br/wp-content/uploads/2025/02/2025-Teses-Feed-14.png
END:VEVENT
BEGIN:VEVENT
DTSTART;TZID=America/Sao_Paulo:20250318T140000
DTEND;TZID=America/Sao_Paulo:20250318T190000
DTSTAMP:20260423T164600
CREATED:20250226T170247Z
LAST-MODIFIED:20250226T170254Z
UID:10000615-1742306400-1742324400@site.fo.usp.br
SUMMARY:Tese de Doutorado de Andresa Ferreira Gonçalves
DESCRIPTION:
URL:https://site.fo.usp.br/evento/tese-de-doutorado-de-andresa-ferreira-goncalves/
CATEGORIES:Defesa de Tese
ATTACH;FMTTYPE=image/jpeg:https://site.fo.usp.br/wp-content/uploads/2025/02/feed-andresa.jpg
END:VEVENT
BEGIN:VEVENT
DTSTART;TZID=America/Sao_Paulo:20250319T140000
DTEND;TZID=America/Sao_Paulo:20250319T190000
DTSTAMP:20260423T164600
CREATED:20250218T154347Z
LAST-MODIFIED:20250218T154353Z
UID:10000611-1742392800-1742410800@site.fo.usp.br
SUMMARY:Dissertação de Mestrado de Mauricio Carlos do Val
DESCRIPTION:
URL:https://site.fo.usp.br/evento/dissertacao-de-mestrado-de-mauricio-carlos-do-val/
CATEGORIES:Defesa de Tese
ATTACH;FMTTYPE=image/png:https://site.fo.usp.br/wp-content/uploads/2025/02/2025-Teses-Feed-17.png
END:VEVENT
BEGIN:VEVENT
DTSTART;TZID=America/Sao_Paulo:20250320T140000
DTEND;TZID=America/Sao_Paulo:20250320T190000
DTSTAMP:20260423T164600
CREATED:20250306T220910Z
LAST-MODIFIED:20250306T220922Z
UID:10000617-1742479200-1742497200@site.fo.usp.br
SUMMARY:Dissertação de Mestrado de Alessandra Matheus Domingos
DESCRIPTION:
URL:https://site.fo.usp.br/evento/dissertacao-de-mestrado-de-alessandra-matheus-domingos/
CATEGORIES:Defesa de Tese
ATTACH;FMTTYPE=image/png:https://site.fo.usp.br/wp-content/uploads/2025/03/2025-Teses-Feed-21.png
END:VEVENT
BEGIN:VEVENT
DTSTART;TZID=America/Sao_Paulo:20250324T140000
DTEND;TZID=America/Sao_Paulo:20250324T190000
DTSTAMP:20260423T164600
CREATED:20250218T155322Z
LAST-MODIFIED:20250218T155328Z
UID:10000612-1742824800-1742842800@site.fo.usp.br
SUMMARY:Tese de Doutorado de Catharina Simioni De Rosa
DESCRIPTION:
URL:https://site.fo.usp.br/evento/tese-de-doutorado-de-catharina-simioni-de-rosa/
CATEGORIES:Defesa de Tese
ATTACH;FMTTYPE=image/png:https://site.fo.usp.br/wp-content/uploads/2025/02/2025-Teses-Feed-18.png
END:VEVENT
BEGIN:VEVENT
DTSTART;TZID=America/Sao_Paulo:20250326T140000
DTEND;TZID=America/Sao_Paulo:20250326T190000
DTSTAMP:20260423T164600
CREATED:20250218T152242Z
LAST-MODIFIED:20250218T152248Z
UID:10000609-1742997600-1743015600@site.fo.usp.br
SUMMARY:Dissertação de Mestrado de Lucas Monteiro Pereira
DESCRIPTION:
URL:https://site.fo.usp.br/evento/dissertacao-de-mestrado-de-lucas-monteiro-pereira/
CATEGORIES:Defesa de Tese
ATTACH;FMTTYPE=image/png:https://site.fo.usp.br/wp-content/uploads/2025/02/2025-Teses-Feed-15.png
END:VEVENT
BEGIN:VEVENT
DTSTART;TZID=America/Sao_Paulo:20250328T090000
DTEND;TZID=America/Sao_Paulo:20250328T140000
DTSTAMP:20260423T164600
CREATED:20250218T154028Z
LAST-MODIFIED:20250218T154034Z
UID:10000610-1743152400-1743170400@site.fo.usp.br
SUMMARY:Dissertação de Mestrado de Daniela Mita
DESCRIPTION:
URL:https://site.fo.usp.br/evento/dissertacao-de-mestrado-de-daniela-mita/
CATEGORIES:Defesa de Tese
ATTACH;FMTTYPE=image/png:https://site.fo.usp.br/wp-content/uploads/2025/02/2025-Teses-Feed-16.png
END:VEVENT
BEGIN:VEVENT
DTSTART;TZID=America/Sao_Paulo:20250331T143000
DTEND;TZID=America/Sao_Paulo:20250331T163000
DTSTAMP:20260423T164600
CREATED:20250313T222348Z
LAST-MODIFIED:20250313T222353Z
UID:10000619-1743431400-1743438600@site.fo.usp.br
SUMMARY:Reunião da Comissão de Pesquisa
DESCRIPTION:
URL:https://site.fo.usp.br/evento/reuniao-da-comissao-de-pesquisa-6/
CATEGORIES:Comissão de Pesquisa
END:VEVENT
BEGIN:VEVENT
DTSTART;TZID=America/Sao_Paulo:20250404T090000
DTEND;TZID=America/Sao_Paulo:20250404T140000
DTSTAMP:20260423T164600
CREATED:20250317T215935Z
LAST-MODIFIED:20250317T215940Z
UID:10000626-1743757200-1743775200@site.fo.usp.br
SUMMARY:Dissertação de Mestrado de Maria Eduarda Peres
DESCRIPTION:
URL:https://site.fo.usp.br/evento/dissertacao-de-mestrado-de-maria-eduarda-peres/
CATEGORIES:Defesa de Tese
ATTACH;FMTTYPE=image/png:https://site.fo.usp.br/wp-content/uploads/2025/03/2025-Teses-Feed-24.png
END:VEVENT
BEGIN:VEVENT
DTSTART;TZID=America/Sao_Paulo:20250404T140000
DTEND;TZID=America/Sao_Paulo:20250404T190000
DTSTAMP:20260423T164600
CREATED:20250218T160241Z
LAST-MODIFIED:20250218T160248Z
UID:10000613-1743775200-1743793200@site.fo.usp.br
SUMMARY:Dissertação de Mestrado de Letícia Marinho Silva Rocha
DESCRIPTION:
URL:https://site.fo.usp.br/evento/dissertacao-de-mestrado-de-leticia-marinho-silva-rocha/
CATEGORIES:Defesa de Tese
ATTACH;FMTTYPE=image/png:https://site.fo.usp.br/wp-content/uploads/2025/02/2025-Teses-Feed-19.png
END:VEVENT
BEGIN:VEVENT
DTSTART;TZID=America/Sao_Paulo:20250409T083000
DTEND;TZID=America/Sao_Paulo:20250409T133000
DTSTAMP:20260423T164600
CREATED:20250324T183849Z
LAST-MODIFIED:20250324T183853Z
UID:10000637-1744187400-1744205400@site.fo.usp.br
SUMMARY:Dissertação de Mestrado de Luisa Maluf Sanseverino
DESCRIPTION:
URL:https://site.fo.usp.br/evento/dissertacao-de-mestrado-de-luisa-maluf-sanseverino/
CATEGORIES:Defesa de Tese
ATTACH;FMTTYPE=image/png:https://site.fo.usp.br/wp-content/uploads/2025/03/2025-Teses-Feed-30.png
END:VEVENT
BEGIN:VEVENT
DTSTART;TZID=America/Sao_Paulo:20250409T140000
DTEND;TZID=America/Sao_Paulo:20250409T190000
DTSTAMP:20260423T164600
CREATED:20250324T182623Z
LAST-MODIFIED:20250324T182746Z
UID:10000635-1744207200-1744225200@site.fo.usp.br
SUMMARY:Dissertação de Mestrado de Suellen Vieira do Nascimento
DESCRIPTION:
URL:https://site.fo.usp.br/evento/dissertacao-de-mestrado-de-suellen-vieira-do-nascimento/
CATEGORIES:Defesa de Tese
ATTACH;FMTTYPE=image/png:https://site.fo.usp.br/wp-content/uploads/2025/03/2025-Teses-Feed-28.png
END:VEVENT
BEGIN:VEVENT
DTSTART;TZID=America/Sao_Paulo:20250414T090000
DTEND;TZID=America/Sao_Paulo:20250414T140000
DTSTAMP:20260423T164600
CREATED:20250324T182947Z
LAST-MODIFIED:20250324T182952Z
UID:10000636-1744621200-1744639200@site.fo.usp.br
SUMMARY:Dissertação de Mestrado de Marilisa Rodrigues Tanure Horta
DESCRIPTION:
URL:https://site.fo.usp.br/evento/dissertacao-de-mestrado-de-marilisa-rodrigues-tanure-horta/
CATEGORIES:Defesa de Tese
ATTACH;FMTTYPE=image/png:https://site.fo.usp.br/wp-content/uploads/2025/03/2025-Teses-Feed-29.png
END:VEVENT
END:VCALENDAR