BEGIN:VCALENDAR
VERSION:2.0
PRODID:-//FOUSP - ECPv6.15.20//NONSGML v1.0//EN
CALSCALE:GREGORIAN
METHOD:PUBLISH
X-WR-CALNAME:FOUSP
X-ORIGINAL-URL:https://site.fo.usp.br
X-WR-CALDESC:Eventos para FOUSP
REFRESH-INTERVAL;VALUE=DURATION:PT1H
X-Robots-Tag:noindex
X-PUBLISHED-TTL:PT1H
BEGIN:VTIMEZONE
TZID:America/Sao_Paulo
BEGIN:STANDARD
TZOFFSETFROM:-0300
TZOFFSETTO:-0300
TZNAME:-03
DTSTART:20240101T000000
END:STANDARD
END:VTIMEZONE
BEGIN:VEVENT
DTSTART;TZID=America/Sao_Paulo:20250825T090000
DTEND;TZID=America/Sao_Paulo:20250825T140000
DTSTAMP:20260425T125946
CREATED:20250624T141217Z
LAST-MODIFIED:20250815T184758Z
UID:10000678-1756112400-1756130400@site.fo.usp.br
SUMMARY:Tese de Doutorado Direto de Juliana Garuba Rahhal
DESCRIPTION:
URL:https://site.fo.usp.br/evento/tese-de-doutorado-direto-de-juliana-garuba-rahhal/
CATEGORIES:Defesa de Tese
ATTACH;FMTTYPE=image/png:https://site.fo.usp.br/wp-content/uploads/2025/06/2025-Teses-Site-e-FEED-6.png
END:VEVENT
BEGIN:VEVENT
DTSTART;TZID=America/Sao_Paulo:20250826T090000
DTEND;TZID=America/Sao_Paulo:20250826T140000
DTSTAMP:20260425T125946
CREATED:20250820T133735Z
LAST-MODIFIED:20250820T133744Z
UID:10000690-1756198800-1756216800@site.fo.usp.br
SUMMARY:Dissertação de Mestrado de Amr Hamid Ahmed Mohammed
DESCRIPTION:
URL:https://site.fo.usp.br/evento/dissertacao-de-mestrado-de-amr-hamid-ahmed-mohammed/
CATEGORIES:Defesa de Tese
ATTACH;FMTTYPE=image/png:https://site.fo.usp.br/wp-content/uploads/2025/08/2025-Teses-Site-e-FEED-7.png
END:VEVENT
BEGIN:VEVENT
DTSTART;TZID=America/Sao_Paulo:20250828T090000
DTEND;TZID=America/Sao_Paulo:20250828T120000
DTSTAMP:20260425T125946
CREATED:20250211T184801Z
LAST-MODIFIED:20250408T192355Z
UID:10000602-1756371600-1756382400@site.fo.usp.br
SUMMARY:Sessão da Congregação
DESCRIPTION:
URL:https://site.fo.usp.br/evento/sessao-da-congregacao/2025-08-28/
CATEGORIES:Congregação
END:VEVENT
BEGIN:VEVENT
DTSTART;TZID=America/Sao_Paulo:20250904T140000
DTEND;TZID=America/Sao_Paulo:20250904T190000
DTSTAMP:20260425T125946
CREATED:20250820T134053Z
LAST-MODIFIED:20250820T134101Z
UID:10000691-1756994400-1757012400@site.fo.usp.br
SUMMARY:Dissertação de Mestrado de Bruno Lucena Antunes Abrante
DESCRIPTION:
URL:https://site.fo.usp.br/evento/dissertacao-de-mestrado-de-bruno-lucena-antunes-abrante/
CATEGORIES:Defesa de Tese
ATTACH;FMTTYPE=image/png:https://site.fo.usp.br/wp-content/uploads/2025/08/2025-Teses-Site-e-FEED-8.png
END:VEVENT
BEGIN:VEVENT
DTSTART;TZID=America/Sao_Paulo:20250909T090000
DTEND;TZID=America/Sao_Paulo:20250909T120000
DTSTAMP:20260425T125946
CREATED:20250506T115340Z
LAST-MODIFIED:20250506T115413Z
UID:10000656-1757408400-1757419200@site.fo.usp.br
SUMMARY:Reunião do CEP
DESCRIPTION:
URL:https://site.fo.usp.br/evento/reuniao-do-cep-6/
CATEGORIES:Comitê de Ética em Pesquisa
END:VEVENT
BEGIN:VEVENT
DTSTART;TZID=America/Sao_Paulo:20250911T090000
DTEND;TZID=America/Sao_Paulo:20250911T140000
DTSTAMP:20260425T125946
CREATED:20250820T134517Z
LAST-MODIFIED:20250825T155150Z
UID:10000692-1757581200-1757599200@site.fo.usp.br
SUMMARY:Tese de Doutorado de Fernando Antonio Reis Laurino
DESCRIPTION:
URL:https://site.fo.usp.br/evento/tese-de-doutorado-de-fernando-antonio-reis-laurino/
CATEGORIES:Defesa de Tese
ATTACH;FMTTYPE=image/png:https://site.fo.usp.br/wp-content/uploads/2025/08/2025-Teses-Site-e-FEED-23.png
END:VEVENT
BEGIN:VEVENT
DTSTART;TZID=America/Sao_Paulo:20250912T090000
DTEND;TZID=America/Sao_Paulo:20250912T140000
DTSTAMP:20260425T125946
CREATED:20250820T135230Z
LAST-MODIFIED:20250820T135239Z
UID:10000693-1757667600-1757685600@site.fo.usp.br
SUMMARY:Dissertação de Mestrado de Casimira Valeria Chuquimez Ventura
DESCRIPTION:
URL:https://site.fo.usp.br/evento/dissertacao-de-mestrado-de-casimira-valeria-chuquimez-ventura/
CATEGORIES:Defesa de Tese
ATTACH;FMTTYPE=image/png:https://site.fo.usp.br/wp-content/uploads/2025/08/2025-Teses-Site-e-FEED-10.png
END:VEVENT
BEGIN:VEVENT
DTSTART;TZID=America/Sao_Paulo:20250913T080000
DTEND;TZID=America/Sao_Paulo:20250913T170000
DTSTAMP:20260425T125946
CREATED:20250905T163544Z
LAST-MODIFIED:20250905T163556Z
UID:10000709-1757750400-1757782800@site.fo.usp.br
SUMMARY:Um dia na USP
DESCRIPTION:
URL:https://site.fo.usp.br/evento/um-dia-na-usp/
ATTACH;FMTTYPE=image/jpeg:https://site.fo.usp.br/wp-content/uploads/2025/09/Imagem-destacada-site-6.jpg
END:VEVENT
BEGIN:VEVENT
DTSTART;TZID=America/Sao_Paulo:20250915T083000
DTEND;TZID=America/Sao_Paulo:20250915T133000
DTSTAMP:20260425T125946
CREATED:20250820T140221Z
LAST-MODIFIED:20250820T140228Z
UID:10000695-1757925000-1757943000@site.fo.usp.br
SUMMARY:Tese de Doutorado de Jair Carneiro Leão Filho
DESCRIPTION:
URL:https://site.fo.usp.br/evento/tese-de-doutorado-de-jair-carneiro-leao-filho/
CATEGORIES:Defesa de Tese
ATTACH;FMTTYPE=image/png:https://site.fo.usp.br/wp-content/uploads/2025/08/2025-Teses-Site-e-FEED-12.png
END:VEVENT
BEGIN:VEVENT
DTSTART;TZID=America/Sao_Paulo:20250915T140000
DTEND;TZID=America/Sao_Paulo:20250915T190000
DTSTAMP:20260425T125946
CREATED:20250820T135800Z
LAST-MODIFIED:20250820T135808Z
UID:10000694-1757944800-1757962800@site.fo.usp.br
SUMMARY:Dissertação de Mestrado de Thalita Guarda Fagoni
DESCRIPTION:
URL:https://site.fo.usp.br/evento/dissertacao-de-mestrado-de-thalita-guarda-fagoni/
CATEGORIES:Defesa de Tese
ATTACH;FMTTYPE=image/png:https://site.fo.usp.br/wp-content/uploads/2025/08/2025-Teses-Site-e-FEED-11.png
END:VEVENT
BEGIN:VEVENT
DTSTART;TZID=America/Sao_Paulo:20250917T090000
DTEND;TZID=America/Sao_Paulo:20250917T140000
DTSTAMP:20260425T125946
CREATED:20250820T141036Z
LAST-MODIFIED:20250820T141043Z
UID:10000697-1758099600-1758117600@site.fo.usp.br
SUMMARY:Dissertação de Mestrado de Marlene Kasumi Gantier Takano
DESCRIPTION:
URL:https://site.fo.usp.br/evento/dissertacao-de-mestrado-de-marlene-kasumi-gantier-takano/
CATEGORIES:Defesa de Tese
ATTACH;FMTTYPE=image/png:https://site.fo.usp.br/wp-content/uploads/2025/08/2025-Teses-Site-e-FEED-14.png
END:VEVENT
BEGIN:VEVENT
DTSTART;TZID=America/Sao_Paulo:20250918T090000
DTEND;TZID=America/Sao_Paulo:20250918T140000
DTSTAMP:20260425T125946
CREATED:20250820T141434Z
LAST-MODIFIED:20250820T141442Z
UID:10000698-1758186000-1758204000@site.fo.usp.br
SUMMARY:Tese de Doutorado de Wallena Albuquerque da Cunha
DESCRIPTION:
URL:https://site.fo.usp.br/evento/tese-de-doutorado-de-wallena-albuquerque-da-cunha/
CATEGORIES:Defesa de Tese
ATTACH;FMTTYPE=image/png:https://site.fo.usp.br/wp-content/uploads/2025/08/2025-Teses-Site-e-FEED-15.png
END:VEVENT
BEGIN:VEVENT
DTSTART;TZID=America/Sao_Paulo:20250922T140000
DTEND;TZID=America/Sao_Paulo:20250922T190000
DTSTAMP:20260425T125946
CREATED:20250820T141838Z
LAST-MODIFIED:20250820T141846Z
UID:10000699-1758549600-1758567600@site.fo.usp.br
SUMMARY:Dissertação de Mestrado de Vanessa Cristina Rafalovich
DESCRIPTION:
URL:https://site.fo.usp.br/evento/dissertacao-de-mestrado-de-vanessa-cristina-rafalovich/
CATEGORIES:Defesa de Tese
ATTACH;FMTTYPE=image/png:https://site.fo.usp.br/wp-content/uploads/2025/08/2025-Teses-Site-e-FEED-16.png
END:VEVENT
BEGIN:VEVENT
DTSTART;TZID=America/Sao_Paulo:20250924T080000
DTEND;TZID=America/Sao_Paulo:20250925T170000
DTSTAMP:20260425T125946
CREATED:20241126T184647Z
LAST-MODIFIED:20250901T101951Z
UID:10000536-1758700800-1758819600@site.fo.usp.br
SUMMARY:II Encontro do LELO
DESCRIPTION:
URL:https://site.fo.usp.br/evento/30-anos-do-lelo-e-3o-simposio-de-frenulos-orais-e-laser/
CATEGORIES:Simpósio
ATTACH;FMTTYPE=image/jpeg:https://site.fo.usp.br/wp-content/uploads/2024/11/feed-lelo.jpg
END:VEVENT
BEGIN:VEVENT
DTSTART;TZID=America/Sao_Paulo:20250925T090000
DTEND;TZID=America/Sao_Paulo:20250925T120000
DTSTAMP:20260425T125946
CREATED:20250408T191843Z
LAST-MODIFIED:20250408T191852Z
UID:10000641-1758790800-1758801600@site.fo.usp.br
SUMMARY:Reunião do Conselho Técnico Administrativo – CTA
DESCRIPTION:
URL:https://site.fo.usp.br/evento/reuniao-do-conselho-tecnico-administrativo-cta-4/
CATEGORIES:Conselho Técnico Administrativo
END:VEVENT
BEGIN:VEVENT
DTSTART;TZID=America/Sao_Paulo:20250925T160000
DTEND;TZID=America/Sao_Paulo:20250925T190000
DTSTAMP:20260425T125946
CREATED:20250919T192839Z
LAST-MODIFIED:20250919T193145Z
UID:10000720-1758816000-1758826800@site.fo.usp.br
SUMMARY:Debate Público - Eleição de Diretor(a) e Vice-Diretor(a) da FOUSP
DESCRIPTION:
URL:https://site.fo.usp.br/evento/debate-publico-eleicao-de-diretor-e-vice-diretor-da-fousp/
CATEGORIES:Encontro
ATTACH;FMTTYPE=image/jpeg:https://site.fo.usp.br/wp-content/uploads/2025/09/Imagem-destacada-site-1-3.jpg
END:VEVENT
BEGIN:VEVENT
DTSTART;TZID=America/Sao_Paulo:20250926T080000
DTEND;TZID=America/Sao_Paulo:20250926T180000
DTSTAMP:20260425T125946
CREATED:20250829T183355Z
LAST-MODIFIED:20250901T102055Z
UID:10000707-1758873600-1758909600@site.fo.usp.br
SUMMARY:III Simpósio de Frênulos Orais e Laser
DESCRIPTION:
URL:https://site.fo.usp.br/evento/iii-simposio-de-frenulos-orais-e-laser/
CATEGORIES:Simpósio
ATTACH;FMTTYPE=image/png:https://site.fo.usp.br/wp-content/uploads/2025/08/Imagem-destacada-site-25.png
END:VEVENT
BEGIN:VEVENT
DTSTART;TZID=America/Sao_Paulo:20251003T083000
DTEND;TZID=America/Sao_Paulo:20251003T133000
DTSTAMP:20260425T125946
CREATED:20250820T142606Z
LAST-MODIFIED:20250820T142614Z
UID:10000700-1759480200-1759498200@site.fo.usp.br
SUMMARY:Tese de Doutorado Direto de Camila Cardoso Cabral
DESCRIPTION:
URL:https://site.fo.usp.br/evento/tese-de-doutorado-direto-de-camila-cardoso-cabral/
CATEGORIES:Defesa de Tese
ATTACH;FMTTYPE=image/png:https://site.fo.usp.br/wp-content/uploads/2025/08/2025-Teses-Site-e-FEED-17.png
END:VEVENT
BEGIN:VEVENT
DTSTART;TZID=America/Sao_Paulo:20251007T083000
DTEND;TZID=America/Sao_Paulo:20251007T133000
DTSTAMP:20260425T125946
CREATED:20250912T221406Z
LAST-MODIFIED:20250912T221420Z
UID:10000710-1759825800-1759843800@site.fo.usp.br
SUMMARY:Tese de Doutorado de Mirian Lumi Yoshida
DESCRIPTION:
URL:https://site.fo.usp.br/evento/tese-de-doutorado-de-mirian-lumi-yoshida/
CATEGORIES:Defesa de Tese
ATTACH;FMTTYPE=image/png:https://site.fo.usp.br/wp-content/uploads/2025/09/2025-Teses-Site-e-FEED-25.png
END:VEVENT
BEGIN:VEVENT
DTSTART;TZID=America/Sao_Paulo:20251007T090000
DTEND;TZID=America/Sao_Paulo:20251007T120000
DTSTAMP:20260425T125946
CREATED:20250506T115436Z
LAST-MODIFIED:20250506T115547Z
UID:10000657-1759827600-1759838400@site.fo.usp.br
SUMMARY:Reunião do CEP
DESCRIPTION:
URL:https://site.fo.usp.br/evento/reuniao-do-cep-7/
CATEGORIES:Comitê de Ética em Pesquisa
END:VEVENT
BEGIN:VEVENT
DTSTART;TZID=America/Sao_Paulo:20251008T080000
DTEND;TZID=America/Sao_Paulo:20251008T130000
DTSTAMP:20260425T125946
CREATED:20250820T142904Z
LAST-MODIFIED:20250820T142911Z
UID:10000701-1759910400-1759928400@site.fo.usp.br
SUMMARY:Dissertação de Mestrado de Pedro Carlos Mollo Filho
DESCRIPTION:
URL:https://site.fo.usp.br/evento/dissertacao-de-mestrado-de-pedro-carlos-mollo-filho/
CATEGORIES:Defesa de Tese
ATTACH;FMTTYPE=image/png:https://site.fo.usp.br/wp-content/uploads/2025/08/2025-Teses-Site-e-FEED-18.png
END:VEVENT
BEGIN:VEVENT
DTSTART;TZID=America/Sao_Paulo:20251010T100000
DTEND;TZID=America/Sao_Paulo:20251010T120000
DTSTAMP:20260425T125946
CREATED:20250929T112906Z
LAST-MODIFIED:20250929T112912Z
UID:10000722-1760090400-1760097600@site.fo.usp.br
SUMMARY:Sessão Solene dos 125 anos da FOUSP na ALESP
DESCRIPTION:
URL:https://site.fo.usp.br/evento/sessao-solene-dos-125-anos-da-fousp-na-alesp/
CATEGORIES:Encontro
ATTACH;FMTTYPE=image/jpeg:https://site.fo.usp.br/wp-content/uploads/2025/09/Imagem-destacada-site-19.jpg
END:VEVENT
BEGIN:VEVENT
DTSTART;TZID=America/Sao_Paulo:20251014T143000
DTEND;TZID=America/Sao_Paulo:20251014T170000
DTSTAMP:20260425T125946
CREATED:20251008T182516Z
LAST-MODIFIED:20251008T182522Z
UID:10000725-1760452200-1760461200@site.fo.usp.br
SUMMARY:Orgulho de um Legado\, compromisso com o futuro
DESCRIPTION:
URL:https://site.fo.usp.br/evento/orgulho-de-um-legado-compromisso-com-o-futuro/
CATEGORIES:Encontro
ATTACH;FMTTYPE=image/jpeg:https://site.fo.usp.br/wp-content/uploads/2025/10/2.jpg
END:VEVENT
BEGIN:VEVENT
DTSTART;TZID=America/Sao_Paulo:20251016T080000
DTEND;TZID=America/Sao_Paulo:20251016T130000
DTSTAMP:20260425T125946
CREATED:20250917T134531Z
LAST-MODIFIED:20250917T134537Z
UID:10000719-1760601600-1760619600@site.fo.usp.br
SUMMARY:Tese de Doutorado Direto de Marcos Venturini Ferreira
DESCRIPTION:
URL:https://site.fo.usp.br/evento/tese-de-doutorado-direto-de-marcos-venturini-ferreira/
CATEGORIES:Defesa de Tese
ATTACH;FMTTYPE=image/png:https://site.fo.usp.br/wp-content/uploads/2025/09/2025-Teses-Site-e-FEED-28.png
END:VEVENT
BEGIN:VEVENT
DTSTART;TZID=America/Sao_Paulo:20251016T123000
DTEND;TZID=America/Sao_Paulo:20251016T170000
DTSTAMP:20260425T125946
CREATED:20251016T144926Z
LAST-MODIFIED:20251016T155331Z
UID:10000726-1760617800-1760634000@site.fo.usp.br
SUMMARY:Laboratório de Música de Câmara - LAMUC
DESCRIPTION:
URL:https://site.fo.usp.br/evento/laboratorio-de-musica-de-camara-lamuc/
CATEGORIES:Encontro
ATTACH;FMTTYPE=image/png:https://site.fo.usp.br/wp-content/uploads/2025/10/2025-Eventos-Feed.png
END:VEVENT
BEGIN:VEVENT
DTSTART;TZID=America/Sao_Paulo:20251017T090000
DTEND;TZID=America/Sao_Paulo:20251018T183000
DTSTAMP:20260425T125946
CREATED:20250812T163100Z
LAST-MODIFIED:20250915T113910Z
UID:10000689-1760691600-1760812200@site.fo.usp.br
SUMMARY:VIII Jornada de Odontologia e Antropologia Forense "Prof. Dr. Moacyr da Silva"
DESCRIPTION:
URL:https://site.fo.usp.br/evento/viii-jornada-de-odontologia-e-antropologia-forense/
CATEGORIES:Jornada
ATTACH;FMTTYPE=image/png:https://site.fo.usp.br/wp-content/uploads/2025/08/Feed-inscricoes.png
END:VEVENT
BEGIN:VEVENT
DTSTART;TZID=America/Sao_Paulo:20251020T140000
DTEND;TZID=America/Sao_Paulo:20251020T190000
DTSTAMP:20260425T125946
CREATED:20250912T221609Z
LAST-MODIFIED:20250912T221619Z
UID:10000711-1760968800-1760986800@site.fo.usp.br
SUMMARY:Dissertação de Mestrado de Gabriel Bittencourt Damin
DESCRIPTION:
URL:https://site.fo.usp.br/evento/dissertacao-de-mestrado-de-gabriel-bittencourt-damin/
CATEGORIES:Defesa de Tese
ATTACH;FMTTYPE=image/png:https://site.fo.usp.br/wp-content/uploads/2025/09/2025-Teses-Site-e-FEED-26.png
END:VEVENT
BEGIN:VEVENT
DTSTART;TZID=America/Sao_Paulo:20251021T080000
DTEND;TZID=America/Sao_Paulo:20251025T170000
DTSTAMP:20260425T125946
CREATED:20250902T161757Z
LAST-MODIFIED:20251021T101320Z
UID:10000708-1761033600-1761411600@site.fo.usp.br
SUMMARY:27ª Semana de Arte e Cultura
DESCRIPTION:
URL:https://site.fo.usp.br/evento/27a-semana-de-arte-e-cultura/
ATTACH;FMTTYPE=image/png:https://site.fo.usp.br/wp-content/uploads/2025/09/Feed-e-site-semana-de-arte-2.png
END:VEVENT
BEGIN:VEVENT
DTSTART;TZID=America/Sao_Paulo:20251021T090000
DTEND;TZID=America/Sao_Paulo:20251021T140000
DTSTAMP:20260425T125946
CREATED:20250820T144031Z
LAST-MODIFIED:20250820T144038Z
UID:10000704-1761037200-1761055200@site.fo.usp.br
SUMMARY:Tese de Doutorado de Hian Nivaldo Parize
DESCRIPTION:
URL:https://site.fo.usp.br/evento/tese-de-doutorado-de-hian-nivaldo-parize/
CATEGORIES:Defesa de Tese
ATTACH;FMTTYPE=image/png:https://site.fo.usp.br/wp-content/uploads/2025/08/2025-Teses-Site-e-FEED-21.png
END:VEVENT
BEGIN:VEVENT
DTSTART;TZID=America/Sao_Paulo:20251022T090000
DTEND;TZID=America/Sao_Paulo:20251022T140000
DTSTAMP:20260425T125946
CREATED:20250820T143729Z
LAST-MODIFIED:20250820T143736Z
UID:10000703-1761123600-1761141600@site.fo.usp.br
SUMMARY:Tese de Doutorado de Rodolfo de Carvalho Oliveira
DESCRIPTION:
URL:https://site.fo.usp.br/evento/tese-de-doutorado-de-rodolfo-de-carvalho-oliveira/
CATEGORIES:Defesa de Tese
ATTACH;FMTTYPE=image/png:https://site.fo.usp.br/wp-content/uploads/2025/08/2025-Teses-Site-e-FEED-20.png
END:VEVENT
END:VCALENDAR