BEGIN:VCALENDAR
VERSION:2.0
PRODID:-//FOUSP - ECPv6.15.20//NONSGML v1.0//EN
CALSCALE:GREGORIAN
METHOD:PUBLISH
X-WR-CALNAME:FOUSP
X-ORIGINAL-URL:https://site.fo.usp.br
X-WR-CALDESC:Eventos para FOUSP
REFRESH-INTERVAL;VALUE=DURATION:PT1H
X-Robots-Tag:noindex
X-PUBLISHED-TTL:PT1H
BEGIN:VTIMEZONE
TZID:America/Sao_Paulo
BEGIN:STANDARD
TZOFFSETFROM:-0300
TZOFFSETTO:-0300
TZNAME:-03
DTSTART:20240101T000000
END:STANDARD
END:VTIMEZONE
BEGIN:VEVENT
DTSTART;TZID=America/Sao_Paulo:20251029T113000
DTEND;TZID=America/Sao_Paulo:20251029T133000
DTSTAMP:20260424T090207
CREATED:20251019T155731Z
LAST-MODIFIED:20251019T155733Z
UID:10000728-1761737400-1761744600@site.fo.usp.br
SUMMARY:Finite element modeling of orthodontic aligners
DESCRIPTION:
URL:https://site.fo.usp.br/evento/finite-element-modeling-of-orthodontic-aligners/
CATEGORIES:Palestra
ATTACH;FMTTYPE=image/jpeg:https://site.fo.usp.br/wp-content/uploads/2025/10/AlexEvento.jpg
END:VEVENT
BEGIN:VEVENT
DTSTART;TZID=America/Sao_Paulo:20251030T090000
DTEND;TZID=America/Sao_Paulo:20251030T120000
DTSTAMP:20260424T090207
CREATED:20250211T184801Z
LAST-MODIFIED:20250408T192355Z
UID:10000603-1761814800-1761825600@site.fo.usp.br
SUMMARY:Sessão da Congregação
DESCRIPTION:
URL:https://site.fo.usp.br/evento/sessao-da-congregacao/2025-10-30/
CATEGORIES:Congregação
END:VEVENT
BEGIN:VEVENT
DTSTART;TZID=America/Sao_Paulo:20251030T140000
DTEND;TZID=America/Sao_Paulo:20251030T190000
DTSTAMP:20260424T090207
CREATED:20250820T171141Z
LAST-MODIFIED:20251029T195606Z
UID:10000705-1761832800-1761850800@site.fo.usp.br
SUMMARY:Dissertação de Mestrado de Lázaro da Silva Caixeta Neto
DESCRIPTION:
URL:https://site.fo.usp.br/evento/dissertacao-de-mestrado-de-lazaro-da-silva-caixeta-neto/
CATEGORIES:Defesa de Tese
ATTACH;FMTTYPE=image/png:https://site.fo.usp.br/wp-content/uploads/2025/08/2025-Teses-Site-e-FEED-24.png
END:VEVENT
BEGIN:VEVENT
DTSTART;TZID=America/Sao_Paulo:20251031T080000
DTEND;TZID=America/Sao_Paulo:20251101T130000
DTSTAMP:20260424T090207
CREATED:20250926T150859Z
LAST-MODIFIED:20250926T150904Z
UID:10000721-1761897600-1762002000@site.fo.usp.br
SUMMARY:II Jornada de Urgências Odontológicas
DESCRIPTION:
URL:https://site.fo.usp.br/evento/ii-jornada-de-urgencias-odontologicas/
CATEGORIES:Jornada
ATTACH;FMTTYPE=image/png:https://site.fo.usp.br/wp-content/uploads/2025/09/Copia-de-2025-Eventos-Feed.png
END:VEVENT
BEGIN:VEVENT
DTSTART;TZID=America/Sao_Paulo:20251031T140000
DTEND;TZID=America/Sao_Paulo:20251031T190000
DTSTAMP:20260424T090207
CREATED:20250915T113350Z
LAST-MODIFIED:20250915T113359Z
UID:10000716-1761919200-1761937200@site.fo.usp.br
SUMMARY:Dissertação de Mestrado de Nathália Souza de Andrade
DESCRIPTION:
URL:https://site.fo.usp.br/evento/dissertacao-de-mestrado-de-nathalia-souza-de-andrade/
ATTACH;FMTTYPE=image/jpeg:https://site.fo.usp.br/wp-content/uploads/2025/09/1.jpg
END:VEVENT
BEGIN:VEVENT
DTSTART;TZID=America/Sao_Paulo:20251104T090000
DTEND;TZID=America/Sao_Paulo:20251104T120000
DTSTAMP:20260424T090207
CREATED:20250506T115506Z
LAST-MODIFIED:20250506T115511Z
UID:10000658-1762246800-1762257600@site.fo.usp.br
SUMMARY:Reunião do CEP
DESCRIPTION:
URL:https://site.fo.usp.br/evento/reuniao-do-cep-8/
CATEGORIES:Comitê de Ética em Pesquisa
END:VEVENT
BEGIN:VEVENT
DTSTART;TZID=America/Sao_Paulo:20251105T140000
DTEND;TZID=America/Sao_Paulo:20251105T190000
DTSTAMP:20260424T090207
CREATED:20251021T101043Z
LAST-MODIFIED:20251021T101046Z
UID:10000729-1762351200-1762369200@site.fo.usp.br
SUMMARY:Tese de Doutorado de Wilton Lima dos Santos Júnior
DESCRIPTION:
URL:https://site.fo.usp.br/evento/tese-de-doutorado-de-wilton-lima-dos-santos-junior/
CATEGORIES:Defesa de Tese
ATTACH;FMTTYPE=image/jpeg:https://site.fo.usp.br/wp-content/uploads/2025/10/2025-Teses-Site-e-FEED.jpg
END:VEVENT
BEGIN:VEVENT
DTSTART;TZID=America/Sao_Paulo:20251106T090000
DTEND;TZID=America/Sao_Paulo:20251106T140000
DTSTAMP:20260424T090207
CREATED:20250915T113315Z
LAST-MODIFIED:20251103T151600Z
UID:10000715-1762419600-1762437600@site.fo.usp.br
SUMMARY:Dissertação de Mestrado de Fabiola Lucía Pantigozo Morán
DESCRIPTION:
URL:https://site.fo.usp.br/evento/dissertacao-de-mestrado-de-fabiolo-lucia-pantigozo-moran/
ATTACH;FMTTYPE=image/png:https://site.fo.usp.br/wp-content/uploads/2025/09/2025-Teses-Site-e-FEED.png
END:VEVENT
BEGIN:VEVENT
DTSTART;TZID=America/Sao_Paulo:20251113T000000
DTEND;TZID=America/Sao_Paulo:20251114T235959
DTSTAMP:20260424T090207
CREATED:20251017T123853Z
LAST-MODIFIED:20251017T123855Z
UID:10000724-1762992000-1763164799@site.fo.usp.br
SUMMARY:Grandes desafios e conquistas na participação social em pesquisas clínicas
DESCRIPTION:
URL:https://site.fo.usp.br/evento/grandes-desafios-e-conquistas-na-participacao-social-em-pesquisas-clinicas/
CATEGORIES:Ciclo de Palestras
ATTACH;FMTTYPE=image/jpeg:https://site.fo.usp.br/wp-content/uploads/2025/09/Eventos-2026-1.jpg
END:VEVENT
BEGIN:VEVENT
DTSTART;TZID=America/Sao_Paulo:20251119T090000
DTEND;TZID=America/Sao_Paulo:20251119T120000
DTSTAMP:20260424T090207
CREATED:20251114T164058Z
LAST-MODIFIED:20251114T164103Z
UID:10000739-1763542800-1763553600@site.fo.usp.br
SUMMARY:Plano Diretor de Unidade - 1ª Oficina Participativa
DESCRIPTION:
URL:https://site.fo.usp.br/evento/plano-diretor-de-unidade-1a-oficina-participativa/
LOCATION:Anfiteatro Myaki Issáo\, Avenida Professor Lineu Prestes\, 2227\, São Paulo\, SP\, 05508-000\, Brasil
ATTACH;FMTTYPE=image/png:https://site.fo.usp.br/wp-content/uploads/2025/11/Plano-Diretor-FOUSP.png
END:VEVENT
BEGIN:VEVENT
DTSTART;TZID=America/Sao_Paulo:20251119T140000
DTEND;TZID=America/Sao_Paulo:20251119T190000
DTSTAMP:20260424T090207
CREATED:20250912T221808Z
LAST-MODIFIED:20251029T195508Z
UID:10000712-1763560800-1763578800@site.fo.usp.br
SUMMARY:Tese de Doutorado de Giovanni Aguirra Liberatti
DESCRIPTION:
URL:https://site.fo.usp.br/evento/tese-de-doutorado-de-giovanni-aguirra-liberatti/
CATEGORIES:Defesa de Tese
ATTACH;FMTTYPE=image/png:https://site.fo.usp.br/wp-content/uploads/2025/09/Defesa-de-Teses-2026-2.png
END:VEVENT
BEGIN:VEVENT
DTSTART;TZID=America/Sao_Paulo:20251119T140000
DTEND;TZID=America/Sao_Paulo:20251119T190000
DTSTAMP:20260424T090207
CREATED:20251017T125004Z
LAST-MODIFIED:20251017T125006Z
UID:10000714-1763560800-1763578800@site.fo.usp.br
SUMMARY:Dissertação de Mestrado de Maria Luiza Rollo de Araújo
DESCRIPTION:
URL:https://site.fo.usp.br/evento/dissertacao-de-mestrado-de-maria-luiza-rollo-de-araujo/
ATTACH;FMTTYPE=image/jpeg:https://site.fo.usp.br/wp-content/uploads/2025/09/1-1.jpg
END:VEVENT
BEGIN:VEVENT
DTSTART;TZID=America/Sao_Paulo:20251125T080000
DTEND;TZID=America/Sao_Paulo:20251125T132000
DTSTAMP:20260424T090207
CREATED:20251119T130933Z
LAST-MODIFIED:20251119T131046Z
UID:10000740-1764057600-1764076800@site.fo.usp.br
SUMMARY:Envelhecer Sorrindo
DESCRIPTION:
URL:https://site.fo.usp.br/evento/envelhecer-sorrindo-2/
ATTACH;FMTTYPE=image/png:https://site.fo.usp.br/wp-content/uploads/2025/11/Copia-de-Eventos-2026-1.png
END:VEVENT
BEGIN:VEVENT
DTSTART;TZID=America/Sao_Paulo:20251127T083000
DTEND;TZID=America/Sao_Paulo:20251127T133000
DTSTAMP:20260424T090207
CREATED:20251105T114748Z
LAST-MODIFIED:20251105T114751Z
UID:10000738-1764232200-1764250200@site.fo.usp.br
SUMMARY:Tese de Doutorado de Rafael de Oliveira Lazarin
DESCRIPTION:
URL:https://site.fo.usp.br/evento/tese-de-doutorado-de-rafael-de-oliveira-lazarin/
CATEGORIES:Defesa de Tese
ATTACH;FMTTYPE=image/jpeg:https://site.fo.usp.br/wp-content/uploads/2025/11/Defesa-de-Teses-2026.jpg
END:VEVENT
BEGIN:VEVENT
DTSTART;TZID=America/Sao_Paulo:20251127T090000
DTEND;TZID=America/Sao_Paulo:20251127T120000
DTSTAMP:20260424T090207
CREATED:20250408T192011Z
LAST-MODIFIED:20250408T192016Z
UID:10000642-1764234000-1764244800@site.fo.usp.br
SUMMARY:Reunião do Conselho Técnico Administrativo – CTA
DESCRIPTION:
URL:https://site.fo.usp.br/evento/reuniao-do-conselho-tecnico-administrativo-cta-5/
CATEGORIES:Conselho Técnico Administrativo
END:VEVENT
BEGIN:VEVENT
DTSTART;TZID=America/Sao_Paulo:20251128T070000
DTEND;TZID=America/Sao_Paulo:20251128T181500
DTSTAMP:20260424T090207
CREATED:20251017T122304Z
LAST-MODIFIED:20251017T122400Z
UID:10000727-1764313200-1764353700@site.fo.usp.br
SUMMARY:XXV JoCAPE
DESCRIPTION:
URL:https://site.fo.usp.br/evento/xxv-jocape/
CATEGORIES:Jornada
ATTACH;FMTTYPE=image/jpeg:https://site.fo.usp.br/wp-content/uploads/2025/10/Eventos-2026.jpg
END:VEVENT
BEGIN:VEVENT
DTSTART;TZID=America/Sao_Paulo:20251128T090000
DTEND;TZID=America/Sao_Paulo:20251128T140000
DTSTAMP:20260424T090207
CREATED:20251017T124937Z
LAST-MODIFIED:20251017T124940Z
UID:10000717-1764320400-1764338400@site.fo.usp.br
SUMMARY:Tese de Doutorado de Eduardo Perissinotto
DESCRIPTION:
URL:https://site.fo.usp.br/evento/tese-de-doutorado-de-eduardo-perissinotto/
ATTACH;FMTTYPE=image/jpeg:https://site.fo.usp.br/wp-content/uploads/2025/09/2-2.jpg
END:VEVENT
BEGIN:VEVENT
DTSTART;TZID=America/Sao_Paulo:20251202T090000
DTEND;TZID=America/Sao_Paulo:20251202T120000
DTSTAMP:20260424T090207
CREATED:20250506T115537Z
LAST-MODIFIED:20250506T115542Z
UID:10000659-1764666000-1764676800@site.fo.usp.br
SUMMARY:Reunião do CEP
DESCRIPTION:
URL:https://site.fo.usp.br/evento/reuniao-do-cep-9/
CATEGORIES:Comitê de Ética em Pesquisa
END:VEVENT
BEGIN:VEVENT
DTSTART;TZID=America/Sao_Paulo:20251202T090000
DTEND;TZID=America/Sao_Paulo:20251202T140000
DTSTAMP:20260424T090207
CREATED:20251021T104557Z
LAST-MODIFIED:20251113T170205Z
UID:10000730-1764666000-1764684000@site.fo.usp.br
SUMMARY:Tese de Doutorado de Larissa Oliveira Dantas
DESCRIPTION:
URL:https://site.fo.usp.br/evento/tese-de-doutorado-de-larissa-oliveira-dantas/
LOCATION:Anfiteatro Myaki Issáo\, Avenida Professor Lineu Prestes\, 2227\, São Paulo\, SP\, 05508-000\, Brasil
CATEGORIES:Defesa de Tese
ATTACH;FMTTYPE=image/png:https://site.fo.usp.br/wp-content/uploads/2025/10/2.png
END:VEVENT
BEGIN:VEVENT
DTSTART;TZID=America/Sao_Paulo:20251202T164500
DTEND;TZID=America/Sao_Paulo:20251202T180000
DTSTAMP:20260424T090207
CREATED:20251122T194736Z
LAST-MODIFIED:20251122T211911Z
UID:10000741-1764693900-1764698400@site.fo.usp.br
SUMMARY:Comunicação Científica: caminhos e desafios
DESCRIPTION:
URL:https://site.fo.usp.br/evento/comunicacao-cientifica-caminhos-e-desafios/
ATTACH;FMTTYPE=image/jpeg:https://site.fo.usp.br/wp-content/uploads/2025/11/dfbdf.jpg
END:VEVENT
BEGIN:VEVENT
DTSTART;TZID=America/Sao_Paulo:20251203T140000
DTEND;TZID=America/Sao_Paulo:20251203T190000
DTSTAMP:20260424T090207
CREATED:20251021T104652Z
LAST-MODIFIED:20251022T162802Z
UID:10000732-1764770400-1764788400@site.fo.usp.br
SUMMARY:Tese de Doutorado de Lis Meirelles
DESCRIPTION:
URL:https://site.fo.usp.br/evento/tese-de-doutorado-de-lis-meirelles/
CATEGORIES:Defesa de Tese
ATTACH;FMTTYPE=image/jpeg:https://site.fo.usp.br/wp-content/uploads/2025/10/6-3.jpg
END:VEVENT
BEGIN:VEVENT
DTSTART;TZID=America/Sao_Paulo:20251204T090000
DTEND;TZID=America/Sao_Paulo:20251204T120000
DTSTAMP:20260424T090207
CREATED:20250211T184801Z
LAST-MODIFIED:20250408T192355Z
UID:10000604-1764838800-1764849600@site.fo.usp.br
SUMMARY:Sessão da Congregação
DESCRIPTION:
URL:https://site.fo.usp.br/evento/sessao-da-congregacao/2025-12-04/
CATEGORIES:Congregação
END:VEVENT
BEGIN:VEVENT
DTSTART;TZID=America/Sao_Paulo:20251205T140000
DTEND;TZID=America/Sao_Paulo:20251205T190000
DTSTAMP:20260424T090207
CREATED:20251017T124951Z
LAST-MODIFIED:20251017T124953Z
UID:10000713-1764943200-1764961200@site.fo.usp.br
SUMMARY:Tese de Doutorado de Letícia Rodrigues de Castro
DESCRIPTION:
URL:https://site.fo.usp.br/evento/tese-de-doutorado-de-leticia-rodrigues-de-castro/
ATTACH;FMTTYPE=image/jpeg:https://site.fo.usp.br/wp-content/uploads/2025/09/3-2.jpg
END:VEVENT
BEGIN:VEVENT
DTSTART;TZID=America/Sao_Paulo:20251209T140000
DTEND;TZID=America/Sao_Paulo:20251209T190000
DTSTAMP:20260424T090207
CREATED:20251021T104711Z
LAST-MODIFIED:20251021T104714Z
UID:10000733-1765288800-1765306800@site.fo.usp.br
SUMMARY:Tese de Doutorado de Ruan Pinto Mendes
DESCRIPTION:
URL:https://site.fo.usp.br/evento/tese-de-doutorado-de-ruan-pinto-mendes/
CATEGORIES:Defesa de Tese
ATTACH;FMTTYPE=image/jpeg:https://site.fo.usp.br/wp-content/uploads/2025/10/7-2.jpg
END:VEVENT
BEGIN:VEVENT
DTSTART;TZID=America/Sao_Paulo:20251210T110000
DTEND;TZID=America/Sao_Paulo:20251210T130000
DTSTAMP:20260424T090207
CREATED:20251203T175546Z
LAST-MODIFIED:20251203T175549Z
UID:10000743-1765364400-1765371600@site.fo.usp.br
SUMMARY:Cerimônia de posse dos Professores Giuseppe Alexandre Romito e Maria Cristina Zindel Deboni
DESCRIPTION:
URL:https://site.fo.usp.br/evento/cerimonia-de-posse-dos-professores-giuseppe-alexandre-romito-e-maria-cristina-zindel-deboni/
CATEGORIES:Encontro
ATTACH;FMTTYPE=image/jpeg:https://site.fo.usp.br/wp-content/uploads/2025/12/Carlos-Gilberto-Carlotti-Junior-Reitor-da-Universidade-de-Sao-Paulo-tem-a-honra-de-convidar-Vossa-Senhoria.jpg
END:VEVENT
BEGIN:VEVENT
DTSTART;TZID=America/Sao_Paulo:20251211T130000
DTEND;TZID=America/Sao_Paulo:20251211T130000
DTSTAMP:20260424T090207
CREATED:20251021T104622Z
LAST-MODIFIED:20251124T152003Z
UID:10000731-1765458000-1765458000@site.fo.usp.br
SUMMARY:Tese de Doutorado de Alexandre Lazzari Konflanz
DESCRIPTION:
URL:https://site.fo.usp.br/evento/tese-de-doutorado-de-alexandre-lazzari-konflanz/
CATEGORIES:Defesa de Tese
ATTACH;FMTTYPE=image/png:https://site.fo.usp.br/wp-content/uploads/2025/10/Defesa-de-Teses-2026-1.png
END:VEVENT
BEGIN:VEVENT
DTSTART;TZID=America/Sao_Paulo:20251211T130000
DTEND;TZID=America/Sao_Paulo:20251211T180000
DTSTAMP:20260424T090207
CREATED:20251021T104735Z
LAST-MODIFIED:20251021T104738Z
UID:10000734-1765458000-1765476000@site.fo.usp.br
SUMMARY:Tese de Doutorado de Francisco Bárbara Abreu Barros
DESCRIPTION:
URL:https://site.fo.usp.br/evento/tese-de-doutorado-de-francisco-barbara-abreu-barros/
CATEGORIES:Defesa de Tese
ATTACH;FMTTYPE=image/jpeg:https://site.fo.usp.br/wp-content/uploads/2025/10/8-2.jpg
END:VEVENT
BEGIN:VEVENT
DTSTART;TZID=America/Sao_Paulo:20251212T083000
DTEND;TZID=America/Sao_Paulo:20251212T133000
DTSTAMP:20260424T090207
CREATED:20251021T110739Z
LAST-MODIFIED:20251021T110742Z
UID:10000736-1765528200-1765546200@site.fo.usp.br
SUMMARY:Dissertação de Mestrado de Giovanna de Castro Ribeiro Borsoni
DESCRIPTION:
URL:https://site.fo.usp.br/evento/dissertacao-de-mestrado-de-giovanna-de-castro-ribeiro-borsoni/
CATEGORIES:Defesa de Tese
ATTACH;FMTTYPE=image/jpeg:https://site.fo.usp.br/wp-content/uploads/2025/10/Defesa-de-Teses-2026.jpg
END:VEVENT
BEGIN:VEVENT
DTSTART;TZID=America/Sao_Paulo:20251215T083000
DTEND;TZID=America/Sao_Paulo:20251215T133000
DTSTAMP:20260424T090207
CREATED:20251021T104801Z
LAST-MODIFIED:20251021T104804Z
UID:10000735-1765787400-1765805400@site.fo.usp.br
SUMMARY:Tese de Doutorado de Mylena de Araújo Regis
DESCRIPTION:
URL:https://site.fo.usp.br/evento/tese-de-doutorado-de-mylena-de-araujo-regis/
CATEGORIES:Defesa de Tese
ATTACH;FMTTYPE=image/jpeg:https://site.fo.usp.br/wp-content/uploads/2025/10/9-1.jpg
END:VEVENT
BEGIN:VEVENT
DTSTART;TZID=America/Sao_Paulo:20251217T170000
DTEND;TZID=America/Sao_Paulo:20251217T200000
DTSTAMP:20260424T090207
CREATED:20251202T135843Z
LAST-MODIFIED:20251202T135847Z
UID:10000742-1765990800-1766001600@site.fo.usp.br
SUMMARY:Lançamento do livro "125 anos de história da Faculdade de Odontologia da Universidade de São Paulo"
DESCRIPTION:O Prof. Dr. Rodney Garcia Rocha nos presenteia com um mergulho ilustrado na trajetória de excelência da Faculdade de Odontologia da USP (FOUSP). \n\n\n\nSão 12 capítulos que contam desde sua origem\, até a FOUSP de hoje\, referência em pesquisa\, ensino e inclusão global. Uma história de mais de um século que moldou a Odontologia no Brasil \n\n\n\nO lançamento do livro será no dia 17 de dezembro de 2025\, às 17h\, no CRAI da Faculdade de Odontologia da USP. \n\n\n\nAvenida Professor Lineu Prestes\, 2227 \n\n\n\nRSVP: dirfo@usp.br
URL:https://site.fo.usp.br/evento/lancamento-do-livro-125-anos-de-historia-da-faculdade-de-odontologia-da-universidade-de-sao-paulo/
CATEGORIES:Aula Aberta
ATTACH;FMTTYPE=image/jpeg:https://site.fo.usp.br/wp-content/uploads/2025/12/FEED-Modelos-diversos-2026-1.jpg
END:VEVENT
END:VCALENDAR