BEGIN:VCALENDAR
VERSION:2.0
PRODID:-//FOUSP - ECPv6.15.20//NONSGML v1.0//EN
CALSCALE:GREGORIAN
METHOD:PUBLISH
X-ORIGINAL-URL:https://site.fo.usp.br
X-WR-CALDESC:Eventos para FOUSP
REFRESH-INTERVAL;VALUE=DURATION:PT1H
X-Robots-Tag:noindex
X-PUBLISHED-TTL:PT1H
BEGIN:VTIMEZONE
TZID:America/Sao_Paulo
BEGIN:STANDARD
TZOFFSETFROM:-0300
TZOFFSETTO:-0300
TZNAME:-03
DTSTART:20250101T000000
END:STANDARD
END:VTIMEZONE
BEGIN:VEVENT
DTSTART;TZID=America/Sao_Paulo:20260424T090000
DTEND;TZID=America/Sao_Paulo:20260424T130000
DTSTAMP:20260424T183910
CREATED:20260317T180912Z
LAST-MODIFIED:20260317T180914Z
UID:10000823-1777021200-1777035600@site.fo.usp.br
SUMMARY:Dissertação de Mestrado de Leticia Maria Balbino Rigo
DESCRIPTION:
URL:https://site.fo.usp.br/evento/dissertacao-de-mestrado-de-leticia-maria-balbino-rigo/
CATEGORIES:Defesa de Tese
ATTACH;FMTTYPE=image/png:https://site.fo.usp.br/wp-content/uploads/2026/03/14.png
END:VEVENT
BEGIN:VEVENT
DTSTART;TZID=America/Sao_Paulo:20260424T133000
DTEND;TZID=America/Sao_Paulo:20260424T173000
DTSTAMP:20260424T183910
CREATED:20260317T181439Z
LAST-MODIFIED:20260317T181442Z
UID:10000825-1777037400-1777051800@site.fo.usp.br
SUMMARY:Dissertação de Mestrado de Carolina Gomes Bolsonello
DESCRIPTION:
URL:https://site.fo.usp.br/evento/dissertacao-de-mestrado-de-carolina-gomes-bolsonello/
CATEGORIES:Defesa de Tese
ATTACH;FMTTYPE=image/png:https://site.fo.usp.br/wp-content/uploads/2026/03/20.png
END:VEVENT
BEGIN:VEVENT
DTSTART;TZID=America/Sao_Paulo:20260424T140000
DTEND;TZID=America/Sao_Paulo:20260424T180000
DTSTAMP:20260424T183910
CREATED:20260414T133633Z
LAST-MODIFIED:20260414T133636Z
UID:10000855-1777039200-1777053600@site.fo.usp.br
SUMMARY:Dissertação de Mestrado de Gabriele de Oliveira
DESCRIPTION:
URL:https://site.fo.usp.br/evento/dissertacao-de-mestrado-de-gabriele-de-oliveira/
CATEGORIES:Defesa de Tese
ATTACH;FMTTYPE=image/png:https://site.fo.usp.br/wp-content/uploads/2026/04/Lote-1-CARLA-Todos-os-modelos-Defesa-de-teses-2.png
END:VEVENT
BEGIN:VEVENT
DTSTART;TZID=America/Sao_Paulo:20260424T150000
DTEND;TZID=America/Sao_Paulo:20260424T190000
DTSTAMP:20260424T183910
CREATED:20260319T142839Z
LAST-MODIFIED:20260319T142841Z
UID:10000839-1777042800-1777057200@site.fo.usp.br
SUMMARY:Dissertação de Mestrado de Mariana Giordano Cordoni
DESCRIPTION:
URL:https://site.fo.usp.br/evento/dissertacao-de-mestrado-de-mariana-giordano-cordoni/
CATEGORIES:Defesa de Tese
ATTACH;FMTTYPE=image/png:https://site.fo.usp.br/wp-content/uploads/2026/03/11-2.png
END:VEVENT
END:VCALENDAR