BEGIN:VCALENDAR
VERSION:2.0
PRODID:-//FOUSP - ECPv6.15.20//NONSGML v1.0//EN
CALSCALE:GREGORIAN
METHOD:PUBLISH
X-WR-CALNAME:FOUSP
X-ORIGINAL-URL:https://site.fo.usp.br
X-WR-CALDESC:Eventos para FOUSP
REFRESH-INTERVAL;VALUE=DURATION:PT1H
X-Robots-Tag:noindex
X-PUBLISHED-TTL:PT1H
BEGIN:VTIMEZONE
TZID:America/Sao_Paulo
BEGIN:STANDARD
TZOFFSETFROM:-0300
TZOFFSETTO:-0300
TZNAME:-03
DTSTART:20250101T000000
END:STANDARD
END:VTIMEZONE
BEGIN:VEVENT
DTSTART;TZID=America/Sao_Paulo:20260406T090000
DTEND;TZID=America/Sao_Paulo:20260406T130000
DTSTAMP:20260420T073123
CREATED:20260220T132112Z
LAST-MODIFIED:20260220T132116Z
UID:10000804-1775466000-1775480400@site.fo.usp.br
SUMMARY:Dissertação de Mestrado de Aline Ramos Carlucci
DESCRIPTION:
URL:https://site.fo.usp.br/evento/dissertacao-de-mestrado-de-aline-ramos-carlucci/
CATEGORIES:Defesa de Tese
ATTACH;FMTTYPE=image/png:https://site.fo.usp.br/wp-content/uploads/2026/02/2-1.png
END:VEVENT
BEGIN:VEVENT
DTSTART;TZID=America/Sao_Paulo:20260407T083000
DTEND;TZID=America/Sao_Paulo:20260407T133000
DTSTAMP:20260420T073123
CREATED:20260302T154650Z
LAST-MODIFIED:20260302T154726Z
UID:10000809-1775550600-1775568600@site.fo.usp.br
SUMMARY:Tese de Doutorado de Isabela Souza Vardasca
DESCRIPTION:
URL:https://site.fo.usp.br/evento/tese-de-doutorado-de-isabela-souza-vardasca/
CATEGORIES:Defesa de Tese
ATTACH;FMTTYPE=image/png:https://site.fo.usp.br/wp-content/uploads/2026/03/2.png
END:VEVENT
BEGIN:VEVENT
DTSTART;TZID=America/Sao_Paulo:20260407T090000
DTEND;TZID=America/Sao_Paulo:20260407T120000
DTSTAMP:20260420T073123
CREATED:20251203T181846Z
LAST-MODIFIED:20251203T183505Z
UID:10000746-1775552400-1775563200@site.fo.usp.br
SUMMARY:Reunião do Comitê de Ética em Pesquisa
DESCRIPTION:
URL:https://site.fo.usp.br/evento/sessao-da-congregacao-4/
CATEGORIES:Comitê de Ética em Pesquisa
END:VEVENT
BEGIN:VEVENT
DTSTART;TZID=America/Sao_Paulo:20260407T140000
DTEND;TZID=America/Sao_Paulo:20260407T170000
DTSTAMP:20260420T073123
CREATED:20260317T153908Z
LAST-MODIFIED:20260317T153911Z
UID:10000818-1775570400-1775581200@site.fo.usp.br
SUMMARY:Dissertação de Mestrado de Beatriz Eloiza Mattos Jacob
DESCRIPTION:
URL:https://site.fo.usp.br/evento/dissertacao-de-mestrado-de-beatriz-eloiza-mattos-jacob/
CATEGORIES:Defesa de Tese
ATTACH;FMTTYPE=image/png:https://site.fo.usp.br/wp-content/uploads/2026/03/2-3.png
END:VEVENT
BEGIN:VEVENT
DTSTART;TZID=America/Sao_Paulo:20260408T090000
DTEND;TZID=America/Sao_Paulo:20260408T140000
DTSTAMP:20260420T073123
CREATED:20260317T152153Z
LAST-MODIFIED:20260317T152156Z
UID:10000816-1775638800-1775656800@site.fo.usp.br
SUMMARY:Dissertação de Mestrado de Beatriz Fonseca Vela
DESCRIPTION:
URL:https://site.fo.usp.br/evento/dissertacao-de-mestrado-de-beatriz-fonseca-vela/
CATEGORIES:Defesa de Tese
ATTACH;FMTTYPE=image/png:https://site.fo.usp.br/wp-content/uploads/2026/03/2-1.png
END:VEVENT
BEGIN:VEVENT
DTSTART;TZID=America/Sao_Paulo:20260409T114500
DTEND;TZID=America/Sao_Paulo:20260409T130000
DTSTAMP:20260420T073123
CREATED:20260317T110047Z
LAST-MODIFIED:20260317T110051Z
UID:10000815-1775735100-1775739600@site.fo.usp.br
SUMMARY:Sessão de cinema "Que horas ela volta?"
DESCRIPTION:
URL:https://site.fo.usp.br/evento/sessao-de-cinema-que-horas-ela-volta/
CATEGORIES:Cinema
ATTACH;FMTTYPE=image/jpeg:https://site.fo.usp.br/wp-content/uploads/2026/03/FORMATO-FEED.jpg
END:VEVENT
BEGIN:VEVENT
DTSTART;TZID=America/Sao_Paulo:20260410T090000
DTEND;TZID=America/Sao_Paulo:20260410T090000
DTSTAMP:20260420T073123
CREATED:20260115T114919Z
LAST-MODIFIED:20260115T114921Z
UID:10000784-1775811600-1775811600@site.fo.usp.br
SUMMARY:Reunião CCExFO
DESCRIPTION:
URL:https://site.fo.usp.br/evento/reuniao-ccexfo-5/
CATEGORIES:Comissão de Cultura e Extensão Universitária
END:VEVENT
BEGIN:VEVENT
DTSTART;TZID=America/Sao_Paulo:20260410T090000
DTEND;TZID=America/Sao_Paulo:20260410T140000
DTSTAMP:20260420T073123
CREATED:20260213T145222Z
LAST-MODIFIED:20260213T164708Z
UID:10000796-1775811600-1775829600@site.fo.usp.br
SUMMARY:Tese de Doutorado de Bruna Cordeiro Amarante
DESCRIPTION:
URL:https://site.fo.usp.br/evento/tese-de-doutorado-de-bruna-cordeiro-amarante/
CATEGORIES:Defesa de Tese
ATTACH;FMTTYPE=image/png:https://site.fo.usp.br/wp-content/uploads/2026/02/4.png
END:VEVENT
BEGIN:VEVENT
DTSTART;TZID=America/Sao_Paulo:20260410T090000
DTEND;TZID=America/Sao_Paulo:20260410T140000
DTSTAMP:20260420T073123
CREATED:20260317T152820Z
LAST-MODIFIED:20260317T152823Z
UID:10000817-1775811600-1775829600@site.fo.usp.br
SUMMARY:Tese de Doutorado Direto de Amanda Lopes Campos
DESCRIPTION:
URL:https://site.fo.usp.br/evento/tese-de-doutorado-direto-de-amanda-lopes-campos/
CATEGORIES:Defesa de Tese
ATTACH;FMTTYPE=image/png:https://site.fo.usp.br/wp-content/uploads/2026/03/2-2.png
END:VEVENT
BEGIN:VEVENT
DTSTART;TZID=America/Sao_Paulo:20260410T140000
DTEND;TZID=America/Sao_Paulo:20260410T190000
DTSTAMP:20260420T073123
CREATED:20260317T180043Z
LAST-MODIFIED:20260317T180046Z
UID:10000819-1775829600-1775847600@site.fo.usp.br
SUMMARY:Dissertação de Mestrado de Roberta Martins Figueiredo
DESCRIPTION:
URL:https://site.fo.usp.br/evento/dissertacao-de-mestrado-de-roberta-martins-figueiredo/
CATEGORIES:Defesa de Tese
ATTACH;FMTTYPE=image/png:https://site.fo.usp.br/wp-content/uploads/2026/03/2-4.png
END:VEVENT
BEGIN:VEVENT
DTSTART;TZID=America/Sao_Paulo:20260413T090000
DTEND;TZID=America/Sao_Paulo:20260413T130000
DTSTAMP:20260420T073123
CREATED:20260319T142402Z
LAST-MODIFIED:20260319T142404Z
UID:10000837-1776070800-1776085200@site.fo.usp.br
SUMMARY:Dissertação de Mestrado de Káthya Bertolini
DESCRIPTION:
URL:https://site.fo.usp.br/evento/dissertacao-de-mestrado-de-kathya-bertolini/
CATEGORIES:Defesa de Tese
ATTACH;FMTTYPE=image/png:https://site.fo.usp.br/wp-content/uploads/2026/03/5-2.png
END:VEVENT
BEGIN:VEVENT
DTSTART;TZID=America/Sao_Paulo:20260413T123000
DTEND;TZID=America/Sao_Paulo:20260413T133000
DTSTAMP:20260420T073123
CREATED:20260409T122532Z
LAST-MODIFIED:20260409T122534Z
UID:10000852-1776083400-1776087000@site.fo.usp.br
SUMMARY:13/04/2026: Palestra "Pesquisas aplicando o Método dos Elementos Finitos na Odontologia e áreas médicas"
DESCRIPTION:
URL:https://site.fo.usp.br/evento/13-04-2026-palestra-pesquisas-aplicando-o-metodo-dos-elementos-finitos-na-odontologia-e-areas-medicas/
ATTACH;FMTTYPE=image/png:https://site.fo.usp.br/wp-content/uploads/2026/04/Palestra-Bruno-UNESP-Site-FOUSP.png
END:VEVENT
BEGIN:VEVENT
DTSTART;TZID=America/Sao_Paulo:20260414T090000
DTEND;TZID=America/Sao_Paulo:20260414T140000
DTSTAMP:20260420T073123
CREATED:20260213T145019Z
LAST-MODIFIED:20260213T164920Z
UID:10000795-1776157200-1776175200@site.fo.usp.br
SUMMARY:Tese de Doutorado de Núbia Rafaelle Oliveira de Meneses
DESCRIPTION:
URL:https://site.fo.usp.br/evento/tese-de-doutorado-de-nubia-rafaelle-oliveira-de-meneses/
CATEGORIES:Defesa de Tese
ATTACH;FMTTYPE=image/png:https://site.fo.usp.br/wp-content/uploads/2026/02/Defesa-de-Teses-2026.png
END:VEVENT
BEGIN:VEVENT
DTSTART;TZID=America/Sao_Paulo:20260414T140000
DTEND;TZID=America/Sao_Paulo:20260414T170000
DTSTAMP:20260420T073123
CREATED:20260327T101446Z
LAST-MODIFIED:20260327T140553Z
UID:10000851-1776175200-1776186000@site.fo.usp.br
SUMMARY:Palestra “Novas Perspectivas Diagnósticas em Odontologia: ddMRI”
DESCRIPTION:
URL:https://site.fo.usp.br/evento/palestra-novas-perspectivas-diagnosticas-em-odontologia-ddmri/
CATEGORIES:Palestra
ATTACH;FMTTYPE=image/jpeg:https://site.fo.usp.br/wp-content/uploads/2026/03/id-1.jpg
END:VEVENT
BEGIN:VEVENT
DTSTART;TZID=America/Sao_Paulo:20260415T140000
DTEND;TZID=America/Sao_Paulo:20260415T180000
DTSTAMP:20260420T073123
CREATED:20260319T142732Z
LAST-MODIFIED:20260319T142734Z
UID:10000838-1776261600-1776276000@site.fo.usp.br
SUMMARY:Dissertação de Mestrado de Sabrina Marcondes Teixeira da Silva
DESCRIPTION:
URL:https://site.fo.usp.br/evento/dissertacao-de-mestrado-de-sabrina-marcondes-teixeira-da-silva/
CATEGORIES:Defesa de Tese
ATTACH;FMTTYPE=image/png:https://site.fo.usp.br/wp-content/uploads/2026/03/8_1.png
END:VEVENT
BEGIN:VEVENT
DTSTART;TZID=America/Sao_Paulo:20260417T090000
DTEND;TZID=America/Sao_Paulo:20260417T130000
DTSTAMP:20260420T073123
CREATED:20260317T180241Z
LAST-MODIFIED:20260317T180244Z
UID:10000820-1776416400-1776430800@site.fo.usp.br
SUMMARY:Dissertação de Mestrado de Carla Rodrigues de Almeida Silva
DESCRIPTION:
URL:https://site.fo.usp.br/evento/dissertacao-de-mestrado-de-carla-rodrigues-de-almeida-silva/
CATEGORIES:Defesa de Tese
ATTACH;FMTTYPE=image/png:https://site.fo.usp.br/wp-content/uploads/2026/03/5.png
END:VEVENT
BEGIN:VEVENT
DTSTART;TZID=America/Sao_Paulo:20260417T090000
DTEND;TZID=America/Sao_Paulo:20260417T133000
DTSTAMP:20260420T073123
CREATED:20260317T180434Z
LAST-MODIFIED:20260317T180436Z
UID:10000821-1776416400-1776432600@site.fo.usp.br
SUMMARY:Tese de Doutorado de Marcos Antônio Lima dos Santos
DESCRIPTION:
URL:https://site.fo.usp.br/evento/tese-de-doutorado-de-marcos-antonio-lima-dos-santos/
CATEGORIES:Defesa de Tese
ATTACH;FMTTYPE=image/png:https://site.fo.usp.br/wp-content/uploads/2026/03/8.png
END:VEVENT
BEGIN:VEVENT
DTSTART;TZID=America/Sao_Paulo:20260417T140000
DTEND;TZID=America/Sao_Paulo:20260417T190000
DTSTAMP:20260420T073123
CREATED:20260213T144854Z
LAST-MODIFIED:20260304T181728Z
UID:10000794-1776434400-1776452400@site.fo.usp.br
SUMMARY:Tese de Doutorado de Bruno Gomes
DESCRIPTION:
URL:https://site.fo.usp.br/evento/tese-de-doutorado-de-bruno-gomes/
CATEGORIES:Defesa de Tese
ATTACH;FMTTYPE=image/png:https://site.fo.usp.br/wp-content/uploads/2026/02/2-3.png
END:VEVENT
BEGIN:VEVENT
DTSTART;TZID=America/Sao_Paulo:20260422T114500
DTEND;TZID=America/Sao_Paulo:20260422T130000
DTSTAMP:20260420T073123
CREATED:20260410T160621Z
LAST-MODIFIED:20260410T160623Z
UID:10000853-1776858300-1776862800@site.fo.usp.br
SUMMARY:2ª Sessão de cinema “Que horas ela volta?”
DESCRIPTION:
URL:https://site.fo.usp.br/evento/2a-sessao-de-cinema-que-horas-ela-volta/
ATTACH;FMTTYPE=image/jpeg:https://site.fo.usp.br/wp-content/uploads/2026/04/FORMATO-FEED-1.jpg
END:VEVENT
BEGIN:VEVENT
DTSTART;TZID=America/Sao_Paulo:20260422T140000
DTEND;TZID=America/Sao_Paulo:20260422T180000
DTSTAMP:20260420T073123
CREATED:20260317T180618Z
LAST-MODIFIED:20260325T133512Z
UID:10000822-1776866400-1776880800@site.fo.usp.br
SUMMARY:Dissertação de Mestrado de Rafael Victor Albuquerque de Abreu
DESCRIPTION:
URL:https://site.fo.usp.br/evento/dissertacao-de-mestrado-de-rafael-victor-albuquerque-de-abreu/
CATEGORIES:Defesa de Tese
ATTACH;FMTTYPE=image/jpeg:https://site.fo.usp.br/wp-content/uploads/2026/03/2.jpg
END:VEVENT
BEGIN:VEVENT
DTSTART;TZID=America/Sao_Paulo:20260423T090000
DTEND;TZID=America/Sao_Paulo:20260423T120000
DTSTAMP:20260420T073123
CREATED:20260323T194411Z
LAST-MODIFIED:20260414T132439Z
UID:10000841-1776934800-1776945600@site.fo.usp.br
SUMMARY:Reunião da CIP
DESCRIPTION:
URL:https://site.fo.usp.br/evento/reuniao-da-cip/
CATEGORIES:Comissão de Inclusão e Pertencimento
END:VEVENT
BEGIN:VEVENT
DTSTART;TZID=America/Sao_Paulo:20260423T123000
DTEND;TZID=America/Sao_Paulo:20260423T133000
DTSTAMP:20260420T073123
CREATED:20260417T203339Z
LAST-MODIFIED:20260417T203341Z
UID:10000858-1776947400-1776951000@site.fo.usp.br
SUMMARY:Introdução à modelagem 3D com aplicação em Odontologia
DESCRIPTION:
URL:https://site.fo.usp.br/evento/introducao-a-modelagem-3d-com-aplicacao-em-odontologia/
CATEGORIES:Palestra
ATTACH;FMTTYPE=image/jpeg:https://site.fo.usp.br/wp-content/uploads/2026/04/WhatsApp-Image-2026-04-17-at-17.32.37.jpeg
END:VEVENT
BEGIN:VEVENT
DTSTART;TZID=America/Sao_Paulo:20260424T090000
DTEND;TZID=America/Sao_Paulo:20260424T130000
DTSTAMP:20260420T073123
CREATED:20260317T180912Z
LAST-MODIFIED:20260317T180914Z
UID:10000823-1777021200-1777035600@site.fo.usp.br
SUMMARY:Dissertação de Mestrado de Leticia Maria Balbino Rigo
DESCRIPTION:
URL:https://site.fo.usp.br/evento/dissertacao-de-mestrado-de-leticia-maria-balbino-rigo/
CATEGORIES:Defesa de Tese
ATTACH;FMTTYPE=image/png:https://site.fo.usp.br/wp-content/uploads/2026/03/14.png
END:VEVENT
BEGIN:VEVENT
DTSTART;TZID=America/Sao_Paulo:20260424T133000
DTEND;TZID=America/Sao_Paulo:20260424T173000
DTSTAMP:20260420T073123
CREATED:20260317T181439Z
LAST-MODIFIED:20260317T181442Z
UID:10000825-1777037400-1777051800@site.fo.usp.br
SUMMARY:Dissertação de Mestrado de Carolina Gomes Bolsonello
DESCRIPTION:
URL:https://site.fo.usp.br/evento/dissertacao-de-mestrado-de-carolina-gomes-bolsonello/
CATEGORIES:Defesa de Tese
ATTACH;FMTTYPE=image/png:https://site.fo.usp.br/wp-content/uploads/2026/03/20.png
END:VEVENT
BEGIN:VEVENT
DTSTART;TZID=America/Sao_Paulo:20260424T140000
DTEND;TZID=America/Sao_Paulo:20260424T180000
DTSTAMP:20260420T073123
CREATED:20260414T133633Z
LAST-MODIFIED:20260414T133636Z
UID:10000855-1777039200-1777053600@site.fo.usp.br
SUMMARY:Dissertação de Mestrado de Gabriele de Oliveira
DESCRIPTION:
URL:https://site.fo.usp.br/evento/dissertacao-de-mestrado-de-gabriele-de-oliveira/
CATEGORIES:Defesa de Tese
ATTACH;FMTTYPE=image/png:https://site.fo.usp.br/wp-content/uploads/2026/04/Lote-1-CARLA-Todos-os-modelos-Defesa-de-teses-2.png
END:VEVENT
BEGIN:VEVENT
DTSTART;TZID=America/Sao_Paulo:20260424T150000
DTEND;TZID=America/Sao_Paulo:20260424T190000
DTSTAMP:20260420T073123
CREATED:20260319T142839Z
LAST-MODIFIED:20260319T142841Z
UID:10000839-1777042800-1777057200@site.fo.usp.br
SUMMARY:Dissertação de Mestrado de Mariana Giordano Cordoni
DESCRIPTION:
URL:https://site.fo.usp.br/evento/dissertacao-de-mestrado-de-mariana-giordano-cordoni/
CATEGORIES:Defesa de Tese
ATTACH;FMTTYPE=image/png:https://site.fo.usp.br/wp-content/uploads/2026/03/11-2.png
END:VEVENT
BEGIN:VEVENT
DTSTART;TZID=America/Sao_Paulo:20260428T090000
DTEND;TZID=America/Sao_Paulo:20260428T130000
DTSTAMP:20260420T073123
CREATED:20260317T181624Z
LAST-MODIFIED:20260330T132800Z
UID:10000826-1777366800-1777381200@site.fo.usp.br
SUMMARY:Dissertação de Mestrado de Carla Regina do Carmo Della Libera
DESCRIPTION:
URL:https://site.fo.usp.br/evento/dissertacao-de-mestrado-de-carla-regina-do-carmo-della-libera/
CATEGORIES:Defesa de Tese
ATTACH;FMTTYPE=image/jpeg:https://site.fo.usp.br/wp-content/uploads/2026/03/2-1.jpg
END:VEVENT
BEGIN:VEVENT
DTSTART;TZID=America/Sao_Paulo:20260430T090000
DTEND;TZID=America/Sao_Paulo:20260430T140000
DTSTAMP:20260420T073123
CREATED:20260213T142205Z
LAST-MODIFIED:20260213T165048Z
UID:10000793-1777539600-1777557600@site.fo.usp.br
SUMMARY:Tese de Doutorado de Flavia Vanessa Greb Fugiwara
DESCRIPTION:
URL:https://site.fo.usp.br/evento/tese-de-doutorado-de-flavia-vanessa-greb-fugiwara/
CATEGORIES:Defesa de Tese
ATTACH;FMTTYPE=image/png:https://site.fo.usp.br/wp-content/uploads/2026/02/1.png
END:VEVENT
END:VCALENDAR