BEGIN:VCALENDAR
VERSION:2.0
PRODID:-//FOUSP - ECPv6.15.20//NONSGML v1.0//EN
CALSCALE:GREGORIAN
METHOD:PUBLISH
X-WR-CALNAME:FOUSP
X-ORIGINAL-URL:https://site.fo.usp.br
X-WR-CALDESC:Eventos para FOUSP
REFRESH-INTERVAL;VALUE=DURATION:PT1H
X-Robots-Tag:noindex
X-PUBLISHED-TTL:PT1H
BEGIN:VTIMEZONE
TZID:America/Sao_Paulo
BEGIN:STANDARD
TZOFFSETFROM:-0300
TZOFFSETTO:-0300
TZNAME:-03
DTSTART:20250101T000000
END:STANDARD
END:VTIMEZONE
BEGIN:VEVENT
DTSTART;TZID=America/Sao_Paulo:20261201T090000
DTEND;TZID=America/Sao_Paulo:20261201T120000
DTSTAMP:20260420T112410
CREATED:20251203T185312Z
LAST-MODIFIED:20251203T185315Z
UID:10000754-1796115600-1796126400@site.fo.usp.br
SUMMARY:Reunião do Comitê de Ética em Pesquisa
DESCRIPTION:
URL:https://site.fo.usp.br/evento/reuniao-do-comite-de-etica-em-pesquisa-4/
CATEGORIES:Comitê de Ética em Pesquisa
END:VEVENT
BEGIN:VEVENT
DTSTART;TZID=America/Sao_Paulo:20261204T090000
DTEND;TZID=America/Sao_Paulo:20261204T090000
DTSTAMP:20260420T112410
CREATED:20260115T115838Z
LAST-MODIFIED:20260115T115841Z
UID:10000791-1796374800-1796374800@site.fo.usp.br
SUMMARY:Reunião CCExFO
DESCRIPTION:
URL:https://site.fo.usp.br/evento/reuniao-ccexfo-12/
CATEGORIES:Comissão de Cultura e Extensão Universitária
END:VEVENT
BEGIN:VEVENT
DTSTART;TZID=America/Sao_Paulo:20261209T090000
DTEND;TZID=America/Sao_Paulo:20261209T090000
DTSTAMP:20260420T112410
CREATED:20251209T021923Z
LAST-MODIFIED:20251209T021925Z
UID:10000771-1796806800-1796806800@site.fo.usp.br
SUMMARY:Reunião do Conselho Técnico Administrativo – CTA
DESCRIPTION:
URL:https://site.fo.usp.br/evento/reuniao-do-conselho-tecnico-administrativo-cta-14/
CATEGORIES:Conselho Técnico Administrativo
END:VEVENT
BEGIN:VEVENT
DTSTART;TZID=America/Sao_Paulo:20261210T090000
DTEND;TZID=America/Sao_Paulo:20261210T090000
DTSTAMP:20260420T112410
CREATED:20251209T020116Z
LAST-MODIFIED:20251209T020119Z
UID:10000761-1796893200-1796893200@site.fo.usp.br
SUMMARY:Reunião da Congregação
DESCRIPTION:
URL:https://site.fo.usp.br/evento/reuniao-da-congregacao-8/
CATEGORIES:Congregação
END:VEVENT
BEGIN:VEVENT
DTSTART;TZID=America/Sao_Paulo:20261211T090000
DTEND;TZID=America/Sao_Paulo:20261211T120000
DTSTAMP:20260420T112410
CREATED:20260323T194856Z
LAST-MODIFIED:20260323T194858Z
UID:10000847-1796979600-1796990400@site.fo.usp.br
SUMMARY:Reunião da CIP
DESCRIPTION:
URL:https://site.fo.usp.br/evento/reuniao-da-cip-7/
CATEGORIES:Comissão de Inclusão e Pertencimento
END:VEVENT
BEGIN:VEVENT
DTSTART;TZID=America/Sao_Paulo:20261215T090000
DTEND;TZID=America/Sao_Paulo:20261215T120000
DTSTAMP:20260420T112410
CREATED:20251203T185440Z
LAST-MODIFIED:20251203T185443Z
UID:10000755-1797325200-1797336000@site.fo.usp.br
SUMMARY:Reunião do Comitê de Ética em Pesquisa
DESCRIPTION:
URL:https://site.fo.usp.br/evento/reuniao-do-comite-de-etica-em-pesquisa-5/
CATEGORIES:Comitê de Ética em Pesquisa
END:VEVENT
END:VCALENDAR