BEGIN:VCALENDAR
VERSION:2.0
PRODID:-//FOUSP - ECPv6.15.20//NONSGML v1.0//EN
CALSCALE:GREGORIAN
METHOD:PUBLISH
X-WR-CALNAME:FOUSP
X-ORIGINAL-URL:https://site.fo.usp.br
X-WR-CALDESC:Eventos para FOUSP
REFRESH-INTERVAL;VALUE=DURATION:PT1H
X-Robots-Tag:noindex
X-PUBLISHED-TTL:PT1H
BEGIN:VTIMEZONE
TZID:America/Sao_Paulo
BEGIN:STANDARD
TZOFFSETFROM:-0300
TZOFFSETTO:-0300
TZNAME:-03
DTSTART:20210101T000000
END:STANDARD
END:VTIMEZONE
BEGIN:VEVENT
DTSTART;TZID=America/Sao_Paulo:20220125T100000
DTEND;TZID=America/Sao_Paulo:20220125T130000
DTSTAMP:20260423T174858
CREATED:20220120T131042Z
LAST-MODIFIED:20220120T131042Z
UID:10000021-1643104800-1643115600@site.fo.usp.br
SUMMARY:Colação de Grau dos Formandos das Turmas 123 e 124
DESCRIPTION:
URL:https://site.fo.usp.br/evento/colacao-de-grau-dos-formandos-das-turmas-123-e-124/
LOCATION:Faculdade de Odontologia – USP\, Av. Prof. Lineu Prestes\, 2227\, São Paulo\, São Paulo\, 05508-000\, Brasil
CATEGORIES:Colação de Grau
ATTACH;FMTTYPE=image/jpeg:https://site.fo.usp.br/wp-content/uploads/2022/01/colacao-de-grau-dos-formandos.jpg
END:VEVENT
END:VCALENDAR