BEGIN:VCALENDAR
VERSION:2.0
PRODID:-//FOUSP - ECPv6.15.20//NONSGML v1.0//EN
CALSCALE:GREGORIAN
METHOD:PUBLISH
X-WR-CALNAME:FOUSP
X-ORIGINAL-URL:https://site.fo.usp.br
X-WR-CALDESC:Eventos para FOUSP
REFRESH-INTERVAL;VALUE=DURATION:PT1H
X-Robots-Tag:noindex
X-PUBLISHED-TTL:PT1H
BEGIN:VTIMEZONE
TZID:America/Sao_Paulo
BEGIN:STANDARD
TZOFFSETFROM:-0300
TZOFFSETTO:-0300
TZNAME:-03
DTSTART:20210101T000000
END:STANDARD
END:VTIMEZONE
BEGIN:VEVENT
DTSTART;TZID=America/Sao_Paulo:20220520T080000
DTEND;TZID=America/Sao_Paulo:20220520T170000
DTSTAMP:20260424T072216
CREATED:20211209T195437Z
LAST-MODIFIED:20220120T131142Z
UID:10000012-1653033600-1653066000@site.fo.usp.br
SUMMARY:50 anos do Programa de Pós-Graduação da área de Periodontia
DESCRIPTION: 
URL:https://site.fo.usp.br/evento/50-anos-do-programa-de-pos-graduacao-da-area-de-periodontia/
LOCATION:Faculdade de Odontologia – USP\, Av. Prof. Lineu Prestes\, 2227\, São Paulo\, São Paulo\, 05508-000\, Brasil
CATEGORIES:Encontro
ATTACH;FMTTYPE=image/jpeg:https://site.fo.usp.br/wp-content/uploads/2021/12/WhatsApp-Image-2021-11-10-at-09.31.2611.jpeg
END:VEVENT
END:VCALENDAR