BEGIN:VCALENDAR
VERSION:2.0
PRODID:-//FOUSP - ECPv6.15.20//NONSGML v1.0//EN
CALSCALE:GREGORIAN
METHOD:PUBLISH
X-WR-CALNAME:FOUSP
X-ORIGINAL-URL:https://site.fo.usp.br
X-WR-CALDESC:Eventos para FOUSP
REFRESH-INTERVAL;VALUE=DURATION:PT1H
X-Robots-Tag:noindex
X-PUBLISHED-TTL:PT1H
BEGIN:VTIMEZONE
TZID:America/Sao_Paulo
BEGIN:STANDARD
TZOFFSETFROM:-0300
TZOFFSETTO:-0300
TZNAME:-03
DTSTART:20210101T000000
END:STANDARD
END:VTIMEZONE
BEGIN:VEVENT
DTSTART;TZID=America/Sao_Paulo:20221122T100000
DTEND;TZID=America/Sao_Paulo:20221122T160000
DTSTAMP:20260425T161701
CREATED:20221103T150831Z
LAST-MODIFIED:20221110T144703Z
UID:10000023-1669111200-1669132800@site.fo.usp.br
SUMMARY:Campanha de Doação de Sangue
DESCRIPTION:No dia 22/11/2022\, a ONG Amor se Doa\, em parceria com o Hemocentro Banco de Sangue Paulista\, estará na Faculdade de Odontologia da Universidade de São Paulo\, realizando uma coleta de sangue na Clínica de Pós-Graduação. \nPara não gerar aglomerações\, a coleta será realizada mediante agendamento em formulário online. \nLink para agendamento: https://www.sympla.com.br/evento/doacao-de-sangue-na-usp—dia-2211/1767233 \nÉ preciso respeitar o horário escolhido para a doação! O uso de máscaras e o distanciamento social são essenciais e obrigatórios! \nAgende seu horário já. \nPara a realização da coleta\, será necessário um quórum mínimo de 100 participantes. Sua inscrição é essencial. \nUma doação de sangue pode salvar até 4 vidas\, ajude o próximo e venha doar sangue!
URL:https://site.fo.usp.br/evento/campanha-de-doacao-de-sangue/
LOCATION:Faculdade de Odontologia – USP\, Av. Prof. Lineu Prestes\, 2227\, São Paulo\, São Paulo\, 05508-000\, Brasil
CATEGORIES:Voluntariado
ATTACH;FMTTYPE=image/jpeg:https://site.fo.usp.br/wp-content/uploads/2022/11/doacao-de-sangue-facebook.jpg
END:VEVENT
END:VCALENDAR