BEGIN:VCALENDAR
VERSION:2.0
PRODID:-//FOUSP - ECPv6.15.20//NONSGML v1.0//EN
CALSCALE:GREGORIAN
METHOD:PUBLISH
X-WR-CALNAME:FOUSP
X-ORIGINAL-URL:https://site.fo.usp.br
X-WR-CALDESC:Eventos para FOUSP
REFRESH-INTERVAL;VALUE=DURATION:PT1H
X-Robots-Tag:noindex
X-PUBLISHED-TTL:PT1H
BEGIN:VTIMEZONE
TZID:America/Sao_Paulo
BEGIN:STANDARD
TZOFFSETFROM:-0300
TZOFFSETTO:-0300
TZNAME:-03
DTSTART:20220101T000000
END:STANDARD
END:VTIMEZONE
BEGIN:VEVENT
DTSTART;TZID=America/Sao_Paulo:20230227T140000
DTEND;TZID=America/Sao_Paulo:20230227T190000
DTSTAMP:20260425T201502
CREATED:20230213T190239Z
LAST-MODIFIED:20230213T190243Z
UID:10000106-1677506400-1677524400@site.fo.usp.br
SUMMARY:Defesa de Doutorado de Thais Paragis Sanchez
DESCRIPTION:Salada Congregação
URL:https://site.fo.usp.br/evento/defesa-de-doutorado-de-thais-paragis-sanchez/
LOCATION:Faculdade de Odontologia – USP\, Av. Prof. Lineu Prestes\, 2227\, São Paulo\, São Paulo\, 05508-000\, Brasil
CATEGORIES:Defesa de Tese
ATTACH;FMTTYPE=image/jpeg:https://site.fo.usp.br/wp-content/uploads/2023/02/5.jpg
END:VEVENT
BEGIN:VEVENT
DTSTART;TZID=America/Sao_Paulo:20230301T090000
DTEND;TZID=America/Sao_Paulo:20230301T130000
DTSTAMP:20260425T201502
CREATED:20230213T190317Z
LAST-MODIFIED:20230213T190326Z
UID:10000107-1677661200-1677675600@site.fo.usp.br
SUMMARY:Defesa de Doutorado de Vinícius Maximiano Silva
DESCRIPTION:Anfiteatro Myaki Issáo
URL:https://site.fo.usp.br/evento/defesa-de-doutorado-de-vinicius-maximiano-silva/
LOCATION:Faculdade de Odontologia – USP\, Av. Prof. Lineu Prestes\, 2227\, São Paulo\, São Paulo\, 05508-000\, Brasil
CATEGORIES:Defesa de Tese
ATTACH;FMTTYPE=image/jpeg:https://site.fo.usp.br/wp-content/uploads/2023/02/6.jpg
END:VEVENT
BEGIN:VEVENT
DTSTART;TZID=America/Sao_Paulo:20230301T110000
DTEND;TZID=America/Sao_Paulo:20230301T130000
DTSTAMP:20260425T201502
CREATED:20221214T165150Z
LAST-MODIFIED:20221214T165153Z
UID:10000036-1677668400-1677675600@site.fo.usp.br
SUMMARY:Reunião do Programa de Ciências Odontológicas
DESCRIPTION:Sala de Reuniões
URL:https://site.fo.usp.br/evento/reuniao-do-programa-de-ciencias-odontologicas-2/
LOCATION:Faculdade de Odontologia – USP\, Av. Prof. Lineu Prestes\, 2227\, São Paulo\, São Paulo\, 05508-000\, Brasil
CATEGORIES:Reunião
END:VEVENT
BEGIN:VEVENT
DTSTART;TZID=America/Sao_Paulo:20230301T140000
DTEND;TZID=America/Sao_Paulo:20230301T190000
DTSTAMP:20260425T201502
CREATED:20230213T190207Z
LAST-MODIFIED:20230213T190445Z
UID:10000105-1677679200-1677697200@site.fo.usp.br
SUMMARY:Defesa de Mestrado de Vinicius Paes de Assis Santos
DESCRIPTION:Anfiteatro Myaki Issáo
URL:https://site.fo.usp.br/evento/defesa-de-mestrado-de-vinicius-paes-de-assis-santos/
LOCATION:Faculdade de Odontologia – USP\, Av. Prof. Lineu Prestes\, 2227\, São Paulo\, São Paulo\, 05508-000\, Brasil
CATEGORIES:Defesa de Tese
ATTACH;FMTTYPE=image/jpeg:https://site.fo.usp.br/wp-content/uploads/2023/02/4.jpg
END:VEVENT
BEGIN:VEVENT
DTSTART;TZID=America/Sao_Paulo:20230302T150000
DTEND;TZID=America/Sao_Paulo:20230302T170000
DTSTAMP:20260425T201502
CREATED:20230227T161117Z
LAST-MODIFIED:20230227T161126Z
UID:10000130-1677769200-1677776400@site.fo.usp.br
SUMMARY:Palestra: Influencing factors on association of student self-assessment skills and performance in preclinical operative dentistry
DESCRIPTION:Sala da Congregação
URL:https://site.fo.usp.br/evento/palestra-influencing-factors-on-association-of-student-self-assessment-skills-and-performance-in-preclinical-operative-dentistry/
LOCATION:Faculdade de Odontologia – USP\, Av. Prof. Lineu Prestes\, 2227\, São Paulo\, São Paulo\, 05508-000\, Brasil
CATEGORIES:Palestra
ATTACH;FMTTYPE=image/jpeg:https://site.fo.usp.br/wp-content/uploads/2023/02/FEED-Encontro-de-PG-2022-.jpg
END:VEVENT
BEGIN:VEVENT
DTSTART;TZID=America/Sao_Paulo:20230302T150000
DTEND;TZID=America/Sao_Paulo:20230302T190000
DTSTAMP:20260425T201502
CREATED:20230213T190128Z
LAST-MODIFIED:20230228T155327Z
UID:10000104-1677769200-1677783600@site.fo.usp.br
SUMMARY:Defesa de Mestrado de Cintia Baena Elchin
DESCRIPTION:Anfiteatro Myaki Issáo
URL:https://site.fo.usp.br/evento/defesa-de-mestrado-de-cintia-baena-elchin/
LOCATION:Faculdade de Odontologia – USP\, Av. Prof. Lineu Prestes\, 2227\, São Paulo\, São Paulo\, 05508-000\, Brasil
CATEGORIES:Defesa de Tese
ATTACH;FMTTYPE=image/jpeg:https://site.fo.usp.br/wp-content/uploads/2023/02/3.jpg
END:VEVENT
BEGIN:VEVENT
DTSTART;TZID=America/Sao_Paulo:20230303T140000
DTEND;TZID=America/Sao_Paulo:20230303T190000
DTSTAMP:20260425T201502
CREATED:20230213T184902Z
LAST-MODIFIED:20230213T185147Z
UID:10000102-1677852000-1677870000@site.fo.usp.br
SUMMARY:Defesa de Doutorado de Mariane Cristina Sloniak
DESCRIPTION:Anfiteatro Myaki Issáo
URL:https://site.fo.usp.br/evento/defesa-de-doutorado-de-mariane-cristina-sloniak/
LOCATION:Faculdade de Odontologia – USP\, Av. Prof. Lineu Prestes\, 2227\, São Paulo\, São Paulo\, 05508-000\, Brasil
CATEGORIES:Defesa de Tese
ATTACH;FMTTYPE=image/jpeg:https://site.fo.usp.br/wp-content/uploads/2023/02/1.jpg
END:VEVENT
END:VCALENDAR