BEGIN:VCALENDAR
VERSION:2.0
PRODID:-//FOUSP - ECPv6.15.20//NONSGML v1.0//EN
CALSCALE:GREGORIAN
METHOD:PUBLISH
X-WR-CALNAME:FOUSP
X-ORIGINAL-URL:https://site.fo.usp.br
X-WR-CALDESC:Eventos para FOUSP
REFRESH-INTERVAL;VALUE=DURATION:PT1H
X-Robots-Tag:noindex
X-PUBLISHED-TTL:PT1H
BEGIN:VTIMEZONE
TZID:America/Sao_Paulo
BEGIN:STANDARD
TZOFFSETFROM:-0300
TZOFFSETTO:-0300
TZNAME:-03
DTSTART:20220101T000000
END:STANDARD
END:VTIMEZONE
BEGIN:VEVENT
DTSTART;TZID=America/Sao_Paulo:20230313T140000
DTEND;TZID=America/Sao_Paulo:20230313T160000
DTSTAMP:20260424T134921
CREATED:20221214T195051Z
LAST-MODIFIED:20221214T195053Z
UID:10000050-1678716000-1678723200@site.fo.usp.br
SUMMARY:Reunião do Grupo do Ciências
DESCRIPTION:Sala de Reuniões
URL:https://site.fo.usp.br/evento/reuniao-do-grupo-do-ciencias-2/
LOCATION:Faculdade de Odontologia – USP\, Av. Prof. Lineu Prestes\, 2227\, São Paulo\, São Paulo\, 05508-000\, Brasil
CATEGORIES:Reunião
END:VEVENT
BEGIN:VEVENT
DTSTART;TZID=America/Sao_Paulo:20230313T140000
DTEND;TZID=America/Sao_Paulo:20230313T180000
DTSTAMP:20260424T134921
CREATED:20230216T164045Z
LAST-MODIFIED:20230310T135424Z
UID:10000114-1678716000-1678730400@site.fo.usp.br
SUMMARY:Defesa de Mestrado de Esdras Façanha de Carvalho
DESCRIPTION:Sala da Congregação
URL:https://site.fo.usp.br/evento/defesa-de-mestrado-de-esdras-facanha-de-carvalho/
LOCATION:Faculdade de Odontologia – USP\, Av. Prof. Lineu Prestes\, 2227\, São Paulo\, São Paulo\, 05508-000\, Brasil
CATEGORIES:Defesa de Tese
ATTACH;FMTTYPE=image/jpeg:https://site.fo.usp.br/wp-content/uploads/2023/02/feed-pagina-5.jpg
END:VEVENT
BEGIN:VEVENT
DTSTART;TZID=America/Sao_Paulo:20230314T090000
DTEND;TZID=America/Sao_Paulo:20230314T140000
DTSTAMP:20260424T134921
CREATED:20230216T164127Z
LAST-MODIFIED:20230307T173441Z
UID:10000115-1678784400-1678802400@site.fo.usp.br
SUMMARY:Defesa de Mestrado de Fernando Henrique Martins
DESCRIPTION:Sala da Congregação
URL:https://site.fo.usp.br/evento/defesa-de-mestrado-de-fernando-henrique-martins/
LOCATION:Faculdade de Odontologia – USP\, Av. Prof. Lineu Prestes\, 2227\, São Paulo\, São Paulo\, 05508-000\, Brasil
CATEGORIES:Defesa de Tese
ATTACH;FMTTYPE=image/jpeg:https://site.fo.usp.br/wp-content/uploads/2023/02/feed-pagina-9.jpg
END:VEVENT
BEGIN:VEVENT
DTSTART;TZID=America/Sao_Paulo:20230315T140000
DTEND;TZID=America/Sao_Paulo:20230315T170000
DTSTAMP:20260424T134921
CREATED:20230307T130316Z
LAST-MODIFIED:20230307T130319Z
UID:10000132-1678888800-1678899600@site.fo.usp.br
SUMMARY:Aula Magna - As perspectivas para a saúde bucal brasileira nos novos tempos e a integração ensino-serviço
DESCRIPTION:Anfiteatro Myaki Issáo
URL:https://site.fo.usp.br/evento/aula-magna-as-perspectivas-para-a-saude-bucal-brasileira-nos-novos-tempos-e-a-integracao-ensino-servico/
LOCATION:Faculdade de Odontologia – USP\, Av. Prof. Lineu Prestes\, 2227\, São Paulo\, São Paulo\, 05508-000\, Brasil
CATEGORIES:Aula Aberta
ATTACH;FMTTYPE=image/jpeg:https://site.fo.usp.br/wp-content/uploads/2023/03/palestra-dora-feed.jpg
END:VEVENT
BEGIN:VEVENT
DTSTART;TZID=America/Sao_Paulo:20230315T140000
DTEND;TZID=America/Sao_Paulo:20230315T190000
DTSTAMP:20260424T134921
CREATED:20230216T164200Z
LAST-MODIFIED:20230314T142759Z
UID:10000116-1678888800-1678906800@site.fo.usp.br
SUMMARY:Defesa de Mestrado de Aline Piruna Martins dos Santos
DESCRIPTION:Sala da Congregação
URL:https://site.fo.usp.br/evento/defesa-de-mestrado-de-aline-piruna-martins-dos-santos/
LOCATION:Faculdade de Odontologia – USP\, Av. Prof. Lineu Prestes\, 2227\, São Paulo\, São Paulo\, 05508-000\, Brasil
CATEGORIES:Defesa de Tese
ATTACH;FMTTYPE=image/jpeg:https://site.fo.usp.br/wp-content/uploads/2023/02/feed-pagina-3.jpg
END:VEVENT
BEGIN:VEVENT
DTSTART;TZID=America/Sao_Paulo:20230316T140000
DTEND;TZID=America/Sao_Paulo:20230316T190000
DTSTAMP:20260424T134921
CREATED:20230216T164255Z
LAST-MODIFIED:20230316T153116Z
UID:10000117-1678975200-1678993200@site.fo.usp.br
SUMMARY:Defesa de Mestrado de Sandro Bornelli Moreira
DESCRIPTION:Sala da Congregação
URL:https://site.fo.usp.br/evento/defesa-de-mestrado-de-sandro-bornelli-moreira/
LOCATION:Faculdade de Odontologia – USP\, Av. Prof. Lineu Prestes\, 2227\, São Paulo\, São Paulo\, 05508-000\, Brasil
CATEGORIES:Defesa de Tese
ATTACH;FMTTYPE=image/jpeg:https://site.fo.usp.br/wp-content/uploads/2023/02/feed-pagina-7.jpg
END:VEVENT
BEGIN:VEVENT
DTSTART;TZID=America/Sao_Paulo:20230317T083000
DTEND;TZID=America/Sao_Paulo:20230317T123000
DTSTAMP:20260424T134921
CREATED:20230217T163757Z
LAST-MODIFIED:20230307T173053Z
UID:10000129-1679041800-1679056200@site.fo.usp.br
SUMMARY:Defesa de Mestrado de Alexandre Purcino Nogueira
DESCRIPTION:Sala da Congregação
URL:https://site.fo.usp.br/evento/defesa-de-mestrado-de-alexandre-purcino-nogueira/
LOCATION:Faculdade de Odontologia – USP\, Av. Prof. Lineu Prestes\, 2227\, São Paulo\, São Paulo\, 05508-000\, Brasil
CATEGORIES:Defesa de Tese
ATTACH;FMTTYPE=image/jpeg:https://site.fo.usp.br/wp-content/uploads/2023/02/feed-pagina-15.jpg
END:VEVENT
BEGIN:VEVENT
DTSTART;TZID=America/Sao_Paulo:20230317T090000
DTEND;TZID=America/Sao_Paulo:20230317T120000
DTSTAMP:20260424T134921
CREATED:20230110T174142Z
LAST-MODIFIED:20230309T150352Z
UID:10000092-1679043600-1679054400@site.fo.usp.br
SUMMARY:Reunião CCEX
DESCRIPTION:
URL:https://site.fo.usp.br/evento/reuniao-ccex/2023-03-17/
LOCATION:Faculdade de Odontologia – USP\, Av. Prof. Lineu Prestes\, 2227\, São Paulo\, São Paulo\, 05508-000\, Brasil
CATEGORIES:Comissão de Cultura e Extensão Universitária
END:VEVENT
END:VCALENDAR