BEGIN:VCALENDAR
VERSION:2.0
PRODID:-//FOUSP - ECPv6.15.20//NONSGML v1.0//EN
CALSCALE:GREGORIAN
METHOD:PUBLISH
X-WR-CALNAME:FOUSP
X-ORIGINAL-URL:https://site.fo.usp.br
X-WR-CALDESC:Eventos para FOUSP
REFRESH-INTERVAL;VALUE=DURATION:PT1H
X-Robots-Tag:noindex
X-PUBLISHED-TTL:PT1H
BEGIN:VTIMEZONE
TZID:America/Sao_Paulo
BEGIN:STANDARD
TZOFFSETFROM:-0300
TZOFFSETTO:-0300
TZNAME:-03
DTSTART:20220101T000000
END:STANDARD
END:VTIMEZONE
BEGIN:VEVENT
DTSTART;TZID=America/Sao_Paulo:20230330T090000
DTEND;TZID=America/Sao_Paulo:20230330T120000
DTSTAMP:20260424T005702
CREATED:20230110T165049Z
LAST-MODIFIED:20230110T165051Z
UID:10000085-1680166800-1680177600@site.fo.usp.br
SUMMARY:Reunião do CTA
DESCRIPTION:
URL:https://site.fo.usp.br/evento/reuniao-do-cta/
LOCATION:Faculdade de Odontologia – USP\, Av. Prof. Lineu Prestes\, 2227\, São Paulo\, São Paulo\, 05508-000\, Brasil
END:VEVENT
BEGIN:VEVENT
DTSTART;TZID=America/Sao_Paulo:20230331T083000
DTEND;TZID=America/Sao_Paulo:20230331T123000
DTSTAMP:20260424T005702
CREATED:20230217T163718Z
LAST-MODIFIED:20230217T163723Z
UID:10000126-1680251400-1680265800@site.fo.usp.br
SUMMARY:Defesa de Mestrado de Natália Matsuda de Oliveira
DESCRIPTION:Anfiteatro Myaki Issáo
URL:https://site.fo.usp.br/evento/defesa-de-mestrado-de-natalia-matsuda-de-oliveira/
LOCATION:Faculdade de Odontologia – USP\, Av. Prof. Lineu Prestes\, 2227\, São Paulo\, São Paulo\, 05508-000\, Brasil
CATEGORIES:Defesa de Tese
ATTACH;FMTTYPE=image/jpeg:https://site.fo.usp.br/wp-content/uploads/2023/02/18.jpg
END:VEVENT
BEGIN:VEVENT
DTSTART;TZID=America/Sao_Paulo:20230331T100000
DTEND;TZID=America/Sao_Paulo:20230331T120000
DTSTAMP:20260424T005702
CREATED:20230329T193222Z
LAST-MODIFIED:20230329T195502Z
UID:10000149-1680256800-1680264000@site.fo.usp.br
SUMMARY:Treinamento EndNote Web
DESCRIPTION:
URL:https://site.fo.usp.br/evento/treinamento-endnote-web/
LOCATION:Biblioteca da FOUSP\, Av Prof. Lineu Prestes\, 2227\, São Paulo\, São Paulo\, 05508-000
CATEGORIES:Treinamento
ATTACH;FMTTYPE=image/jpeg:https://site.fo.usp.br/wp-content/uploads/2023/03/4-1.jpg
ORGANIZER;CN="Glauci Elaine Damasio Fidelis":MAILTO:bibfo@usp.br
END:VEVENT
END:VCALENDAR