BEGIN:VCALENDAR
VERSION:2.0
PRODID:-//FOUSP - ECPv6.15.20//NONSGML v1.0//EN
CALSCALE:GREGORIAN
METHOD:PUBLISH
X-WR-CALNAME:FOUSP
X-ORIGINAL-URL:https://site.fo.usp.br
X-WR-CALDESC:Eventos para FOUSP
REFRESH-INTERVAL;VALUE=DURATION:PT1H
X-Robots-Tag:noindex
X-PUBLISHED-TTL:PT1H
BEGIN:VTIMEZONE
TZID:America/Sao_Paulo
BEGIN:STANDARD
TZOFFSETFROM:-0300
TZOFFSETTO:-0300
TZNAME:-03
DTSTART:20220101T000000
END:STANDARD
END:VTIMEZONE
BEGIN:VEVENT
DTSTART;TZID=America/Sao_Paulo:20230424T120000
DTEND;TZID=America/Sao_Paulo:20230425T170000
DTSTAMP:20260425T084236
CREATED:20230406T101923Z
LAST-MODIFIED:20230414T114342Z
UID:10000159-1682337600-1682442000@site.fo.usp.br
SUMMARY:I Jornada Mostre a língua - Brasil
DESCRIPTION:Anfiteatro Myaki Issáo
URL:https://site.fo.usp.br/evento/i-jornada-mostre-a-lingua-brasil/
CATEGORIES:Jornada
ATTACH;FMTTYPE=image/png:https://site.fo.usp.br/wp-content/uploads/2023/04/mostre-a-lingua.png
END:VEVENT
BEGIN:VEVENT
DTSTART;TZID=America/Sao_Paulo:20230427T090000
DTEND;TZID=America/Sao_Paulo:20230427T120000
DTSTAMP:20260425T084236
CREATED:20221205T172248Z
LAST-MODIFIED:20221205T172250Z
UID:10000027-1682586000-1682596800@site.fo.usp.br
SUMMARY:Sessão da Congregação - Abr/2023
DESCRIPTION:Data limite para inclusão de matéria na pauta em 17 de abril de 2023
URL:https://site.fo.usp.br/evento/sessao-da-congregacao-abr-2023/
LOCATION:Sala da Congregação\, Avenida Professor Lineu Prestes\, 2227\, São Paulo\, São Paulo\, 05508-000\, Brasil
CATEGORIES:Congregação
GEO:-23.566856830686;-46.738922482039
X-APPLE-STRUCTURED-LOCATION;VALUE=URI;X-ADDRESS=Sala da Congregação Avenida Professor Lineu Prestes 2227 São Paulo São Paulo 05508-000 Brasil;X-APPLE-RADIUS=500;X-TITLE=Avenida Professor Lineu Prestes\, 2227:geo:-46.738922482039,-23.566856830686
END:VEVENT
BEGIN:VEVENT
DTSTART;TZID=America/Sao_Paulo:20230427T140000
DTEND;TZID=America/Sao_Paulo:20230427T190000
DTSTAMP:20260425T084236
CREATED:20230322T184321Z
LAST-MODIFIED:20230322T184325Z
UID:10000145-1682604000-1682622000@site.fo.usp.br
SUMMARY:Defesa de Mestrado Profissional Formação Interdisciplinar em Saúde de Leandro Mársico Loschiavo
DESCRIPTION:Sala de aula do Departamento de Odontologia Social
URL:https://site.fo.usp.br/evento/defesa-de-mestrado-profissional-formacao-interdisciplinar-em-saude-de-leandro-marsico-loschiavo/
LOCATION:Faculdade de Odontologia – USP\, Av. Prof. Lineu Prestes\, 2227\, São Paulo\, São Paulo\, 05508-000\, Brasil
CATEGORIES:Defesa de Tese
ATTACH;FMTTYPE=image/jpeg:https://site.fo.usp.br/wp-content/uploads/2023/03/16.jpg
END:VEVENT
BEGIN:VEVENT
DTSTART;TZID=America/Sao_Paulo:20230428T083000
DTEND;TZID=America/Sao_Paulo:20230428T133000
DTSTAMP:20260425T084236
CREATED:20230413T173505Z
LAST-MODIFIED:20230413T173508Z
UID:10000160-1682670600-1682688600@site.fo.usp.br
SUMMARY:Defesa de Mestrado de Brhuna Dorothy Magnago
DESCRIPTION:Anfiteatro Myaki Issáo
URL:https://site.fo.usp.br/evento/defesa-de-mestrado-de-brhuna-dorothy-magnago/
CATEGORIES:Defesa de Tese
ATTACH;FMTTYPE=image/jpeg:https://site.fo.usp.br/wp-content/uploads/2023/04/28-de-abril.jpg
END:VEVENT
END:VCALENDAR