BEGIN:VCALENDAR
VERSION:2.0
PRODID:-//FOUSP - ECPv6.15.20//NONSGML v1.0//EN
CALSCALE:GREGORIAN
METHOD:PUBLISH
X-WR-CALNAME:FOUSP
X-ORIGINAL-URL:https://site.fo.usp.br
X-WR-CALDESC:Eventos para FOUSP
REFRESH-INTERVAL;VALUE=DURATION:PT1H
X-Robots-Tag:noindex
X-PUBLISHED-TTL:PT1H
BEGIN:VTIMEZONE
TZID:America/Sao_Paulo
BEGIN:STANDARD
TZOFFSETFROM:-0300
TZOFFSETTO:-0300
TZNAME:-03
DTSTART:20220101T000000
END:STANDARD
END:VTIMEZONE
BEGIN:VEVENT
DTSTART;TZID=America/Sao_Paulo:20230704T140000
DTEND;TZID=America/Sao_Paulo:20230704T170000
DTSTAMP:20260424T010914
CREATED:20230614T142658Z
LAST-MODIFIED:20230627T184704Z
UID:10000190-1688479200-1688490000@site.fo.usp.br
SUMMARY:Defesa de Mestrado de Caroline Parducci Arruda
DESCRIPTION:Sala da Congregação
URL:https://site.fo.usp.br/evento/defesa-de-mestrado-de-caroline-parducci-arruda/
ATTACH;FMTTYPE=image/jpeg:https://site.fo.usp.br/wp-content/uploads/2023/06/Feed-Caroline-2.jpg
END:VEVENT
BEGIN:VEVENT
DTSTART;TZID=America/Sao_Paulo:20230705T090000
DTEND;TZID=America/Sao_Paulo:20230705T130000
DTSTAMP:20260424T010914
CREATED:20230626T144218Z
LAST-MODIFIED:20230627T184654Z
UID:10000200-1688547600-1688562000@site.fo.usp.br
SUMMARY:Defesa de Mestrado de Débora Moisés Duarte
DESCRIPTION:Sala de Aula do Departamento de Odontologia Social da Faculdade de Odontologia da USP
URL:https://site.fo.usp.br/evento/defesa-de-mestrado-de-debora-moises-duarte/
CATEGORIES:Defesa de Tese
ATTACH;FMTTYPE=image/jpeg:https://site.fo.usp.br/wp-content/uploads/2023/06/Feed-Debora.jpg
END:VEVENT
BEGIN:VEVENT
DTSTART;TZID=America/Sao_Paulo:20230706T090000
DTEND;TZID=America/Sao_Paulo:20230706T120000
DTSTAMP:20260424T010914
CREATED:20221205T172348Z
LAST-MODIFIED:20230616T163854Z
UID:10000028-1688634000-1688644800@site.fo.usp.br
SUMMARY:Sessão da Congregação
DESCRIPTION:Data limite para inclusão de matéria na pauta em 13 de junho de 2023
URL:https://site.fo.usp.br/evento/sessao-da-congregacao-jun-2023/
LOCATION:Sala da Congregação\, Avenida Professor Lineu Prestes\, 2227\, São Paulo\, São Paulo\, 05508-000\, Brasil
CATEGORIES:Congregação
GEO:-23.566856830686;-46.738922482039
X-APPLE-STRUCTURED-LOCATION;VALUE=URI;X-ADDRESS=Sala da Congregação Avenida Professor Lineu Prestes 2227 São Paulo São Paulo 05508-000 Brasil;X-APPLE-RADIUS=500;X-TITLE=Avenida Professor Lineu Prestes\, 2227:geo:-46.738922482039,-23.566856830686
END:VEVENT
BEGIN:VEVENT
DTSTART;TZID=America/Sao_Paulo:20230706T140000
DTEND;TZID=America/Sao_Paulo:20230706T190000
DTSTAMP:20260424T010914
CREATED:20230519T155323Z
LAST-MODIFIED:20230627T184700Z
UID:10000180-1688652000-1688670000@site.fo.usp.br
SUMMARY:Defesa de Doutorado Direto de Amanda Caroline Zarpellon
DESCRIPTION:Sala da Congregação
URL:https://site.fo.usp.br/evento/defesa-de-doutorado-direto-de-amanda-caroline-zarpellon/
CATEGORIES:Defesa de Tese
ATTACH;FMTTYPE=image/jpeg:https://site.fo.usp.br/wp-content/uploads/2023/05/Feed-Amanda-1.jpg
END:VEVENT
BEGIN:VEVENT
DTSTART;TZID=America/Sao_Paulo:20230707T080000
DTEND;TZID=America/Sao_Paulo:20230707T130000
DTSTAMP:20260424T010914
CREATED:20230623T172451Z
LAST-MODIFIED:20230707T131144Z
UID:10000199-1688716800-1688734800@site.fo.usp.br
SUMMARY:Defesa de Mestrado de Marcella Dewes Cassal
DESCRIPTION:Sala da Congregação
URL:https://site.fo.usp.br/evento/defesa-de-mestrado-de-marcella-dewes-cassal/
CATEGORIES:Defesa de Tese
ATTACH;FMTTYPE=image/png:https://site.fo.usp.br/wp-content/uploads/2023/06/Feed-Marcella.png
END:VEVENT
END:VCALENDAR