BEGIN:VCALENDAR
VERSION:2.0
PRODID:-//FOUSP - ECPv6.15.20//NONSGML v1.0//EN
CALSCALE:GREGORIAN
METHOD:PUBLISH
X-WR-CALNAME:FOUSP
X-ORIGINAL-URL:https://site.fo.usp.br
X-WR-CALDESC:Eventos para FOUSP
REFRESH-INTERVAL;VALUE=DURATION:PT1H
X-Robots-Tag:noindex
X-PUBLISHED-TTL:PT1H
BEGIN:VTIMEZONE
TZID:America/Sao_Paulo
BEGIN:STANDARD
TZOFFSETFROM:-0300
TZOFFSETTO:-0300
TZNAME:-03
DTSTART:20220101T000000
END:STANDARD
END:VTIMEZONE
BEGIN:VEVENT
DTSTART;TZID=America/Sao_Paulo:20230802T110000
DTEND;TZID=America/Sao_Paulo:20230802T130000
DTSTAMP:20260423T155954
CREATED:20221214T165331Z
LAST-MODIFIED:20221214T165334Z
UID:10000040-1690974000-1690981200@site.fo.usp.br
SUMMARY:Reunião do Programa de Ciências Odontológicas
DESCRIPTION:Sala de Reuniões
URL:https://site.fo.usp.br/evento/reuniao-do-programa-de-ciencias-odontologicas-6/
LOCATION:Faculdade de Odontologia – USP\, Av. Prof. Lineu Prestes\, 2227\, São Paulo\, São Paulo\, 05508-000\, Brasil
CATEGORIES:Reunião
END:VEVENT
BEGIN:VEVENT
DTSTART;TZID=America/Sao_Paulo:20230803T090000
DTEND;TZID=America/Sao_Paulo:20230803T120000
DTSTAMP:20260423T155954
CREATED:20230110T165243Z
LAST-MODIFIED:20230110T165246Z
UID:10000087-1691053200-1691064000@site.fo.usp.br
SUMMARY:Reunião do CTA
DESCRIPTION:
URL:https://site.fo.usp.br/evento/reuniao-do-cta-3/
LOCATION:Faculdade de Odontologia – USP\, Av. Prof. Lineu Prestes\, 2227\, São Paulo\, São Paulo\, 05508-000\, Brasil
END:VEVENT
BEGIN:VEVENT
DTSTART;TZID=America/Sao_Paulo:20230804T080000
DTEND;TZID=America/Sao_Paulo:20230804T170000
DTSTAMP:20260423T155954
CREATED:20230503T135801Z
LAST-MODIFIED:20230731T133421Z
UID:10000172-1691136000-1691168400@site.fo.usp.br
SUMMARY:Concurso Público de Títulos e Provas visando ao provimento de 01 (um) cargo de Professor Titular\, em RDIDP\, junto ao Departamento de Cirurgia\, Prótese e Traumatologia Maxilofaciais
DESCRIPTION:Sala da Congregação
URL:https://site.fo.usp.br/evento/concurso-publico-de-titulos-e-provas-visando-ao-provimento-de-01-um-cargo-de-professor-titular-em-rdidp-junto-ao-departamento-de-cirurgia-protese-e-traumatologia-maxilofaciais/
CATEGORIES:Concurso
ATTACH;FMTTYPE=image/jpeg:https://site.fo.usp.br/wp-content/uploads/2023/05/Concurso-Titular.jpg
END:VEVENT
BEGIN:VEVENT
DTSTART;TZID=America/Sao_Paulo:20230804T143000
DTEND;TZID=America/Sao_Paulo:20230804T193000
DTSTAMP:20260423T155954
CREATED:20230703T162554Z
LAST-MODIFIED:20230710T173123Z
UID:10000204-1691159400-1691177400@site.fo.usp.br
SUMMARY:Defesa de Mestrado de Fernanda Botelho Martins
DESCRIPTION:CPDigi – Miniauditório
URL:https://site.fo.usp.br/evento/defesa-de-mestrado-de-fernanda-botelho-martins/
CATEGORIES:Defesa de Tese
ATTACH;FMTTYPE=image/jpeg:https://site.fo.usp.br/wp-content/uploads/2023/07/Feed-Fernanda-1.jpg
END:VEVENT
END:VCALENDAR