BEGIN:VCALENDAR
VERSION:2.0
PRODID:-//FOUSP - ECPv6.15.20//NONSGML v1.0//EN
CALSCALE:GREGORIAN
METHOD:PUBLISH
X-WR-CALNAME:FOUSP
X-ORIGINAL-URL:https://site.fo.usp.br
X-WR-CALDESC:Eventos para FOUSP
REFRESH-INTERVAL;VALUE=DURATION:PT1H
X-Robots-Tag:noindex
X-PUBLISHED-TTL:PT1H
BEGIN:VTIMEZONE
TZID:America/Sao_Paulo
BEGIN:STANDARD
TZOFFSETFROM:-0300
TZOFFSETTO:-0300
TZNAME:-03
DTSTART:20220101T000000
END:STANDARD
END:VTIMEZONE
BEGIN:VEVENT
DTSTART;TZID=America/Sao_Paulo:20230814T120000
DTEND;TZID=America/Sao_Paulo:20230818T120000
DTSTAMP:20260424T045847
CREATED:20230719T121131Z
LAST-MODIFIED:20230719T121508Z
UID:10000206-1692014400-1692360000@site.fo.usp.br
SUMMARY:Interligas 2023
DESCRIPTION:
URL:https://site.fo.usp.br/evento/mais-uma-edicao-do-interligas-organizado-anualmente-pelo-centro-academico-xxv-de-janeiro-esta-confirmada/
ATTACH;FMTTYPE=image/png:https://site.fo.usp.br/wp-content/uploads/2023/07/Interligas-2023-FO-USP-Feed.png
END:VEVENT
BEGIN:VEVENT
DTSTART;TZID=America/Sao_Paulo:20230815T143000
DTEND;TZID=America/Sao_Paulo:20230815T170000
DTSTAMP:20260424T045847
CREATED:20230217T133321Z
LAST-MODIFIED:20230217T133326Z
UID:10000121-1692109800-1692118800@site.fo.usp.br
SUMMARY:Reunião da Comissão de Pesquisa e Inovação
DESCRIPTION:Sala do CPDigi
URL:https://site.fo.usp.br/evento/reuniao-da-comissao-de-pesquisa-e-inovacao-4/
LOCATION:Faculdade de Odontologia – USP\, Av. Prof. Lineu Prestes\, 2227\, São Paulo\, São Paulo\, 05508-000\, Brasil
END:VEVENT
BEGIN:VEVENT
DTSTART;TZID=America/Sao_Paulo:20230817T080000
DTEND;TZID=America/Sao_Paulo:20230818T170000
DTSTAMP:20260424T045847
CREATED:20221216T155405Z
LAST-MODIFIED:20230216T122703Z
UID:10000084-1692259200-1692378000@site.fo.usp.br
SUMMARY:Save the Date: VII Meeting Internacional Orto-USP
DESCRIPTION:em breve\, maiores informações
URL:https://site.fo.usp.br/evento/save-the-date-vii-meeting-internacional-orto-usp/
LOCATION:Faculdade de Odontologia – USP\, Av. Prof. Lineu Prestes\, 2227\, São Paulo\, São Paulo\, 05508-000\, Brasil
CATEGORIES:Congresso
ATTACH;FMTTYPE=image/jpeg:https://site.fo.usp.br/wp-content/uploads/2022/12/4-1.jpg
END:VEVENT
BEGIN:VEVENT
DTSTART;TZID=America/Sao_Paulo:20230817T143000
DTEND;TZID=America/Sao_Paulo:20230817T163000
DTSTAMP:20260424T045847
CREATED:20230329T200240Z
LAST-MODIFIED:20230329T200244Z
UID:10000154-1692282600-1692289800@site.fo.usp.br
SUMMARY:Treinamento EndNote Web
DESCRIPTION:
URL:https://site.fo.usp.br/evento/treinamento-endnote-web-5/
LOCATION:Biblioteca da FOUSP\, Av Prof. Lineu Prestes\, 2227\, São Paulo\, São Paulo\, 05508-000
CATEGORIES:Treinamento
ATTACH;FMTTYPE=image/jpeg:https://site.fo.usp.br/wp-content/uploads/2023/03/4-1.jpg
ORGANIZER;CN="Glauci Elaine Damasio Fidelis":MAILTO:bibfo@usp.br
END:VEVENT
BEGIN:VEVENT
DTSTART;VALUE=DATE:20230818
DTEND;VALUE=DATE:20230820
DTSTAMP:20260424T045847
CREATED:20221124T152034Z
LAST-MODIFIED:20221124T213415Z
UID:10000024-1692316800-1692489599@site.fo.usp.br
SUMMARY:VII Jornada de Odontologia e Antropologia Forense
DESCRIPTION:
URL:https://site.fo.usp.br/evento/vii-jornada-de-odontologia-e-antropologia-forense/
LOCATION:Faculdade de Odontologia – USP\, Av. Prof. Lineu Prestes\, 2227\, São Paulo\, São Paulo\, 05508-000\, Brasil
CATEGORIES:Jornada
ATTACH;FMTTYPE=image/jpeg:https://site.fo.usp.br/wp-content/uploads/2022/11/Imagem-do-WhatsApp-de-2022-11-22-as-15.51.37.jpg
END:VEVENT
BEGIN:VEVENT
DTSTART;TZID=America/Sao_Paulo:20230818T080000
DTEND;TZID=America/Sao_Paulo:20230819T170000
DTSTAMP:20260424T045847
CREATED:20230727T171739Z
LAST-MODIFIED:20230727T171746Z
UID:10000207-1692345600-1692464400@site.fo.usp.br
SUMMARY:VII Jornada de Odontologia e Antropologia Forense "Prof. Dr. Moacyr da Silva"
DESCRIPTION:FOUSP
URL:https://site.fo.usp.br/evento/vii-jornada-de-odontologia-e-antropologia-forense-prof-dr-moacyr-da-silva/
CATEGORIES:Jornada
ATTACH;FMTTYPE=image/jpeg:https://site.fo.usp.br/wp-content/uploads/2023/07/Feed-Oflab.jpg
END:VEVENT
BEGIN:VEVENT
DTSTART;TZID=America/Sao_Paulo:20230818T143000
DTEND;TZID=America/Sao_Paulo:20230818T193000
DTSTAMP:20260424T045847
CREATED:20230622T191927Z
LAST-MODIFIED:20230627T184651Z
UID:10000196-1692369000-1692387000@site.fo.usp.br
SUMMARY:Defesa de Mestrado de Eduardo Rodrigues Liporaci
DESCRIPTION:Sala da Congregação
URL:https://site.fo.usp.br/evento/defesa-de-mestrado-de-eduardo-rodrigues-liporaci/
CATEGORIES:Defesa de Tese
ATTACH;FMTTYPE=image/jpeg:https://site.fo.usp.br/wp-content/uploads/2023/06/Feed-Eduardo.jpg
END:VEVENT
END:VCALENDAR