BEGIN:VCALENDAR
VERSION:2.0
PRODID:-//FOUSP - ECPv6.15.20//NONSGML v1.0//EN
CALSCALE:GREGORIAN
METHOD:PUBLISH
X-WR-CALNAME:FOUSP
X-ORIGINAL-URL:https://site.fo.usp.br
X-WR-CALDESC:Eventos para FOUSP
REFRESH-INTERVAL;VALUE=DURATION:PT1H
X-Robots-Tag:noindex
X-PUBLISHED-TTL:PT1H
BEGIN:VTIMEZONE
TZID:America/Sao_Paulo
BEGIN:STANDARD
TZOFFSETFROM:-0300
TZOFFSETTO:-0300
TZNAME:-03
DTSTART:20220101T000000
END:STANDARD
END:VTIMEZONE
BEGIN:VEVENT
DTSTART;TZID=America/Sao_Paulo:20230925T080000
DTEND;TZID=America/Sao_Paulo:20230929T170000
DTSTAMP:20260425T125130
CREATED:20230925T154049Z
LAST-MODIFIED:20230925T154054Z
UID:10000239-1695628800-1696006800@site.fo.usp.br
SUMMARY:CUBO 2023
DESCRIPTION:
URL:https://site.fo.usp.br/evento/cubo-2023/
CATEGORIES:Congresso
ATTACH;FMTTYPE=image/jpeg:https://site.fo.usp.br/wp-content/uploads/2023/09/Imagem-do-WhatsApp-de-2023-09-25-as-12.29.10.jpg
END:VEVENT
BEGIN:VEVENT
DTSTART;TZID=America/Sao_Paulo:20230926T130000
DTEND;TZID=America/Sao_Paulo:20230926T150000
DTSTAMP:20260425T125130
CREATED:20230919T161446Z
LAST-MODIFIED:20230919T161538Z
UID:10000237-1695733200-1695740400@site.fo.usp.br
SUMMARY:Palestra dia 26/09/2023 no SDO
DESCRIPTION:
URL:https://site.fo.usp.br/evento/palestra-dia-26-09-2023-no-sdo/
CATEGORIES:Palestra
ATTACH;FMTTYPE=image/png:https://site.fo.usp.br/wp-content/uploads/2023/09/03.png
END:VEVENT
BEGIN:VEVENT
DTSTART;TZID=America/Sao_Paulo:20230926T140000
DTEND;TZID=America/Sao_Paulo:20230926T190000
DTSTAMP:20260425T125130
CREATED:20230829T124613Z
LAST-MODIFIED:20230829T124621Z
UID:10000213-1695736800-1695754800@site.fo.usp.br
SUMMARY:Defesa de Doutorado de Guilherme Trafani Sanches
DESCRIPTION:Anfiteatro Myaki Issáo
URL:https://site.fo.usp.br/evento/defesa-de-doutorado-de-guilherme-trafani-sanches/
ATTACH;FMTTYPE=image/jpeg:https://site.fo.usp.br/wp-content/uploads/2023/08/dfca693a-f275-4a68-94f0-70ddfaf54215.jpg
END:VEVENT
BEGIN:VEVENT
DTSTART;TZID=America/Sao_Paulo:20230928T090000
DTEND;TZID=America/Sao_Paulo:20230928T120000
DTSTAMP:20260425T125130
CREATED:20230110T165320Z
LAST-MODIFIED:20230110T165323Z
UID:10000088-1695891600-1695902400@site.fo.usp.br
SUMMARY:Reunião do CTA
DESCRIPTION:
URL:https://site.fo.usp.br/evento/reuniao-do-cta-4/
LOCATION:Faculdade de Odontologia – USP\, Av. Prof. Lineu Prestes\, 2227\, São Paulo\, São Paulo\, 05508-000\, Brasil
END:VEVENT
BEGIN:VEVENT
DTSTART;TZID=America/Sao_Paulo:20230928T140000
DTEND;TZID=America/Sao_Paulo:20230928T190000
DTSTAMP:20260425T125130
CREATED:20230919T140928Z
LAST-MODIFIED:20230919T140932Z
UID:10000233-1695909600-1695927600@site.fo.usp.br
SUMMARY:Defesa de Mestrado de Jhessica Campos Victor
DESCRIPTION:CPDigi da Faculdade de Odontologia da USP
URL:https://site.fo.usp.br/evento/defesa-de-mestrado-de-jhessica-campos-victor/
CATEGORIES:Defesa de Tese
ATTACH;FMTTYPE=image/jpeg:https://site.fo.usp.br/wp-content/uploads/2023/09/13.jpg
END:VEVENT
END:VCALENDAR