BEGIN:VCALENDAR
VERSION:2.0
PRODID:-//FOUSP - ECPv6.15.20//NONSGML v1.0//EN
CALSCALE:GREGORIAN
METHOD:PUBLISH
X-WR-CALNAME:FOUSP
X-ORIGINAL-URL:https://site.fo.usp.br
X-WR-CALDESC:Eventos para FOUSP
REFRESH-INTERVAL;VALUE=DURATION:PT1H
X-Robots-Tag:noindex
X-PUBLISHED-TTL:PT1H
BEGIN:VTIMEZONE
TZID:America/Sao_Paulo
BEGIN:STANDARD
TZOFFSETFROM:-0300
TZOFFSETTO:-0300
TZNAME:-03
DTSTART:20220101T000000
END:STANDARD
END:VTIMEZONE
BEGIN:VEVENT
DTSTART;TZID=America/Sao_Paulo:20231009T090000
DTEND;TZID=America/Sao_Paulo:20231009T140000
DTSTAMP:20260425T094108
CREATED:20230919T141059Z
LAST-MODIFIED:20230919T141102Z
UID:10000234-1696842000-1696860000@site.fo.usp.br
SUMMARY:Defesa de Mestrado de Marianna Barbosa Yamaguchi
DESCRIPTION:Faculdade de Saúde Pública
URL:https://site.fo.usp.br/evento/defesa-de-mestrado-de-marianna-barbosa-yamaguchi/
CATEGORIES:Defesa de Tese
ATTACH;FMTTYPE=image/jpeg:https://site.fo.usp.br/wp-content/uploads/2023/09/14.jpg
END:VEVENT
BEGIN:VEVENT
DTSTART;TZID=America/Sao_Paulo:20231010T083000
DTEND;TZID=America/Sao_Paulo:20231010T133000
DTSTAMP:20260425T094108
CREATED:20230904T142322Z
LAST-MODIFIED:20230904T144333Z
UID:10000219-1696926600-1696944600@site.fo.usp.br
SUMMARY:Defesa de Doutorado de Handially dos Santos Vilela
DESCRIPTION:Anfiteatro Myaki Issáo
URL:https://site.fo.usp.br/evento/defesa-de-mestrado-de-handially-dos-santos-vilela/
ATTACH;FMTTYPE=image/png:https://site.fo.usp.br/wp-content/uploads/2023/09/FEED-Agenda-Defesas-1.png
END:VEVENT
BEGIN:VEVENT
DTSTART;TZID=America/Sao_Paulo:20231010T090000
DTEND;TZID=America/Sao_Paulo:20231010T120000
DTSTAMP:20260425T094108
CREATED:20230110T174142Z
LAST-MODIFIED:20230309T150352Z
UID:10000098-1696928400-1696939200@site.fo.usp.br
SUMMARY:Reunião CCEX
DESCRIPTION:
URL:https://site.fo.usp.br/evento/reuniao-ccex/2023-10-10/
LOCATION:Faculdade de Odontologia – USP\, Av. Prof. Lineu Prestes\, 2227\, São Paulo\, São Paulo\, 05508-000\, Brasil
CATEGORIES:Comissão de Cultura e Extensão Universitária
END:VEVENT
BEGIN:VEVENT
DTSTART;TZID=America/Sao_Paulo:20231011T133000
DTEND;TZID=America/Sao_Paulo:20231011T153000
DTSTAMP:20260425T094108
CREATED:20221214T201513Z
LAST-MODIFIED:20230111T135308Z
UID:10000064-1697031000-1697038200@site.fo.usp.br
SUMMARY:Reunião da Comissão de Pós-Graduação
DESCRIPTION:Sala de Reuniões
URL:https://site.fo.usp.br/evento/reuniao-da-comissao-de-pos-graduacao-8/
LOCATION:Faculdade de Odontologia – USP\, Av. Prof. Lineu Prestes\, 2227\, São Paulo\, São Paulo\, 05508-000\, Brasil
CATEGORIES:Comissão de Pós-Graduação,Reunião
END:VEVENT
END:VCALENDAR