BEGIN:VCALENDAR
VERSION:2.0
PRODID:-//FOUSP - ECPv6.15.20//NONSGML v1.0//EN
CALSCALE:GREGORIAN
METHOD:PUBLISH
X-WR-CALNAME:FOUSP
X-ORIGINAL-URL:https://site.fo.usp.br
X-WR-CALDESC:Eventos para FOUSP
REFRESH-INTERVAL;VALUE=DURATION:PT1H
X-Robots-Tag:noindex
X-PUBLISHED-TTL:PT1H
BEGIN:VTIMEZONE
TZID:America/Sao_Paulo
BEGIN:STANDARD
TZOFFSETFROM:-0300
TZOFFSETTO:-0300
TZNAME:-03
DTSTART:20220101T000000
END:STANDARD
END:VTIMEZONE
BEGIN:VEVENT
DTSTART;TZID=America/Sao_Paulo:20231030T083000
DTEND;TZID=America/Sao_Paulo:20231030T133000
DTSTAMP:20260424T094552
CREATED:20230904T133404Z
LAST-MODIFIED:20230904T133409Z
UID:10000217-1698654600-1698672600@site.fo.usp.br
SUMMARY:Defesa de Mestrado de Lais Yumi Souza Nakao
DESCRIPTION:Anfiteatro Myaki Issáo
URL:https://site.fo.usp.br/evento/defesa-de-mestrado-de-lais-yumi-souza-nakao/
ATTACH;FMTTYPE=image/jpeg:https://site.fo.usp.br/wp-content/uploads/2023/09/Imagem-do-WhatsApp-de-2023-09-04-as-10.27.38.jpg
END:VEVENT
BEGIN:VEVENT
DTSTART;TZID=America/Sao_Paulo:20231030T090000
DTEND;TZID=America/Sao_Paulo:20231030T140000
DTSTAMP:20260424T094552
CREATED:20230919T141336Z
LAST-MODIFIED:20230919T141340Z
UID:10000236-1698656400-1698674400@site.fo.usp.br
SUMMARY:Defesa de Mestrado de Valdete Rodrigues Santos
DESCRIPTION:CPDigi da Faculdade de Odontologia
URL:https://site.fo.usp.br/evento/defesa-de-mestrado-de-valdete-rodrigues-santos/
CATEGORIES:Defesa de Tese
ATTACH;FMTTYPE=image/jpeg:https://site.fo.usp.br/wp-content/uploads/2023/09/16.jpg
END:VEVENT
BEGIN:VEVENT
DTSTART;TZID=America/Sao_Paulo:20231031T140000
DTEND;TZID=America/Sao_Paulo:20231031T190000
DTSTAMP:20260424T094552
CREATED:20231017T172852Z
LAST-MODIFIED:20231024T145351Z
UID:10000245-1698760800-1698778800@site.fo.usp.br
SUMMARY:Defesa de Doutorado de Ana Carolina Corazza Pedro
DESCRIPTION:Anfiteatro Myaki Issáo
URL:https://site.fo.usp.br/evento/defesa-de-doutorado-de-ana-carolina-corazza-pedro-2/
CATEGORIES:Defesa de Tese
ATTACH;FMTTYPE=image/jpeg:https://site.fo.usp.br/wp-content/uploads/2023/10/ana-carolina-1.jpg
END:VEVENT
BEGIN:VEVENT
DTSTART;TZID=America/Sao_Paulo:20231031T143000
DTEND;TZID=America/Sao_Paulo:20231031T170000
DTSTAMP:20260424T094552
CREATED:20230217T133353Z
LAST-MODIFIED:20230217T133400Z
UID:10000123-1698762600-1698771600@site.fo.usp.br
SUMMARY:Reunião da Comissão de Pesquisa e Inovação
DESCRIPTION:Sala do CPDigi
URL:https://site.fo.usp.br/evento/reuniao-da-comissao-de-pesquisa-e-inovacao-6/
LOCATION:Faculdade de Odontologia – USP\, Av. Prof. Lineu Prestes\, 2227\, São Paulo\, São Paulo\, 05508-000\, Brasil
END:VEVENT
BEGIN:VEVENT
DTSTART;TZID=America/Sao_Paulo:20231101T110000
DTEND;TZID=America/Sao_Paulo:20231101T130000
DTSTAMP:20260424T094552
CREATED:20221214T165428Z
LAST-MODIFIED:20221214T165430Z
UID:10000043-1698836400-1698843600@site.fo.usp.br
SUMMARY:Reunião do Programa de Ciências Odontológicas
DESCRIPTION:Sala de Reuniões
URL:https://site.fo.usp.br/evento/reuniao-do-programa-de-ciencias-odontologicas-9/
LOCATION:Faculdade de Odontologia – USP\, Av. Prof. Lineu Prestes\, 2227\, São Paulo\, São Paulo\, 05508-000\, Brasil
CATEGORIES:Reunião
END:VEVENT
END:VCALENDAR