BEGIN:VCALENDAR
VERSION:2.0
PRODID:-//FOUSP - ECPv6.15.20//NONSGML v1.0//EN
CALSCALE:GREGORIAN
METHOD:PUBLISH
X-WR-CALNAME:FOUSP
X-ORIGINAL-URL:https://site.fo.usp.br
X-WR-CALDESC:Eventos para FOUSP
REFRESH-INTERVAL;VALUE=DURATION:PT1H
X-Robots-Tag:noindex
X-PUBLISHED-TTL:PT1H
BEGIN:VTIMEZONE
TZID:America/Sao_Paulo
BEGIN:STANDARD
TZOFFSETFROM:-0300
TZOFFSETTO:-0300
TZNAME:-03
DTSTART:20220101T000000
END:STANDARD
END:VTIMEZONE
BEGIN:VEVENT
DTSTART;TZID=America/Sao_Paulo:20231128T000000
DTEND;TZID=America/Sao_Paulo:20231130T235959
DTSTAMP:20260425T191500
CREATED:20230920T162707Z
LAST-MODIFIED:20230920T162710Z
UID:10000238-1701129600-1701388799@site.fo.usp.br
SUMMARY:Save The Date: XXVI REUNIÃO DE PESQUISA
DESCRIPTION:
URL:https://site.fo.usp.br/evento/save-the-date-xxvi-reuniao-de-pesquisa/
ATTACH;FMTTYPE=image/png:https://site.fo.usp.br/wp-content/uploads/2023/09/SAVE-THE-DATE-REUNIAO-DE-PESQUISA-1.png
END:VEVENT
BEGIN:VEVENT
DTSTART;TZID=America/Sao_Paulo:20231128T143000
DTEND;TZID=America/Sao_Paulo:20231128T170000
DTSTAMP:20260425T191500
CREATED:20230217T133411Z
LAST-MODIFIED:20230217T133417Z
UID:10000124-1701181800-1701190800@site.fo.usp.br
SUMMARY:Reunião da Comissão de Pesquisa e Inovação
DESCRIPTION:Sala do CPDigi
URL:https://site.fo.usp.br/evento/reuniao-da-comissao-de-pesquisa-e-inovacao-7/
LOCATION:Faculdade de Odontologia – USP\, Av. Prof. Lineu Prestes\, 2227\, São Paulo\, São Paulo\, 05508-000\, Brasil
END:VEVENT
BEGIN:VEVENT
DTSTART;TZID=America/Sao_Paulo:20231201T080000
DTEND;TZID=America/Sao_Paulo:20231201T170000
DTSTAMP:20260425T191500
CREATED:20230828T182521Z
LAST-MODIFIED:20230828T182541Z
UID:10000211-1701417600-1701450000@site.fo.usp.br
SUMMARY:XXIII JOCAPE - Jornada Odontológica do CAPE
DESCRIPTION:Auditório da Biblioteca Brasiliana Guita e José Midlin
URL:https://site.fo.usp.br/evento/xxiii-jocape-jornada-odontologica-do-cape/
CATEGORIES:Jornada
ATTACH;FMTTYPE=image/png:https://site.fo.usp.br/wp-content/uploads/2023/08/save-the-date-1.png
END:VEVENT
BEGIN:VEVENT
DTSTART;TZID=America/Sao_Paulo:20231201T080000
DTEND;TZID=America/Sao_Paulo:20231201T180000
DTSTAMP:20260425T191500
CREATED:20231113T162809Z
LAST-MODIFIED:20231113T162814Z
UID:10000267-1701417600-1701453600@site.fo.usp.br
SUMMARY:Congresso Internacional de Odontologia do Esporte
DESCRIPTION:
URL:https://site.fo.usp.br/evento/congresso-internacional-de-odontologia-do-esporte/
CATEGORIES:Congresso
ATTACH;FMTTYPE=image/jpeg:https://site.fo.usp.br/wp-content/uploads/2023/11/1-2.jpg
END:VEVENT
BEGIN:VEVENT
DTSTART;TZID=America/Sao_Paulo:20231201T090000
DTEND;TZID=America/Sao_Paulo:20231201T120000
DTSTAMP:20260425T191500
CREATED:20230110T174142Z
LAST-MODIFIED:20230309T150352Z
UID:10000100-1701421200-1701432000@site.fo.usp.br
SUMMARY:Reunião CCEX
DESCRIPTION:
URL:https://site.fo.usp.br/evento/reuniao-ccex/2023-12-01/
LOCATION:Faculdade de Odontologia – USP\, Av. Prof. Lineu Prestes\, 2227\, São Paulo\, São Paulo\, 05508-000\, Brasil
CATEGORIES:Comissão de Cultura e Extensão Universitária
END:VEVENT
BEGIN:VEVENT
DTSTART;TZID=America/Sao_Paulo:20231202T000000
DTEND;TZID=America/Sao_Paulo:20231202T235959
DTSTAMP:20260425T191500
CREATED:20231106T173456Z
LAST-MODIFIED:20231106T173548Z
UID:10000254-1701475200-1701561599@site.fo.usp.br
SUMMARY:I Encontro do Laboratório Especial de Laser em Odontologia
DESCRIPTION:Anfiteatro Myaki Issáo
URL:https://site.fo.usp.br/evento/i-encontro-do-laboratorio-especial-de-laser-em-odontologia-2/
CATEGORIES:Encontro
ATTACH;FMTTYPE=image/jpeg:https://site.fo.usp.br/wp-content/uploads/2023/11/1-1.jpg
END:VEVENT
BEGIN:VEVENT
DTSTART;TZID=America/Sao_Paulo:20231203T080000
DTEND;TZID=America/Sao_Paulo:20231203T180000
DTSTAMP:20260425T191500
CREATED:20231124T181039Z
LAST-MODIFIED:20231124T181043Z
UID:10000274-1701590400-1701626400@site.fo.usp.br
SUMMARY:Garra do Lobo
DESCRIPTION:
URL:https://site.fo.usp.br/evento/garra-do-lobo/
CATEGORIES:Evento Esportivo
ATTACH;FMTTYPE=image/jpeg:https://site.fo.usp.br/wp-content/uploads/2023/11/Divulgacao-Feed-003_Pagina_1-scaled.jpg
END:VEVENT
END:VCALENDAR