BEGIN:VCALENDAR
VERSION:2.0
PRODID:-//FOUSP - ECPv6.15.20//NONSGML v1.0//EN
CALSCALE:GREGORIAN
METHOD:PUBLISH
X-WR-CALNAME:FOUSP
X-ORIGINAL-URL:https://site.fo.usp.br
X-WR-CALDESC:Eventos para FOUSP
REFRESH-INTERVAL;VALUE=DURATION:PT1H
X-Robots-Tag:noindex
X-PUBLISHED-TTL:PT1H
BEGIN:VTIMEZONE
TZID:America/Sao_Paulo
BEGIN:STANDARD
TZOFFSETFROM:-0300
TZOFFSETTO:-0300
TZNAME:-03
DTSTART:20230101T000000
END:STANDARD
END:VTIMEZONE
BEGIN:VEVENT
DTSTART;TZID=America/Sao_Paulo:20240219T080000
DTEND;TZID=America/Sao_Paulo:20240223T170000
DTSTAMP:20260425T223318
CREATED:20240112T111126Z
LAST-MODIFIED:20240220T133326Z
UID:10000310-1708329600-1708707600@site.fo.usp.br
SUMMARY:Concurso para Professor Doutor – ODD Dentística
DESCRIPTION:
URL:https://site.fo.usp.br/evento/concurso-para-professor-doutor-odd-dentistica/
CATEGORIES:Concurso
ATTACH;FMTTYPE=image/jpeg:https://site.fo.usp.br/wp-content/uploads/2024/01/20-1.jpg
END:VEVENT
BEGIN:VEVENT
DTSTART;TZID=America/Sao_Paulo:20240219T090000
DTEND;TZID=America/Sao_Paulo:20240219T140000
DTSTAMP:20260425T223318
CREATED:20231221T191126Z
LAST-MODIFIED:20231221T192331Z
UID:10000290-1708333200-1708351200@site.fo.usp.br
SUMMARY:Dissertação de Mestrado de Ana Carolina Cambui Pereira
DESCRIPTION:
URL:https://site.fo.usp.br/evento/dissertacao-de-mestrado-de-ana-carolina-cambui-pereira/
CATEGORIES:Defesa de Tese
ATTACH;FMTTYPE=image/jpeg:https://site.fo.usp.br/wp-content/uploads/2023/12/5-1.jpg
END:VEVENT
BEGIN:VEVENT
DTSTART;TZID=America/Sao_Paulo:20240220T100000
DTEND;TZID=America/Sao_Paulo:20240220T140000
DTSTAMP:20260425T223318
CREATED:20240208T132916Z
LAST-MODIFIED:20240208T132938Z
UID:10000331-1708423200-1708437600@site.fo.usp.br
SUMMARY:Tese de Doutorado de Leonardo Custodio de Lima
DESCRIPTION:
URL:https://site.fo.usp.br/evento/tese-de-doutorado-de-leonardo-custodio-de-lima/
CATEGORIES:Defesa de Tese
ATTACH;FMTTYPE=image/jpeg:https://site.fo.usp.br/wp-content/uploads/2024/02/17.jpg
END:VEVENT
BEGIN:VEVENT
DTSTART;TZID=America/Sao_Paulo:20240221T140000
DTEND;TZID=America/Sao_Paulo:20240221T190000
DTSTAMP:20260425T223318
CREATED:20231221T191308Z
LAST-MODIFIED:20231221T192349Z
UID:10000291-1708524000-1708542000@site.fo.usp.br
SUMMARY:Tese de Doutorado de Ricardo Grillo
DESCRIPTION:
URL:https://site.fo.usp.br/evento/tese-de-doutorado-de-ricardo-grillo/
CATEGORIES:Defesa de Tese
ATTACH;FMTTYPE=image/jpeg:https://site.fo.usp.br/wp-content/uploads/2023/12/6-1.jpg
END:VEVENT
BEGIN:VEVENT
DTSTART;TZID=America/Sao_Paulo:20240222T140000
DTEND;TZID=America/Sao_Paulo:20240222T190000
DTSTAMP:20260425T223318
CREATED:20240215T174224Z
LAST-MODIFIED:20240215T174233Z
UID:10000345-1708610400-1708628400@site.fo.usp.br
SUMMARY:Dissertação de Mestrado de Beatriz da Cruz Barcellos Nunes
DESCRIPTION:
URL:https://site.fo.usp.br/evento/dissertacao-de-mestrado-de-beatriz-da-cruz-barcellos-nunes/
CATEGORIES:Defesa de Tese
ATTACH;FMTTYPE=image/jpeg:https://site.fo.usp.br/wp-content/uploads/2024/02/20.jpg
END:VEVENT
BEGIN:VEVENT
DTSTART;TZID=America/Sao_Paulo:20240223T090000
DTEND;TZID=America/Sao_Paulo:20240223T110000
DTSTAMP:20260425T223318
CREATED:20240220T103324Z
LAST-MODIFIED:20240220T103334Z
UID:10000346-1708678800-1708686000@site.fo.usp.br
SUMMARY:Reunião CCExFO
DESCRIPTION:
URL:https://site.fo.usp.br/evento/reuniao-ccexfo/2024-02-23/
CATEGORIES:Reunião
END:VEVENT
BEGIN:VEVENT
DTSTART;TZID=America/Sao_Paulo:20240224T080000
DTEND;TZID=America/Sao_Paulo:20240224T110000
DTSTAMP:20260425T223318
CREATED:20240220T132005Z
LAST-MODIFIED:20240220T132015Z
UID:10000356-1708761600-1708772400@site.fo.usp.br
SUMMARY:Café da Manhã com os Ingressantes 2024
DESCRIPTION:
URL:https://site.fo.usp.br/evento/cafe-da-manha-com-os-ingressantes-2024/
CATEGORIES:Encontro
ATTACH;FMTTYPE=image/jpeg:https://site.fo.usp.br/wp-content/uploads/2024/02/1-1.jpg
END:VEVENT
END:VCALENDAR