BEGIN:VCALENDAR
VERSION:2.0
PRODID:-//FOUSP - ECPv6.15.20//NONSGML v1.0//EN
CALSCALE:GREGORIAN
METHOD:PUBLISH
X-WR-CALNAME:FOUSP
X-ORIGINAL-URL:https://site.fo.usp.br
X-WR-CALDESC:Eventos para FOUSP
REFRESH-INTERVAL;VALUE=DURATION:PT1H
X-Robots-Tag:noindex
X-PUBLISHED-TTL:PT1H
BEGIN:VTIMEZONE
TZID:America/Sao_Paulo
BEGIN:STANDARD
TZOFFSETFROM:-0300
TZOFFSETTO:-0300
TZNAME:-03
DTSTART:20230101T000000
END:STANDARD
END:VTIMEZONE
BEGIN:VEVENT
DTSTART;TZID=America/Sao_Paulo:20240617T140000
DTEND;TZID=America/Sao_Paulo:20240617T190000
DTSTAMP:20260424T011734
CREATED:20240606T160930Z
LAST-MODIFIED:20240606T160939Z
UID:10000422-1718632800-1718650800@site.fo.usp.br
SUMMARY:Tese de Doutorado de Nathalia Vilela Souza
DESCRIPTION:
URL:https://site.fo.usp.br/evento/tese-de-doutorado-de-nathalia-vilela-souza/
CATEGORIES:Defesa de Tese
ATTACH;FMTTYPE=image/jpeg:https://site.fo.usp.br/wp-content/uploads/2024/06/IMG-20240606-WA0008.jpg
END:VEVENT
BEGIN:VEVENT
DTSTART;TZID=America/Sao_Paulo:20240618T133000
DTEND;TZID=America/Sao_Paulo:20240618T183000
DTSTAMP:20260424T011734
CREATED:20240419T063731Z
LAST-MODIFIED:20240419T063741Z
UID:10000401-1718717400-1718735400@site.fo.usp.br
SUMMARY:Tese de Doutorado de Bruna Di Prófio Daibs
DESCRIPTION:
URL:https://site.fo.usp.br/evento/tese-de-doutorado-de-bruna-di-profio-daibs/
CATEGORIES:Defesa de Tese
ATTACH;FMTTYPE=image/jpeg:https://site.fo.usp.br/wp-content/uploads/2024/04/18.jpg
END:VEVENT
BEGIN:VEVENT
DTSTART;TZID=America/Sao_Paulo:20240618T140000
DTEND;TZID=America/Sao_Paulo:20240618T190000
DTSTAMP:20260424T011734
CREATED:20240419T063433Z
LAST-MODIFIED:20240419T063446Z
UID:10000400-1718719200-1718737200@site.fo.usp.br
SUMMARY:Dissertação de Mestrado de Livia da Rosa Oliveira
DESCRIPTION:
URL:https://site.fo.usp.br/evento/dissertacao-de-mestrado-de-livia-da-rosa-oliveira/
CATEGORIES:Defesa de Tese
ATTACH;FMTTYPE=image/jpeg:https://site.fo.usp.br/wp-content/uploads/2024/04/19.jpg
END:VEVENT
BEGIN:VEVENT
DTSTART;TZID=America/Sao_Paulo:20240619T140000
DTEND;TZID=America/Sao_Paulo:20240619T190000
DTSTAMP:20260424T011734
CREATED:20240517T110059Z
LAST-MODIFIED:20240517T110110Z
UID:10000414-1718805600-1718823600@site.fo.usp.br
SUMMARY:Dissertação de Mestrado de Gabriela Borges Saldys
DESCRIPTION:
URL:https://site.fo.usp.br/evento/dissertacao-de-mestrado-de-gabriela-borges-saldys/
CATEGORIES:Defesa de Tese
ATTACH;FMTTYPE=image/jpeg:https://site.fo.usp.br/wp-content/uploads/2024/05/11.jpg
END:VEVENT
BEGIN:VEVENT
DTSTART;TZID=America/Sao_Paulo:20240620T170000
DTEND;TZID=America/Sao_Paulo:20240620T190000
DTSTAMP:20260424T011734
CREATED:20240617T124215Z
LAST-MODIFIED:20240617T124230Z
UID:10000437-1718902800-1718910000@site.fo.usp.br
SUMMARY:Aula aberta "Estética e Periodontia"
DESCRIPTION:
URL:https://site.fo.usp.br/evento/aula-aberta-estetica-e-periodontia/
CATEGORIES:Aula Aberta
ATTACH;FMTTYPE=image/png:https://site.fo.usp.br/wp-content/uploads/2024/06/Aula-aberta-LIESTO-feed-insta.png
END:VEVENT
BEGIN:VEVENT
DTSTART;TZID=America/Sao_Paulo:20240621T083000
DTEND;TZID=America/Sao_Paulo:20240621T130000
DTSTAMP:20260424T011734
CREATED:20240614T211310Z
LAST-MODIFIED:20240614T211323Z
UID:10000436-1718958600-1718974800@site.fo.usp.br
SUMMARY:Dissertação de Mestrado de Ana Clara Falabello de Luca
DESCRIPTION:
URL:https://site.fo.usp.br/evento/dissertacao-de-mestrado-de-ana-clara-falabello-de-luca/
CATEGORIES:Defesa de Tese
ATTACH;FMTTYPE=image/jpeg:https://site.fo.usp.br/wp-content/uploads/2024/06/Imagem-do-WhatsApp-de-2024-06-14-as-18.06.56_f4aeff21.jpg
END:VEVENT
BEGIN:VEVENT
DTSTART;TZID=America/Sao_Paulo:20240621T120000
DTEND;TZID=America/Sao_Paulo:20240621T130000
DTSTAMP:20260424T011734
CREATED:20240619T155214Z
LAST-MODIFIED:20240619T155222Z
UID:10000440-1718971200-1718974800@site.fo.usp.br
SUMMARY:Palestra “Cannabis Medicinal – Como o odontólogo pode ajudar os seus pacientes?”
DESCRIPTION:
URL:https://site.fo.usp.br/evento/palestra-cannabis-medicinal-como-o-odontologo-pode-ajudar-os-seus-pacientes/
CATEGORIES:Palestra
ATTACH;FMTTYPE=image/jpeg:https://site.fo.usp.br/wp-content/uploads/2024/06/Imagem-do-WhatsApp-de-2024-06-19-as-12.31.04_626b3906.jpg
END:VEVENT
BEGIN:VEVENT
DTSTART;TZID=America/Sao_Paulo:20240621T140000
DTEND;TZID=America/Sao_Paulo:20240621T190000
DTSTAMP:20260424T011734
CREATED:20240517T110043Z
LAST-MODIFIED:20240517T110101Z
UID:10000413-1718978400-1718996400@site.fo.usp.br
SUMMARY:Tese de Doutorado de Renan Lúcio Berbel da Silva
DESCRIPTION:
URL:https://site.fo.usp.br/evento/tese-de-doutorado-de-renan-lucio-berbel-da-silva/
CATEGORIES:Defesa de Tese
ATTACH;FMTTYPE=image/jpeg:https://site.fo.usp.br/wp-content/uploads/2024/05/13-1.jpg
END:VEVENT
END:VCALENDAR