BEGIN:VCALENDAR
VERSION:2.0
PRODID:-//FOUSP - ECPv6.15.20//NONSGML v1.0//EN
CALSCALE:GREGORIAN
METHOD:PUBLISH
X-WR-CALNAME:FOUSP
X-ORIGINAL-URL:https://site.fo.usp.br
X-WR-CALDESC:Eventos para FOUSP
REFRESH-INTERVAL;VALUE=DURATION:PT1H
X-Robots-Tag:noindex
X-PUBLISHED-TTL:PT1H
BEGIN:VTIMEZONE
TZID:America/Sao_Paulo
BEGIN:STANDARD
TZOFFSETFROM:-0300
TZOFFSETTO:-0300
TZNAME:-03
DTSTART:20230101T000000
END:STANDARD
END:VTIMEZONE
BEGIN:VEVENT
DTSTART;TZID=America/Sao_Paulo:20240729T150000
DTEND;TZID=America/Sao_Paulo:20240729T200000
DTSTAMP:20260424T060519
CREATED:20240522T154720Z
LAST-MODIFIED:20240522T154728Z
UID:10000419-1722265200-1722283200@site.fo.usp.br
SUMMARY:1ª. Mostra de Produtos Técnicos Tecnológicos (PTT) dos Programas de Pós-graduação Profissionais da USP
DESCRIPTION:O evento ocorrerá durante a Comemoração dos 10 anos do Mestrado Profissional Formação Interdisciplinar em Saúde – FO/FSP/EE/IP USP\, no Anfiteatro Myaki Issao\, na Faculdade de Odontologia da USP.
URL:https://site.fo.usp.br/evento/1a-mostra-de-produtos-tecnicos-tecnologicos-ptt-dos-programas-de-pos-graduacao-profissionais-da-usp/
CATEGORIES:Encontro
ATTACH;FMTTYPE=image/jpeg:https://site.fo.usp.br/wp-content/uploads/2024/05/Imagem-do-WhatsApp-de-2024-05-22-as-12.39.40_8bab0be9.jpg
END:VEVENT
BEGIN:VEVENT
DTSTART;TZID=America/Sao_Paulo:20240801T090000
DTEND;TZID=America/Sao_Paulo:20240801T130000
DTSTAMP:20260424T060519
CREATED:20240613T203847Z
LAST-MODIFIED:20240613T203855Z
UID:10000428-1722502800-1722517200@site.fo.usp.br
SUMMARY:Dissertação de Mestrado de Carlos Bruno Cordeiro
DESCRIPTION:
URL:https://site.fo.usp.br/evento/dissertacao-de-mestrado-de-carlos-bruno-cordeiro/
CATEGORIES:Defesa de Tese
ATTACH;FMTTYPE=image/jpeg:https://site.fo.usp.br/wp-content/uploads/2024/06/Imagem-do-WhatsApp-de-2024-06-13-as-17.30.50_2b09758d.jpg
END:VEVENT
BEGIN:VEVENT
DTSTART;TZID=America/Sao_Paulo:20240801T090000
DTEND;TZID=America/Sao_Paulo:20240801T133000
DTSTAMP:20260424T060519
CREATED:20240614T162741Z
LAST-MODIFIED:20240619T145759Z
UID:10000429-1722502800-1722519000@site.fo.usp.br
SUMMARY:Tese de Doutorado de Valmir Vanderlei Gomes Filho
DESCRIPTION:
URL:https://site.fo.usp.br/evento/tese-de-doutorado-de-valmir-vanderlei-gomes-filho/
CATEGORIES:Defesa de Tese
ATTACH;FMTTYPE=image/jpeg:https://site.fo.usp.br/wp-content/uploads/2024/06/Imagem-do-WhatsApp-de-2024-06-19-as-11.50.54_59a439ad.jpg
END:VEVENT
BEGIN:VEVENT
DTSTART;TZID=America/Sao_Paulo:20240801T090000
DTEND;TZID=America/Sao_Paulo:20240804T120000
DTSTAMP:20260424T060519
CREATED:20231113T130314Z
LAST-MODIFIED:20231113T130321Z
UID:10000264-1722502800-1722772800@site.fo.usp.br
SUMMARY:Reunião do CTA
DESCRIPTION:
URL:https://site.fo.usp.br/evento/reuniao-do-cta-6/2024-08-01/
CATEGORIES:Conselho Técnico Administrativo
END:VEVENT
END:VCALENDAR