BEGIN:VCALENDAR
VERSION:2.0
PRODID:-//FOUSP - ECPv6.15.20//NONSGML v1.0//EN
CALSCALE:GREGORIAN
METHOD:PUBLISH
X-WR-CALNAME:FOUSP
X-ORIGINAL-URL:https://site.fo.usp.br
X-WR-CALDESC:Eventos para FOUSP
REFRESH-INTERVAL;VALUE=DURATION:PT1H
X-Robots-Tag:noindex
X-PUBLISHED-TTL:PT1H
BEGIN:VTIMEZONE
TZID:America/Sao_Paulo
BEGIN:STANDARD
TZOFFSETFROM:-0300
TZOFFSETTO:-0300
TZNAME:-03
DTSTART:20230101T000000
END:STANDARD
END:VTIMEZONE
BEGIN:VEVENT
DTSTART;TZID=America/Sao_Paulo:20240805T120000
DTEND;TZID=America/Sao_Paulo:20240805T130000
DTSTAMP:20260425T215620
CREATED:20240729T133716Z
LAST-MODIFIED:20240729T133737Z
UID:10000449-1722859200-1722862800@site.fo.usp.br
SUMMARY:Jornada Entender para Atender
DESCRIPTION:
URL:https://site.fo.usp.br/evento/jornada-entender-para-atender/2024-08-05/
CATEGORIES:Jornada
ATTACH;FMTTYPE=image/png:https://site.fo.usp.br/wp-content/uploads/2024/07/Copia-de-Divulgacao-Feed-1.png
END:VEVENT
BEGIN:VEVENT
DTSTART;TZID=America/Sao_Paulo:20240806T090000
DTEND;TZID=America/Sao_Paulo:20240806T120000
DTSTAMP:20260425T215620
CREATED:20240110T162306Z
LAST-MODIFIED:20240208T130005Z
UID:10000305-1722934800-1722945600@site.fo.usp.br
SUMMARY:Reunião do Comitê de Ética em Pesquisa – CEP-FOUSP
DESCRIPTION:
URL:https://site.fo.usp.br/evento/reuniao-do-comite-de-etica-em-pesquisa-cep-fousp/2024-08-06/
END:VEVENT
BEGIN:VEVENT
DTSTART;TZID=America/Sao_Paulo:20240807T110000
DTEND;TZID=America/Sao_Paulo:20240807T120000
DTSTAMP:20260425T215620
CREATED:20240326T125853Z
LAST-MODIFIED:20240326T131239Z
UID:10000336-1723028400-1723032000@site.fo.usp.br
SUMMARY:Reunião da Comissão Coordenadora do Programa de Ciências Odontológicas
DESCRIPTION:
URL:https://site.fo.usp.br/evento/reuniao-da-comissao-coordenadora-do-programa-de-ciencias-odontologicas-2/2024-08-07/
CATEGORIES:Reunião
END:VEVENT
BEGIN:VEVENT
DTSTART;TZID=America/Sao_Paulo:20240807T120000
DTEND;TZID=America/Sao_Paulo:20240807T130000
DTSTAMP:20260425T215620
CREATED:20240729T133716Z
LAST-MODIFIED:20240729T133737Z
UID:10000450-1723032000-1723035600@site.fo.usp.br
SUMMARY:Jornada Entender para Atender
DESCRIPTION:
URL:https://site.fo.usp.br/evento/jornada-entender-para-atender/2024-08-07/
CATEGORIES:Jornada
ATTACH;FMTTYPE=image/png:https://site.fo.usp.br/wp-content/uploads/2024/07/Copia-de-Divulgacao-Feed-1.png
END:VEVENT
BEGIN:VEVENT
DTSTART;TZID=America/Sao_Paulo:20240809T083000
DTEND;TZID=America/Sao_Paulo:20240809T170000
DTSTAMP:20260425T215620
CREATED:20240731T134253Z
LAST-MODIFIED:20240731T134301Z
UID:10000453-1723192200-1723222800@site.fo.usp.br
SUMMARY:Tese de Doutorado de Ana Luiza Esteves Carneiro
DESCRIPTION:
URL:https://site.fo.usp.br/evento/tese-de-doutorado-de-ana-luiza-esteves-carneiro/
CATEGORIES:Defesa de Tese
ATTACH;FMTTYPE=image/jpeg:https://site.fo.usp.br/wp-content/uploads/2024/07/Tese-FEED.jpg
END:VEVENT
BEGIN:VEVENT
DTSTART;TZID=America/Sao_Paulo:20240809T090000
DTEND;TZID=America/Sao_Paulo:20240809T110000
DTSTAMP:20260425T215620
CREATED:20240220T103324Z
LAST-MODIFIED:20240220T103334Z
UID:10000351-1723194000-1723201200@site.fo.usp.br
SUMMARY:Reunião CCExFO
DESCRIPTION:
URL:https://site.fo.usp.br/evento/reuniao-ccexfo/2024-08-09/
CATEGORIES:Reunião
END:VEVENT
BEGIN:VEVENT
DTSTART;TZID=America/Sao_Paulo:20240809T090000
DTEND;TZID=America/Sao_Paulo:20240809T120000
DTSTAMP:20260425T215620
CREATED:20240806T171009Z
LAST-MODIFIED:20240806T171148Z
UID:10000455-1723194000-1723204800@site.fo.usp.br
SUMMARY:1º Curso de atualização em Odontologia Digital
DESCRIPTION:
URL:https://site.fo.usp.br/evento/1o-curso-de-atualizacao-em-odontologia-digital/
CATEGORIES:Aula Aberta
ATTACH;FMTTYPE=image/jpeg:https://site.fo.usp.br/wp-content/uploads/2024/08/Imagem-do-WhatsApp-de-2024-08-06-as-14.06.38_a440357c.jpg
END:VEVENT
END:VCALENDAR