BEGIN:VCALENDAR
VERSION:2.0
PRODID:-//FOUSP - ECPv6.15.20//NONSGML v1.0//EN
CALSCALE:GREGORIAN
METHOD:PUBLISH
X-WR-CALNAME:FOUSP
X-ORIGINAL-URL:https://site.fo.usp.br
X-WR-CALDESC:Eventos para FOUSP
REFRESH-INTERVAL;VALUE=DURATION:PT1H
X-Robots-Tag:noindex
X-PUBLISHED-TTL:PT1H
BEGIN:VTIMEZONE
TZID:America/Sao_Paulo
BEGIN:STANDARD
TZOFFSETFROM:-0300
TZOFFSETTO:-0300
TZNAME:-03
DTSTART:20230101T000000
END:STANDARD
END:VTIMEZONE
BEGIN:VEVENT
DTSTART;TZID=America/Sao_Paulo:20240812T120000
DTEND;TZID=America/Sao_Paulo:20240812T130000
DTSTAMP:20260425T161701
CREATED:20240729T133716Z
LAST-MODIFIED:20240729T133737Z
UID:10000451-1723464000-1723467600@site.fo.usp.br
SUMMARY:Jornada Entender para Atender
DESCRIPTION:
URL:https://site.fo.usp.br/evento/jornada-entender-para-atender/2024-08-12/
CATEGORIES:Jornada
ATTACH;FMTTYPE=image/png:https://site.fo.usp.br/wp-content/uploads/2024/07/Copia-de-Divulgacao-Feed-1.png
END:VEVENT
BEGIN:VEVENT
DTSTART;TZID=America/Sao_Paulo:20240814T083000
DTEND;TZID=America/Sao_Paulo:20240814T110000
DTSTAMP:20260425T161701
CREATED:20240408T175202Z
LAST-MODIFIED:20240408T175415Z
UID:10000388-1723624200-1723633200@site.fo.usp.br
SUMMARY:Reunião da Comissão de Pós Graduação
DESCRIPTION:
URL:https://site.fo.usp.br/evento/reuniao-da-comissao-de-pos-graduacao-11/2024-08-14/
CATEGORIES:Comissão de Pós-Graduação,Reunião
END:VEVENT
BEGIN:VEVENT
DTSTART;TZID=America/Sao_Paulo:20240815T083000
DTEND;TZID=America/Sao_Paulo:20240816T083000
DTSTAMP:20260425T161701
CREATED:20240617T162707Z
LAST-MODIFIED:20240617T162715Z
UID:10000438-1723710600-1723797000@site.fo.usp.br
SUMMARY:VIII Meeting Internacional ORTO – USP
DESCRIPTION:
URL:https://site.fo.usp.br/evento/viii-meeting-internacional-orto-usp/
CATEGORIES:Encontro
ATTACH;FMTTYPE=image/jpeg:https://site.fo.usp.br/wp-content/uploads/2024/06/Imagem-do-WhatsApp-de-2024-06-17-as-12.54.51_444bf448.jpg
END:VEVENT
BEGIN:VEVENT
DTSTART;TZID=America/Sao_Paulo:20240816T140000
DTEND;TZID=America/Sao_Paulo:20240816T180000
DTSTAMP:20260425T161701
CREATED:20240813T143842Z
LAST-MODIFIED:20240813T143849Z
UID:10000460-1723816800-1723831200@site.fo.usp.br
SUMMARY:Dissertação de Mestrado de Marina Favrin
DESCRIPTION:
URL:https://site.fo.usp.br/evento/dissertacao-de-mestrado-de-marina-favrin/
CATEGORIES:Defesa de Tese
ATTACH;FMTTYPE=image/jpeg:https://site.fo.usp.br/wp-content/uploads/2024/08/Imagem-do-WhatsApp-de-2024-08-13-as-11.21.05_3f0fb086.jpg
END:VEVENT
END:VCALENDAR